BEGIN:VCALENDAR
VERSION:2.0
PRODID:-//EZFacility.com, Inc.//EZL 2.5.5.28621
BEGIN:VEVENT
UID:15386991@ezleagues.ezfacility.com
DTSTAMP:20260426T033643Z
CREATED:20260426T033643Z
DTSTART:20231111T180000Z
DTEND:20231111T184200Z
LOCATION:7v7 Field #4
CONTACT:Simakoski
SUMMARY:Zachar FC - TJ Slager VS. Dynamite - Mercer
DESCRIPTION:League Name: Soccer 2023-2024-Winter Session 1 -Premier Youth D
 ivision-Premier U14 (2010-2011)\nGame Type: Regular\nGame Status: Complete
 \nHome Team: Zachar FC - TJ Slager\nAway Team: Dynamite - Mercer\nHome Sco
 re: 7\nAway Score: 4
END:VEVENT
BEGIN:VEVENT
UID:15389799@ezleagues.ezfacility.com
DTSTAMP:20260426T033643Z
CREATED:20260426T033643Z
DTSTART:20231118T171000Z
DTEND:20231118T175200Z
LOCATION:7v7 Field #4
CONTACT:Marinkovic
SUMMARY:Zuco's Stars U14 VS. Dynamite - Mercer
DESCRIPTION:League Name: Soccer 2023-2024-Winter Session 1 -Premier Youth D
 ivision-Premier U14 (2010-2011)\nGame Type: Regular\nGame Status: Complete
 \nHome Team: Zuco's Stars U14\nAway Team: Dynamite - Mercer\nHome Score: 5
 \nAway Score: 4
END:VEVENT
BEGIN:VEVENT
UID:15389817@ezleagues.ezfacility.com
DTSTAMP:20260426T033643Z
CREATED:20260426T033643Z
DTSTART:20231118T180000Z
DTEND:20231118T184200Z
LOCATION:7v7 Field #4
CONTACT:Marinkovic
SUMMARY:Dynamite - Mercer VS. Morgan FC
DESCRIPTION:League Name: Soccer 2023-2024-Winter Session 1 -Premier Youth D
 ivision-Premier U14 (2010-2011)\nGame Type: Regular\nGame Status: Complete
 \nHome Team: Dynamite - Mercer\nAway Team: Morgan FC\nHome Score: 5\nAway 
 Score: 8
END:VEVENT
BEGIN:VEVENT
UID:15389827@ezleagues.ezfacility.com
DTSTAMP:20260426T033643Z
CREATED:20260426T033643Z
DTSTART:20231125T171000Z
DTEND:20231125T175200Z
LOCATION:7v7 Field #4
CONTACT:
SUMMARY:Dynamite - Mercer VS. Zachar FC - TJ Slager
DESCRIPTION:League Name: Soccer 2023-2024-Winter Session 1 -Premier Youth D
 ivision-Premier U14 (2010-2011)\nGame Type: Regular\nGame Status: Complete
 \nHome Team: Dynamite - Mercer\nAway Team: Zachar FC - TJ Slager\nHome Sco
 re: 4\nAway Score: 6
END:VEVENT
BEGIN:VEVENT
UID:15389839@ezleagues.ezfacility.com
DTSTAMP:20260426T033643Z
CREATED:20260426T033643Z
DTSTART:20231202T171000Z
DTEND:20231202T175200Z
LOCATION:7v7 Field #4
CONTACT:Ortiz
SUMMARY:Dynamite - Mercer VS. Red Hot Chili Peppers - Madrigal
DESCRIPTION:League Name: Soccer 2023-2024-Winter Session 1 -Premier Youth D
 ivision-Premier U14 (2010-2011)\nGame Type: Regular\nGame Status: Complete
 \nHome Team: Dynamite - Mercer\nAway Team: Red Hot Chili Peppers - Madriga
 l\nHome Score: 1\nAway Score: 6
END:VEVENT
BEGIN:VEVENT
UID:15389846@ezleagues.ezfacility.com
DTSTAMP:20260426T033643Z
CREATED:20260426T033643Z
DTSTART:20231209T180000Z
DTEND:20231209T184200Z
LOCATION:7v7 Field #4
CONTACT:
SUMMARY:Morgan FC VS. Dynamite - Mercer
DESCRIPTION:League Name: Soccer 2023-2024-Winter Session 1 -Premier Youth D
 ivision-Premier U14 (2010-2011)\nGame Type: Regular\nGame Status: Complete
 \nHome Team: Morgan FC\nAway Team: Dynamite - Mercer\nHome Score: 4\nAway 
 Score: 5
END:VEVENT
BEGIN:VEVENT
UID:15389862@ezleagues.ezfacility.com
DTSTAMP:20260426T033643Z
CREATED:20260426T033643Z
DTSTART:20231216T130000Z
DTEND:20231216T134200Z
LOCATION:7v7 Field #4
CONTACT:
SUMMARY:Dynamite - Mercer VS. Zuco's Stars U14
DESCRIPTION:League Name: Soccer 2023-2024-Winter Session 1 -Premier Youth D
 ivision-Premier U14 (2010-2011)\nGame Type: Regular\nGame Status: Complete
 \nHome Team: Dynamite - Mercer\nAway Team: Zuco's Stars U14\nHome Score: 1
 \nAway Score: 7
END:VEVENT
BEGIN:VEVENT
UID:15389899@ezleagues.ezfacility.com
DTSTAMP:20260426T033643Z
CREATED:20260426T033643Z
DTSTART:20231230T135000Z
DTEND:20231230T142000Z
LOCATION:7v7 Field #4
CONTACT:Simakoski
SUMMARY:Dynamite - Mercer VS. Morgan FC
DESCRIPTION:League Name: Soccer 2023-2024-Winter Session 1 -Premier Youth D
 ivision-Premier U14 (2010-2011)\nGame Type: Postseason\nGame Status: Pendi
 ng\nHome Team: Dynamite - Mercer\nAway Team: Morgan FC\n
END:VEVENT
END:VCALENDAR
