BEGIN:VCALENDAR
VERSION:2.0
PRODID:-//EZFacility.com, Inc.//EZL 2.5.5.28621
BEGIN:VEVENT
UID:15386988@ezleagues.ezfacility.com
DTSTAMP:20260426T033705Z
CREATED:20260426T033705Z
DTSTART:20231111T171000Z
DTEND:20231111T175200Z
LOCATION:7v7 Field #4
CONTACT:Simakoski
SUMMARY:Zuco's Stars U14 VS. Red Hot Chili Peppers - Madrigal
DESCRIPTION:League Name: Soccer 2023-2024-Winter Session 1 -Premier Youth D
 ivision-Premier U14 (2010-2011)\nGame Type: Regular\nGame Status: Complete
 \nHome Team: Zuco's Stars U14\nAway Team: Red Hot Chili Peppers - Madrigal
 \nHome Score: 3\nAway Score: 2
END:VEVENT
BEGIN:VEVENT
UID:15389823@ezleagues.ezfacility.com
DTSTAMP:20260426T033705Z
CREATED:20260426T033705Z
DTSTART:20231125T135000Z
DTEND:20231125T143200Z
LOCATION:7v7 Field #4
CONTACT:
SUMMARY:Morgan FC VS. Red Hot Chili Peppers - Madrigal
DESCRIPTION:League Name: Soccer 2023-2024-Winter Session 1 -Premier Youth D
 ivision-Premier U14 (2010-2011)\nGame Type: Regular\nGame Status: Complete
 \nHome Team: Morgan FC\nAway Team: Red Hot Chili Peppers - Madrigal\nHome 
 Score: 3\nAway Score: 8
END:VEVENT
BEGIN:VEVENT
UID:15389839@ezleagues.ezfacility.com
DTSTAMP:20260426T033705Z
CREATED:20260426T033705Z
DTSTART:20231202T171000Z
DTEND:20231202T175200Z
LOCATION:7v7 Field #4
CONTACT:Ortiz
SUMMARY:Dynamite - Mercer VS. Red Hot Chili Peppers - Madrigal
DESCRIPTION:League Name: Soccer 2023-2024-Winter Session 1 -Premier Youth D
 ivision-Premier U14 (2010-2011)\nGame Type: Regular\nGame Status: Complete
 \nHome Team: Dynamite - Mercer\nAway Team: Red Hot Chili Peppers - Madriga
 l\nHome Score: 1\nAway Score: 6
END:VEVENT
BEGIN:VEVENT
UID:15389844@ezleagues.ezfacility.com
DTSTAMP:20260426T033705Z
CREATED:20260426T033705Z
DTSTART:20231209T171000Z
DTEND:20231209T175200Z
LOCATION:7v7 Field #4
CONTACT:
SUMMARY:Red Hot Chili Peppers - Madrigal VS. Zuco's Stars U14
DESCRIPTION:League Name: Soccer 2023-2024-Winter Session 1 -Premier Youth D
 ivision-Premier U14 (2010-2011)\nGame Type: Regular\nGame Status: Complete
 \nHome Team: Red Hot Chili Peppers - Madrigal\nAway Team: Zuco's Stars U14
 \nHome Score: 1\nAway Score: 1
END:VEVENT
BEGIN:VEVENT
UID:15389863@ezleagues.ezfacility.com
DTSTAMP:20260426T033705Z
CREATED:20260426T033705Z
DTSTART:20231216T135000Z
DTEND:20231216T143200Z
LOCATION:7v7 Field #4
CONTACT:
SUMMARY:Zachar FC - TJ Slager VS. Red Hot Chili Peppers - Madrigal
DESCRIPTION:League Name: Soccer 2023-2024-Winter Session 1 -Premier Youth D
 ivision-Premier U14 (2010-2011)\nGame Type: Regular\nGame Status: Complete
 \nHome Team: Zachar FC - TJ Slager\nAway Team: Red Hot Chili Peppers - Mad
 rigal\nHome Score: 2\nAway Score: 1
END:VEVENT
BEGIN:VEVENT
UID:15389865@ezleagues.ezfacility.com
DTSTAMP:20260426T033705Z
CREATED:20260426T033705Z
DTSTART:20231216T171000Z
DTEND:20231216T175200Z
LOCATION:7v7 Field #4
CONTACT:
SUMMARY:Red Hot Chili Peppers - Madrigal VS. Morgan FC
DESCRIPTION:League Name: Soccer 2023-2024-Winter Session 1 -Premier Youth D
 ivision-Premier U14 (2010-2011)\nGame Type: Regular\nGame Status: Complete
 \nHome Team: Red Hot Chili Peppers - Madrigal\nAway Team: Morgan FC\nHome 
 Score: 7\nAway Score: 2
END:VEVENT
END:VCALENDAR
