BEGIN:VCALENDAR
VERSION:2.0
PRODID:-//EZFacility.com, Inc.//EZL 2.5.5.28621
BEGIN:VEVENT
UID:15402141@ezleagues.ezfacility.com
DTSTAMP:20260424T041346Z
CREATED:20260424T041346Z
DTSTART:20231209T211500Z
DTEND:20231209T215800Z
LOCATION:Field 2
CONTACT:
SUMMARY:CUSC 2013 Boys Blue VS. ECSA 2013B White
DESCRIPTION:League Name: Travel Soccer-Boys-2013 D\nGame Type: Regular\nGam
 e Status: Complete\nHome Team: CUSC 2013 Boys Blue\nAway Team: ECSA 2013B 
 White\nHome Score: 4\nAway Score: 1
END:VEVENT
BEGIN:VEVENT
UID:15402149@ezleagues.ezfacility.com
DTSTAMP:20260424T041346Z
CREATED:20260424T041346Z
DTSTART:20231216T201500Z
DTEND:20231216T205800Z
LOCATION:Field 1
CONTACT:
SUMMARY:CUSC 2013 Boys Blue VS. Midway Soccer Club 2013
DESCRIPTION:League Name: Travel Soccer-Boys-2013 D\nGame Type: Regular\nGam
 e Status: Complete\nHome Team: CUSC 2013 Boys Blue\nAway Team: Midway Socc
 er Club 2013\nHome Score: 0\nAway Score: 10
END:VEVENT
BEGIN:VEVENT
UID:15402153@ezleagues.ezfacility.com
DTSTAMP:20260424T041346Z
CREATED:20260424T041346Z
DTSTART:20240113T214500Z
DTEND:20240113T222800Z
LOCATION:Field 1
CONTACT:
SUMMARY:CUSC 2013 Boys Blue VS. LTSC 2013 Boys Select Black
DESCRIPTION:League Name: Travel Soccer-Boys-2013 D\nGame Type: Regular\nGam
 e Status: Complete\nHome Team: CUSC 2013 Boys Blue\nAway Team: LTSC 2013 B
 oys Select Black\nHome Score: 2\nAway Score: 4
END:VEVENT
BEGIN:VEVENT
UID:15402145@ezleagues.ezfacility.com
DTSTAMP:20260424T041346Z
CREATED:20260424T041346Z
DTSTART:20240127T214500Z
DTEND:20240127T222800Z
LOCATION:Field 1
CONTACT:
SUMMARY:CUSC 2013 Boys Blue VS. Academia Atlas FC Chicago 2013 Boys Black
DESCRIPTION:League Name: Travel Soccer-Boys-2013 D\nGame Type: Regular\nGam
 e Status: Complete\nHome Team: CUSC 2013 Boys Blue\nAway Team: Academia At
 las FC Chicago 2013 Boys Black\nHome Score: 2\nAway Score: 2
END:VEVENT
BEGIN:VEVENT
UID:15402134@ezleagues.ezfacility.com
DTSTAMP:20260424T041346Z
CREATED:20260424T041346Z
DTSTART:20240204T174500Z
DTEND:20240204T182800Z
LOCATION:Field 1
CONTACT:
SUMMARY:Midway Soccer Club 2013 VS. CUSC 2013 Boys Blue
DESCRIPTION:League Name: Travel Soccer-Boys-2013 D\nGame Type: Regular\nGam
 e Status: Complete\nHome Team: Midway Soccer Club 2013\nAway Team: CUSC 20
 13 Boys Blue\nHome Score: 7\nAway Score: 2
END:VEVENT
BEGIN:VEVENT
UID:15402156@ezleagues.ezfacility.com
DTSTAMP:20260424T041346Z
CREATED:20260424T041346Z
DTSTART:20240218T211500Z
DTEND:20240218T215800Z
LOCATION:Field 3
CONTACT:
SUMMARY:ECSA 2013B White VS. CUSC 2013 Boys Blue
DESCRIPTION:League Name: Travel Soccer-Boys-2013 D\nGame Type: Regular\nGam
 e Status: Complete\nHome Team: ECSA 2013B White\nAway Team: CUSC 2013 Boys
  Blue\nHome Score: 1\nAway Score: 5
END:VEVENT
BEGIN:VEVENT
UID:15402143@ezleagues.ezfacility.com
DTSTAMP:20260424T041346Z
CREATED:20260424T041346Z
DTSTART:20240224T214500Z
DTEND:20240224T222800Z
LOCATION:Field 1
CONTACT:
SUMMARY:CUSC 2013 Boys Blue VS. TESC Black 2013 Boys
DESCRIPTION:League Name: Travel Soccer-Boys-2013 D\nGame Type: Regular\nGam
 e Status: Complete\nHome Team: CUSC 2013 Boys Blue\nAway Team: TESC Black 
 2013 Boys\nHome Score: 3\nAway Score: 5
END:VEVENT
BEGIN:VEVENT
UID:15402158@ezleagues.ezfacility.com
DTSTAMP:20260424T041346Z
CREATED:20260424T041346Z
DTSTART:20240310T143000Z
DTEND:20240310T151300Z
LOCATION:Field 1
CONTACT:
SUMMARY:TESC Black 2013 Boys VS. CUSC 2013 Boys Blue
DESCRIPTION:League Name: Travel Soccer-Boys-2013 D\nGame Type: Regular\nGam
 e Status: Complete\nHome Team: TESC Black 2013 Boys\nAway Team: CUSC 2013 
 Boys Blue\nHome Score: 4\nAway Score: 2
END:VEVENT
END:VCALENDAR
