BEGIN:VCALENDAR
VERSION:2.0
PRODID:-//EZFacility.com, Inc.//EZL 2.5.5.28621
BEGIN:VEVENT
UID:15399953@ezleagues.ezfacility.com
DTSTAMP:20260426T033531Z
CREATED:20260426T033531Z
DTSTART:20231203T153000Z
DTEND:20231203T161300Z
LOCATION:Field 1
CONTACT:
SUMMARY:Eclipse Select 2014 Darien Black VS. AYSO 300 ETP Boys 14/15
DESCRIPTION:League Name: Travel Soccer-Boys-2014 C\nGame Type: Regular\nGam
 e Status: Complete\nHome Team: Eclipse Select 2014 Darien Black\nAway Team
 : AYSO 300 ETP Boys 14/15\nHome Score: 2\nAway Score: 4
END:VEVENT
BEGIN:VEVENT
UID:15399995@ezleagues.ezfacility.com
DTSTAMP:20260426T033531Z
CREATED:20260426T033531Z
DTSTART:20231217T191500Z
DTEND:20231217T195800Z
LOCATION:Field 2
CONTACT:
SUMMARY:AYSO 300 ETP Boys 14/15 VS. Naperville Stars  Stripes 2014-15
DESCRIPTION:League Name: Travel Soccer-Boys-2014 C\nGame Type: Regular\nGam
 e Status: Complete\nHome Team: AYSO 300 ETP Boys 14/15\nAway Team: Napervi
 lle Stars  Stripes 2014-15\nHome Score: 2\nAway Score: 3
END:VEVENT
BEGIN:VEVENT
UID:15399965@ezleagues.ezfacility.com
DTSTAMP:20260426T033531Z
CREATED:20260426T033531Z
DTSTART:20240114T130000Z
DTEND:20240114T134300Z
LOCATION:Field 3
CONTACT:
SUMMARY:LTSC 2014 Boys Travel Black VS. AYSO 300 ETP Boys 14/15
DESCRIPTION:League Name: Travel Soccer-Boys-2014 C\nGame Type: Regular\nGam
 e Status: Complete\nHome Team: LTSC 2014 Boys Travel Black\nAway Team: AYS
 O 300 ETP Boys 14/15\nHome Score: 1\nAway Score: 9
END:VEVENT
BEGIN:VEVENT
UID:15399971@ezleagues.ezfacility.com
DTSTAMP:20260426T033531Z
CREATED:20260426T033531Z
DTSTART:20240121T151500Z
DTEND:20240121T155800Z
LOCATION:Naperville Yard Field 2
CONTACT:
SUMMARY:AYSO 300 ETP Boys 14/15 VS. Orland Park Sting FC 2014 Elite
DESCRIPTION:League Name: Travel Soccer-Boys-2014 C\nGame Type: Regular\nGam
 e Status: Complete\nHome Team: AYSO 300 ETP Boys 14/15\nAway Team: Orland 
 Park Sting FC 2014 Elite\nHome Score: 3\nAway Score: 3
END:VEVENT
BEGIN:VEVENT
UID:15400001@ezleagues.ezfacility.com
DTSTAMP:20260426T033531Z
CREATED:20260426T033531Z
DTSTART:20240128T140000Z
DTEND:20240128T144300Z
LOCATION:Field 2
CONTACT:
SUMMARY:AYSO 300 ETP Boys 14/15 VS. Lisle FC 2014
DESCRIPTION:League Name: Travel Soccer-Boys-2014 C\nGame Type: Regular\nGam
 e Status: Complete\nHome Team: AYSO 300 ETP Boys 14/15\nAway Team: Lisle F
 C 2014\nHome Score: 8\nAway Score: 4
END:VEVENT
BEGIN:VEVENT
UID:15400007@ezleagues.ezfacility.com
DTSTAMP:20260426T033531Z
CREATED:20260426T033531Z
DTSTART:20240211T210000Z
DTEND:20240211T214500Z
LOCATION:Field 2
CONTACT:
SUMMARY:AYSO 300 ETP Boys 14/15 VS. ECSA 2014B Navy
DESCRIPTION:League Name: Travel Soccer-Boys-2014 C\nGame Type: Regular\nGam
 e Status: Complete\nHome Team: AYSO 300 ETP Boys 14/15\nAway Team: ECSA 20
 14B Navy\nHome Score: 3\nAway Score: 2
END:VEVENT
BEGIN:VEVENT
UID:15400017@ezleagues.ezfacility.com
DTSTAMP:20260426T033531Z
CREATED:20260426T033531Z
DTSTART:20240217T134500Z
DTEND:20240217T142800Z
LOCATION:Field 2
CONTACT:
SUMMARY:AYSO 300 ETP Boys 14/15 VS. Chicago City 2014 South
DESCRIPTION:League Name: Travel Soccer-Boys-2014 C\nGame Type: Regular\nGam
 e Status: Complete\nHome Team: AYSO 300 ETP Boys 14/15\nAway Team: Chicago
  City 2014 South\nHome Score: 5\nAway Score: 7
END:VEVENT
BEGIN:VEVENT
UID:15399959@ezleagues.ezfacility.com
DTSTAMP:20260426T033531Z
CREATED:20260426T033531Z
DTSTART:20240224T223000Z
DTEND:20240224T231300Z
LOCATION:Naperville Yard Field 2
CONTACT:
SUMMARY:AYSO 300 ETP Boys 14/15 VS. FSC 2014 Boys Red
DESCRIPTION:League Name: Travel Soccer-Boys-2014 C\nGame Type: Regular\nGam
 e Status: Complete\nHome Team: AYSO 300 ETP Boys 14/15\nAway Team: FSC 201
 4 Boys Red\nHome Score: 3\nAway Score: 6
END:VEVENT
BEGIN:VEVENT
UID:15399989@ezleagues.ezfacility.com
DTSTAMP:20260426T033531Z
CREATED:20260426T033531Z
DTSTART:20240309T190000Z
DTEND:20240309T194300Z
LOCATION:Field 2
CONTACT:
SUMMARY:Team Olympic 2014/2015 VS. AYSO 300 ETP Boys 14/15
DESCRIPTION:League Name: Travel Soccer-Boys-2014 C\nGame Type: Regular\nGam
 e Status: Complete\nHome Team: Team Olympic 2014/2015\nAway Team: AYSO 300
  ETP Boys 14/15\nHome Score: 0\nAway Score: 11
END:VEVENT
BEGIN:VEVENT
UID:15399977@ezleagues.ezfacility.com
DTSTAMP:20260426T033531Z
CREATED:20260426T033531Z
DTSTART:20240316T141500Z
DTEND:20240316T145800Z
LOCATION:Field 2
CONTACT:
SUMMARY:Wizard Oak Brook FC U10B Academy VS. AYSO 300 ETP Boys 14/15
DESCRIPTION:League Name: Travel Soccer-Boys-2014 C\nGame Type: Regular\nGam
 e Status: Complete\nHome Team: Wizard Oak Brook FC U10B Academy\nAway Team
 : AYSO 300 ETP Boys 14/15\nHome Score: 3\nAway Score: 6
END:VEVENT
END:VCALENDAR
