BEGIN:VCALENDAR
VERSION:2.0
PRODID:-//EZFacility.com, Inc.//EZL 2.5.5.28621
BEGIN:VEVENT
UID:15399953@ezleagues.ezfacility.com
DTSTAMP:20260425T180311Z
CREATED:20260425T180311Z
DTSTART:20231203T153000Z
DTEND:20231203T161300Z
LOCATION:Field 1
CONTACT:
SUMMARY:Eclipse Select 2014 Darien Black VS. AYSO 300 ETP Boys 14/15
DESCRIPTION:League Name: Travel Soccer-Boys-2014 C\nGame Type: Regular\nGam
 e Status: Complete\nHome Team: Eclipse Select 2014 Darien Black\nAway Team
 : AYSO 300 ETP Boys 14/15\nHome Score: 2\nAway Score: 4
END:VEVENT
BEGIN:VEVENT
UID:15399999@ezleagues.ezfacility.com
DTSTAMP:20260425T180311Z
CREATED:20260425T180311Z
DTSTART:20231210T143000Z
DTEND:20231210T151300Z
LOCATION:Field 2
CONTACT:
SUMMARY:Eclipse Select 2014 Darien Black VS. Orland Park Sting FC 2014 Elit
 e
DESCRIPTION:League Name: Travel Soccer-Boys-2014 C\nGame Type: Regular\nGam
 e Status: Complete\nHome Team: Eclipse Select 2014 Darien Black\nAway Team
 : Orland Park Sting FC 2014 Elite\nHome Score: 7\nAway Score: 2
END:VEVENT
BEGIN:VEVENT
UID:15400009@ezleagues.ezfacility.com
DTSTAMP:20260425T180311Z
CREATED:20260425T180311Z
DTSTART:20240107T151500Z
DTEND:20240107T155800Z
LOCATION:Naperville Yard Field 2
CONTACT:
SUMMARY:Eclipse Select 2014 Darien Black VS. Naperville Stars  Stripes 2014
 -15
DESCRIPTION:League Name: Travel Soccer-Boys-2014 C\nGame Type: Regular\nGam
 e Status: Complete\nHome Team: Eclipse Select 2014 Darien Black\nAway Team
 : Naperville Stars  Stripes 2014-15\nHome Score: 0\nAway Score: 2
END:VEVENT
BEGIN:VEVENT
UID:15399960@ezleagues.ezfacility.com
DTSTAMP:20260425T180311Z
CREATED:20260425T180311Z
DTSTART:20240121T131500Z
DTEND:20240121T135800Z
LOCATION:Field 2
CONTACT:
SUMMARY:LTSC 2014 Boys Travel Black VS. Eclipse Select 2014 Darien Black
DESCRIPTION:League Name: Travel Soccer-Boys-2014 C\nGame Type: Regular\nGam
 e Status: Complete\nHome Team: LTSC 2014 Boys Travel Black\nAway Team: Ecl
 ipse Select 2014 Darien Black\nHome Score: 2\nAway Score: 5
END:VEVENT
BEGIN:VEVENT
UID:15399974@ezleagues.ezfacility.com
DTSTAMP:20260425T180311Z
CREATED:20260425T180311Z
DTSTART:20240204T191500Z
DTEND:20240204T195800Z
LOCATION:Field 2
CONTACT:
SUMMARY:Team Olympic 2014/2015 VS. Eclipse Select 2014 Darien Black
DESCRIPTION:League Name: Travel Soccer-Boys-2014 C\nGame Type: Regular\nGam
 e Status: Complete\nHome Team: Team Olympic 2014/2015\nAway Team: Eclipse 
 Select 2014 Darien Black\nHome Score: 3\nAway Score: 7
END:VEVENT
BEGIN:VEVENT
UID:15399967@ezleagues.ezfacility.com
DTSTAMP:20260425T180311Z
CREATED:20260425T180311Z
DTSTART:20240218T133000Z
DTEND:20240218T141300Z
LOCATION:Field 2
CONTACT:
SUMMARY:Eclipse Select 2014 Darien Black VS. Wizard Oak Brook FC U10B Acade
 my
DESCRIPTION:League Name: Travel Soccer-Boys-2014 C\nGame Type: Regular\nGam
 e Status: Complete\nHome Team: Eclipse Select 2014 Darien Black\nAway Team
 : Wizard Oak Brook FC U10B Academy\nHome Score: 2\nAway Score: 9
END:VEVENT
BEGIN:VEVENT
UID:15400026@ezleagues.ezfacility.com
DTSTAMP:20260425T180311Z
CREATED:20260425T180311Z
DTSTART:20240302T180000Z
DTEND:20240302T184300Z
LOCATION:Field 3
CONTACT:
SUMMARY:FSC 2014 Boys Red VS. Eclipse Select 2014 Darien Black
DESCRIPTION:League Name: Travel Soccer-Boys-2014 C\nGame Type: Regular\nGam
 e Status: Complete\nHome Team: FSC 2014 Boys Red\nAway Team: Eclipse Selec
 t 2014 Darien Black\nHome Score: 2\nAway Score: 2
END:VEVENT
BEGIN:VEVENT
UID:15399981@ezleagues.ezfacility.com
DTSTAMP:20260425T180311Z
CREATED:20260425T180311Z
DTSTART:20240316T213000Z
DTEND:20240316T221300Z
LOCATION:Field 1
CONTACT:
SUMMARY:Eclipse Select 2014 Darien Black VS. Lisle FC 2014
DESCRIPTION:League Name: Travel Soccer-Boys-2014 C\nGame Type: Regular\nGam
 e Status: Complete\nHome Team: Eclipse Select 2014 Darien Black\nAway Team
 : Lisle FC 2014\nHome Score: 6\nAway Score: 1
END:VEVENT
END:VCALENDAR
