BEGIN:VCALENDAR
VERSION:2.0
PRODID:-//EZFacility.com, Inc.//EZL 2.5.5.28621
BEGIN:VEVENT
UID:15399954@ezleagues.ezfacility.com
DTSTAMP:20260424T044252Z
CREATED:20260424T044252Z
DTSTART:20231210T151500Z
DTEND:20231210T155800Z
LOCATION:Field 2
CONTACT:
SUMMARY:Chicago City 2014 South VS. FSC 2014 Boys Red
DESCRIPTION:League Name: Travel Soccer-Boys-2014 C\nGame Type: Regular\nGam
 e Status: Complete\nHome Team: Chicago City 2014 South\nAway Team: FSC 201
 4 Boys Red\nHome Score: 3\nAway Score: 5
END:VEVENT
BEGIN:VEVENT
UID:15400005@ezleagues.ezfacility.com
DTSTAMP:20260424T044252Z
CREATED:20260424T044252Z
DTSTART:20240107T131500Z
DTEND:20240107T135800Z
LOCATION:Field 2
CONTACT:
SUMMARY:Wizard Oak Brook FC U10B Academy VS. FSC 2014 Boys Red
DESCRIPTION:League Name: Travel Soccer-Boys-2014 C\nGame Type: Regular\nGam
 e Status: Complete\nHome Team: Wizard Oak Brook FC U10B Academy\nAway Team
 : FSC 2014 Boys Red\nHome Score: 1\nAway Score: 9
END:VEVENT
BEGIN:VEVENT
UID:15400010@ezleagues.ezfacility.com
DTSTAMP:20260424T044252Z
CREATED:20260424T044252Z
DTSTART:20240114T181500Z
DTEND:20240114T185800Z
LOCATION:Field 3
CONTACT:
SUMMARY:FSC 2014 Boys Red VS. Team Olympic 2014/2015
DESCRIPTION:League Name: Travel Soccer-Boys-2014 C\nGame Type: Regular\nGam
 e Status: Complete\nHome Team: FSC 2014 Boys Red\nAway Team: Team Olympic 
 2014/2015\nHome Score: 8\nAway Score: 1
END:VEVENT
BEGIN:VEVENT
UID:15399987@ezleagues.ezfacility.com
DTSTAMP:20260424T044252Z
CREATED:20260424T044252Z
DTSTART:20240204T131500Z
DTEND:20240204T135800Z
LOCATION:Field 2
CONTACT:
SUMMARY:ECSA 2014B Navy VS. FSC 2014 Boys Red
DESCRIPTION:League Name: Travel Soccer-Boys-2014 C\nGame Type: Regular\nGam
 e Status: Complete\nHome Team: ECSA 2014B Navy\nAway Team: FSC 2014 Boys R
 ed\nHome Score: 2\nAway Score: 4
END:VEVENT
BEGIN:VEVENT
UID:15399980@ezleagues.ezfacility.com
DTSTAMP:20260424T044252Z
CREATED:20260424T044252Z
DTSTART:20240218T211500Z
DTEND:20240218T215800Z
LOCATION:Naperville Yard Field 1
CONTACT:
SUMMARY:FSC 2014 Boys Red VS. Naperville Stars  Stripes 2014-15
DESCRIPTION:League Name: Travel Soccer-Boys-2014 C\nGame Type: Regular\nGam
 e Status: Complete\nHome Team: FSC 2014 Boys Red\nAway Team: Naperville St
 ars  Stripes 2014-15\nHome Score: 4\nAway Score: 1
END:VEVENT
BEGIN:VEVENT
UID:15399959@ezleagues.ezfacility.com
DTSTAMP:20260424T044252Z
CREATED:20260424T044252Z
DTSTART:20240224T223000Z
DTEND:20240224T231300Z
LOCATION:Naperville Yard Field 2
CONTACT:
SUMMARY:AYSO 300 ETP Boys 14/15 VS. FSC 2014 Boys Red
DESCRIPTION:League Name: Travel Soccer-Boys-2014 C\nGame Type: Regular\nGam
 e Status: Complete\nHome Team: AYSO 300 ETP Boys 14/15\nAway Team: FSC 201
 4 Boys Red\nHome Score: 3\nAway Score: 6
END:VEVENT
BEGIN:VEVENT
UID:15400026@ezleagues.ezfacility.com
DTSTAMP:20260424T044252Z
CREATED:20260424T044252Z
DTSTART:20240302T180000Z
DTEND:20240302T184300Z
LOCATION:Field 3
CONTACT:
SUMMARY:FSC 2014 Boys Red VS. Eclipse Select 2014 Darien Black
DESCRIPTION:League Name: Travel Soccer-Boys-2014 C\nGame Type: Regular\nGam
 e Status: Complete\nHome Team: FSC 2014 Boys Red\nAway Team: Eclipse Selec
 t 2014 Darien Black\nHome Score: 2\nAway Score: 2
END:VEVENT
BEGIN:VEVENT
UID:15399966@ezleagues.ezfacility.com
DTSTAMP:20260424T044252Z
CREATED:20260424T044252Z
DTSTART:20240316T123000Z
DTEND:20240316T131300Z
LOCATION:Field 3
CONTACT:
SUMMARY:FSC 2014 Boys Red VS. Orland Park Sting FC 2014 Elite
DESCRIPTION:League Name: Travel Soccer-Boys-2014 C\nGame Type: Regular\nGam
 e Status: Complete\nHome Team: FSC 2014 Boys Red\nAway Team: Orland Park S
 ting FC 2014 Elite\nHome Score: 4\nAway Score: 0
END:VEVENT
END:VCALENDAR
