BEGIN:VCALENDAR
VERSION:2.0
PRODID:-//EZFacility.com, Inc.//EZL 2.5.5.28621
BEGIN:VEVENT
UID:15403578@ezleagues.ezfacility.com
DTSTAMP:20260425T143821Z
CREATED:20260425T143821Z
DTSTART:20231119T173000Z
DTEND:20231119T182500Z
LOCATION:Large Turf
CONTACT:
SUMMARY:McGraw eagles VS. JVT
DESCRIPTION:League Name: Soccer Boys JV Fall/Winter '23-24\nGame Type: Regu
 lar\nGame Status: Complete\nHome Team: McGraw eagles\nAway Team: JVT\nHome
  Score: 8\nAway Score: 0
END:VEVENT
BEGIN:VEVENT
UID:15413886@ezleagues.ezfacility.com
DTSTAMP:20260425T143821Z
CREATED:20260425T143821Z
DTSTART:20231203T173000Z
DTEND:20231203T182500Z
LOCATION:Large Turf
CONTACT:
SUMMARY:JVT VS. Cortland FC JV 
DESCRIPTION:League Name: Soccer Boys JV Fall/Winter '23-24\nGame Type: Regu
 lar\nGame Status: Complete\nHome Team: JVT\nAway Team: Cortland FC JV \nHo
 me Score: 1\nAway Score: 3
END:VEVENT
BEGIN:VEVENT
UID:15413888@ezleagues.ezfacility.com
DTSTAMP:20260425T143821Z
CREATED:20260425T143821Z
DTSTART:20231210T203000Z
DTEND:20231210T212500Z
LOCATION:Large Turf
CONTACT:
SUMMARY:JVT VS. VCA Warriors
DESCRIPTION:League Name: Soccer Boys JV Fall/Winter '23-24\nGame Type: Regu
 lar\nGame Status: Complete\nHome Team: JVT\nAway Team: VCA Warriors\nHome 
 Score: 1\nAway Score: 2
END:VEVENT
BEGIN:VEVENT
UID:15413889@ezleagues.ezfacility.com
DTSTAMP:20260425T143821Z
CREATED:20260425T143821Z
DTSTART:20231217T173000Z
DTEND:20231217T182500Z
LOCATION:Large Turf
CONTACT:
SUMMARY:JVT VS. Hooligans FC
DESCRIPTION:League Name: Soccer Boys JV Fall/Winter '23-24\nGame Type: Regu
 lar\nGame Status: Complete\nHome Team: JVT\nAway Team: Hooligans FC\nHome 
 Score: 1\nAway Score: 7
END:VEVENT
BEGIN:VEVENT
UID:15415051@ezleagues.ezfacility.com
DTSTAMP:20260425T143821Z
CREATED:20260425T143821Z
DTSTART:20240107T230000Z
DTEND:20240107T235500Z
LOCATION:Large Turf
CONTACT:
SUMMARY:JVT VS. Cortland FC JV 
DESCRIPTION:League Name: Soccer Boys JV Fall/Winter '23-24\nGame Type: Regu
 lar\nGame Status: Complete\nHome Team: JVT\nAway Team: Cortland FC JV \nHo
 me Score: 1\nAway Score: 3
END:VEVENT
BEGIN:VEVENT
UID:15415087@ezleagues.ezfacility.com
DTSTAMP:20260425T143821Z
CREATED:20260425T143821Z
DTSTART:20240114T200000Z
DTEND:20240114T205500Z
LOCATION:Large Turf
CONTACT:
SUMMARY:McGraw eagles VS. JVT
DESCRIPTION:League Name: Soccer Boys JV Fall/Winter '23-24\nGame Type: Regu
 lar\nGame Status: Complete\nHome Team: McGraw eagles\nAway Team: JVT\nHome
  Score: 3\nAway Score: 1
END:VEVENT
BEGIN:VEVENT
UID:15415508@ezleagues.ezfacility.com
DTSTAMP:20260425T143821Z
CREATED:20260425T143821Z
DTSTART:20240128T160000Z
DTEND:20240128T165500Z
LOCATION:Large Turf
CONTACT:
SUMMARY:JVT VS. McGraw eagles
DESCRIPTION:League Name: Soccer Boys JV Fall/Winter '23-24\nGame Type: Regu
 lar\nGame Status: Complete\nHome Team: JVT\nAway Team: McGraw eagles\nHome
  Score: 1\nAway Score: 5
END:VEVENT
BEGIN:VEVENT
UID:15415907@ezleagues.ezfacility.com
DTSTAMP:20260425T143821Z
CREATED:20260425T143821Z
DTSTART:20240204T230500Z
DTEND:20240205T000000Z
LOCATION:Large Turf
CONTACT:
SUMMARY:Cortland FC JV  VS. JVT
DESCRIPTION:League Name: Soccer Boys JV Fall/Winter '23-24\nGame Type: Regu
 lar\nGame Status: Complete\nHome Team: Cortland FC JV \nAway Team: JVT\nHo
 me Score: 4\nAway Score: 0
END:VEVENT
BEGIN:VEVENT
UID:15415993@ezleagues.ezfacility.com
DTSTAMP:20260425T143821Z
CREATED:20260425T143821Z
DTSTART:20240211T150000Z
DTEND:20240211T155500Z
LOCATION:Large Turf
CONTACT:
SUMMARY:Hooligans FC VS. JVT
DESCRIPTION:League Name: Soccer Boys JV Fall/Winter '23-24\nGame Type: Regu
 lar\nGame Status: Complete\nHome Team: Hooligans FC\nAway Team: JVT\nHome 
 Score: 3\nAway Score: 2
END:VEVENT
BEGIN:VEVENT
UID:15416005@ezleagues.ezfacility.com
DTSTAMP:20260425T143821Z
CREATED:20260425T143821Z
DTSTART:20240218T220500Z
DTEND:20240218T230000Z
LOCATION:Large Turf
CONTACT:
SUMMARY:JVT VS. VCA Warriors
DESCRIPTION:League Name: Soccer Boys JV Fall/Winter '23-24\nGame Type: Regu
 lar\nGame Status: Complete\nHome Team: JVT\nAway Team: VCA Warriors\nHome 
 Score: 3\nAway Score: 3
END:VEVENT
END:VCALENDAR
