BEGIN:VCALENDAR
VERSION:2.0
PRODID:-//EZFacility.com, Inc.//EZL 2.5.5.28621
BEGIN:VEVENT
UID:15406166@ezleagues.ezfacility.com
DTSTAMP:20260425T194802Z
CREATED:20260425T194802Z
DTSTART:20231118T190000Z
DTEND:20231118T200000Z
LOCATION:Turf 2
CONTACT:
SUMMARY:Jaguars VS. Ravens (5/6)
DESCRIPTION:League Name: 5-6 Youth Winter Flag 2023-Recreational\nGame Type
 : Regular\nGame Status: Complete\nHome Team: Jaguars\nAway Team: Ravens (5
 /6)\nHome Score: 6\nAway Score: 48
END:VEVENT
BEGIN:VEVENT
UID:15406224@ezleagues.ezfacility.com
DTSTAMP:20260425T194802Z
CREATED:20260425T194802Z
DTSTART:20231202T220000Z
DTEND:20231202T230000Z
LOCATION:Turf 2
CONTACT:
SUMMARY:Panthers  VS. Ravens (5/6)
DESCRIPTION:League Name: 5-6 Youth Winter Flag 2023-Recreational\nGame Type
 : Regular\nGame Status: Complete\nHome Team: Panthers \nAway Team: Ravens 
 (5/6)\nHome Score: 13\nAway Score: 66
END:VEVENT
BEGIN:VEVENT
UID:15406298@ezleagues.ezfacility.com
DTSTAMP:20260425T194802Z
CREATED:20260425T194802Z
DTSTART:20231209T200000Z
DTEND:20231209T210000Z
LOCATION:Turf 2
CONTACT:
SUMMARY:Patriots (5/6) VS. Ravens (5/6)
DESCRIPTION:League Name: 5-6 Youth Winter Flag 2023-Recreational\nGame Type
 : Regular\nGame Status: Complete\nHome Team: Patriots (5/6)\nAway Team: Ra
 vens (5/6)\nHome Score: 12\nAway Score: 40
END:VEVENT
BEGIN:VEVENT
UID:15406305@ezleagues.ezfacility.com
DTSTAMP:20260425T194802Z
CREATED:20260425T194802Z
DTSTART:20231216T170000Z
DTEND:20231216T180000Z
LOCATION:Turf 2
CONTACT:
SUMMARY:Buccaneers VS. Ravens (5/6)
DESCRIPTION:League Name: 5-6 Youth Winter Flag 2023-Recreational\nGame Type
 : Regular\nGame Status: Complete\nHome Team: Buccaneers\nAway Team: Ravens
  (5/6)\nHome Score: 0\nAway Score: 82
END:VEVENT
BEGIN:VEVENT
UID:15406346@ezleagues.ezfacility.com
DTSTAMP:20260425T194802Z
CREATED:20260425T194802Z
DTSTART:20231230T210000Z
DTEND:20231230T220000Z
LOCATION:Turf 1
CONTACT:
SUMMARY:Ravens (5/6) VS. Saints
DESCRIPTION:League Name: 5-6 Youth Winter Flag 2023-Recreational\nGame Type
 : Regular\nGame Status: Complete\nHome Team: Ravens (5/6)\nAway Team: Sain
 ts\nHome Score: 54\nAway Score: 6
END:VEVENT
BEGIN:VEVENT
UID:15406355@ezleagues.ezfacility.com
DTSTAMP:20260425T194802Z
CREATED:20260425T194802Z
DTSTART:20240106T190000Z
DTEND:20240106T200000Z
LOCATION:Turf 1
CONTACT:
SUMMARY:Ravens (5/6) VS. Warriors
DESCRIPTION:League Name: 5-6 Youth Winter Flag 2023-Recreational\nGame Type
 : Regular\nGame Status: Complete\nHome Team: Ravens (5/6)\nAway Team: Warr
 iors\nHome Score: 54\nAway Score: 8
END:VEVENT
BEGIN:VEVENT
UID:15406509@ezleagues.ezfacility.com
DTSTAMP:20260425T194802Z
CREATED:20260425T194802Z
DTSTART:20240113T200000Z
DTEND:20240113T210000Z
LOCATION:Turf 1
CONTACT:
SUMMARY:Chargers VS. Ravens (5/6)
DESCRIPTION:League Name: 5-6 Youth Winter Flag 2023-Recreational\nGame Type
 : Regular\nGame Status: Complete\nHome Team: Chargers\nAway Team: Ravens (
 5/6)\nHome Score: 12\nAway Score: 22
END:VEVENT
BEGIN:VEVENT
UID:15406600@ezleagues.ezfacility.com
DTSTAMP:20260425T194802Z
CREATED:20260425T194802Z
DTSTART:20240120T210000Z
DTEND:20240120T220000Z
LOCATION:Turf 1
CONTACT:
SUMMARY:Chiefs (5/6) VS. Ravens (5/6)
DESCRIPTION:League Name: 5-6 Youth Winter Flag 2023-Recreational\nGame Type
 : Regular\nGame Status: Complete\nHome Team: Chiefs (5/6)\nAway Team: Rave
 ns (5/6)\nHome Score: 12\nAway Score: 56
END:VEVENT
BEGIN:VEVENT
UID:15540040@ezleagues.ezfacility.com
DTSTAMP:20260425T194802Z
CREATED:20260425T194802Z
DTSTART:20240127T220000Z
DTEND:20240127T230000Z
LOCATION:Turf 1
CONTACT:
SUMMARY:Saints/Buccaneers VS. Ravens (5/6)
DESCRIPTION:League Name: 5-6 Youth Winter Flag 2023-Recreational\nGame Type
 : Postseason\nGame Status: Complete\nHome Team: Saints/Buccaneers\nAway Te
 am: Ravens (5/6)\nHome Score: 0\nAway Score: 58
END:VEVENT
BEGIN:VEVENT
UID:15542533@ezleagues.ezfacility.com
DTSTAMP:20260425T194802Z
CREATED:20260425T194802Z
DTSTART:20240203T180000Z
DTEND:20240203T190000Z
LOCATION:Turf 1
CONTACT:
SUMMARY:Ravens (5/6) VS. Giants (5/6)
DESCRIPTION:League Name: 5-6 Youth Winter Flag 2023-Recreational\nGame Type
 : Postseason\nGame Status: Complete\nHome Team: Ravens (5/6)\nAway Team: G
 iants (5/6)\nHome Score: 74\nAway Score: 20
END:VEVENT
END:VCALENDAR
