BEGIN:VCALENDAR
VERSION:2.0
PRODID:-//EZFacility.com, Inc.//EZL 2.5.5.28621
BEGIN:VEVENT
UID:15551462@ezleagues.ezfacility.com
DTSTAMP:20260426T034847Z
CREATED:20260426T034847Z
DTSTART:20240121T150000Z
DTEND:20240121T170000Z
LOCATION:McDowell Mtn (Back)
CONTACT:
SUMMARY:Inter AZ 60 VS. Stroke Check 60
DESCRIPTION:League Name: 2024 Spring Over 60\nGame Type: Regular\nGame Stat
 us: Complete\nHome Team: Inter AZ 60\nAway Team: Stroke Check 60\nHome Sco
 re: 0\nAway Score: 7
END:VEVENT
BEGIN:VEVENT
UID:15551554@ezleagues.ezfacility.com
DTSTAMP:20260426T034847Z
CREATED:20260426T034847Z
DTSTART:20240128T190000Z
DTEND:20240128T210000Z
LOCATION:McDowell Mtn (North)
CONTACT:
SUMMARY:Incinerators 60 VS. Stroke Check 60
DESCRIPTION:League Name: 2024 Spring Over 60\nGame Type: Regular\nGame Stat
 us: Complete\nHome Team: Incinerators 60\nAway Team: Stroke Check 60\nHome
  Score: 1\nAway Score: 1
END:VEVENT
BEGIN:VEVENT
UID:15551501@ezleagues.ezfacility.com
DTSTAMP:20260426T034847Z
CREATED:20260426T034847Z
DTSTART:20240204T230000Z
DTEND:20240205T010000Z
LOCATION:BYE- NO GAME
CONTACT:
SUMMARY:Bye VS. Stroke Check 60
DESCRIPTION:League Name: 2024 Spring Over 60\nGame Type: Regular\nGame Stat
 us: Pending\nHome Team: Bye\nAway Team: Stroke Check 60\n
END:VEVENT
BEGIN:VEVENT
UID:15551541@ezleagues.ezfacility.com
DTSTAMP:20260426T034847Z
CREATED:20260426T034847Z
DTSTART:20240225T170000Z
DTEND:20240225T190000Z
LOCATION:McDowell Mtn (Back)
CONTACT:
SUMMARY:Sambita 60 VS. Stroke Check 60
DESCRIPTION:League Name: 2024 Spring Over 60\nGame Type: Regular\nGame Stat
 us: Complete\nHome Team: Sambita 60\nAway Team: Stroke Check 60\nHome Scor
 e: 0\nAway Score: 3
END:VEVENT
BEGIN:VEVENT
UID:15551513@ezleagues.ezfacility.com
DTSTAMP:20260426T034847Z
CREATED:20260426T034847Z
DTSTART:20240303T210000Z
DTEND:20240303T230000Z
LOCATION:McDowell Mtn (North)
CONTACT:
SUMMARY:Stroke Check 60 VS. Real Phoenix 60
DESCRIPTION:League Name: 2024 Spring Over 60\nGame Type: Regular\nGame Stat
 us: Complete\nHome Team: Stroke Check 60\nAway Team: Real Phoenix 60\nHome
  Score: 4\nAway Score: 1
END:VEVENT
BEGIN:VEVENT
UID:15551489@ezleagues.ezfacility.com
DTSTAMP:20260426T034847Z
CREATED:20260426T034847Z
DTSTART:20240310T170000Z
DTEND:20240310T190000Z
LOCATION:McDowell Mtn (Back)
CONTACT:
SUMMARY:Stroke Check 60 VS. Inter AZ 60
DESCRIPTION:League Name: 2024 Spring Over 60\nGame Type: Regular\nGame Stat
 us: Complete\nHome Team: Stroke Check 60\nAway Team: Inter AZ 60\nHome Sco
 re: 6\nAway Score: 0
END:VEVENT
BEGIN:VEVENT
UID:15551566@ezleagues.ezfacility.com
DTSTAMP:20260426T034847Z
CREATED:20260426T034847Z
DTSTART:20240324T230000Z
DTEND:20240325T010000Z
LOCATION:BYE- NO GAME
CONTACT:
SUMMARY:Bye VS. Stroke Check 60
DESCRIPTION:League Name: 2024 Spring Over 60\nGame Type: Regular\nGame Stat
 us: Pending\nHome Team: Bye\nAway Team: Stroke Check 60\n
END:VEVENT
BEGIN:VEVENT
UID:15660695@ezleagues.ezfacility.com
DTSTAMP:20260426T034847Z
CREATED:20260426T034847Z
DTSTART:20240407T190000Z
DTEND:20240407T203000Z
LOCATION:McDowell Mtn (South)
CONTACT:
SUMMARY:Stroke Check 60 VS. Inter AZ 60
DESCRIPTION:League Name: 2024 Spring Over 60\nGame Type: Postseason\nGame S
 tatus: Complete\nHome Team: Stroke Check 60\nAway Team: Inter AZ 60\nHome 
 Score: 4\nAway Score: 1
END:VEVENT
BEGIN:VEVENT
UID:15660697@ezleagues.ezfacility.com
DTSTAMP:20260426T034847Z
CREATED:20260426T034847Z
DTSTART:20240414T170000Z
DTEND:20240414T183000Z
LOCATION:#18 Reata SSC 
CONTACT:
SUMMARY:Sambita 60 VS. Stroke Check 60
DESCRIPTION:League Name: 2024 Spring Over 60\nGame Type: Postseason\nGame S
 tatus: Complete\nHome Team: Sambita 60\nAway Team: Stroke Check 60\nHome S
 core: 1\nAway Score: 4
END:VEVENT
END:VCALENDAR
