BEGIN:VCALENDAR
VERSION:2.0
PRODID:-//EZFacility.com, Inc.//EZL 2.5.5.28621
BEGIN:VEVENT
UID:15483234@ezleagues.ezfacility.com
DTSTAMP:20260420T183631Z
CREATED:20260420T183631Z
DTSTART:20240113T130000Z
DTEND:20240113T140000Z
LOCATION:Field 2
CONTACT:
SUMMARY:DASC Chaos VS. CASA 15M Blue
DESCRIPTION:League Name: U08/09B Lower S2 2023/24\nGame Type: Regular\nGame
  Status: Complete\nHome Team: DASC Chaos\nAway Team: CASA 15M Blue\nHome S
 core: 0\nAway Score: 2
END:VEVENT
BEGIN:VEVENT
UID:15483226@ezleagues.ezfacility.com
DTSTAMP:20260420T183631Z
CREATED:20260420T183631Z
DTSTART:20240120T130000Z
DTEND:20240120T140000Z
LOCATION:Field 2
CONTACT:
SUMMARY:Keystone FC Premier 17B VS. CASA 15M Blue
DESCRIPTION:League Name: U08/09B Lower S2 2023/24\nGame Type: Regular\nGame
  Status: Complete\nHome Team: Keystone FC Premier 17B\nAway Team: CASA 15M
  Blue\nHome Score: 8\nAway Score: 4
END:VEVENT
BEGIN:VEVENT
UID:15483193@ezleagues.ezfacility.com
DTSTAMP:20260420T183631Z
CREATED:20260420T183631Z
DTSTART:20240203T140000Z
DTEND:20240203T150000Z
LOCATION:Field 1
CONTACT:
SUMMARY:Keystone FC Premier 16B VS. CASA 15M Blue
DESCRIPTION:League Name: U08/09B Lower S2 2023/24\nGame Type: Regular\nGame
  Status: Complete\nHome Team: Keystone FC Premier 16B\nAway Team: CASA 15M
  Blue\nHome Score: 6\nAway Score: 5
END:VEVENT
BEGIN:VEVENT
UID:15483199@ezleagues.ezfacility.com
DTSTAMP:20260420T183631Z
CREATED:20260420T183631Z
DTSTART:20240210T140000Z
DTEND:20240210T150000Z
LOCATION:Field 2
CONTACT:
SUMMARY:CASA 15M Blue VS. Fusion FC Red Knights
DESCRIPTION:League Name: U08/09B Lower S2 2023/24\nGame Type: Regular\nGame
  Status: Complete\nHome Team: CASA 15M Blue\nAway Team: Fusion FC Red Knig
 hts\nHome Score: 5\nAway Score: 5
END:VEVENT
BEGIN:VEVENT
UID:15483217@ezleagues.ezfacility.com
DTSTAMP:20260420T183631Z
CREATED:20260420T183631Z
DTSTART:20240302T130000Z
DTEND:20240302T140000Z
LOCATION:Field 3
CONTACT:
SUMMARY:CASA 15M Blue VS. Nur Talons
DESCRIPTION:League Name: U08/09B Lower S2 2023/24\nGame Type: Regular\nGame
  Status: Complete\nHome Team: CASA 15M Blue\nAway Team: Nur Talons\nHome S
 core: 7\nAway Score: 5
END:VEVENT
BEGIN:VEVENT
UID:15483222@ezleagues.ezfacility.com
DTSTAMP:20260420T183631Z
CREATED:20260420T183631Z
DTSTART:20240309T170000Z
DTEND:20240309T180000Z
LOCATION:Field 1
CONTACT:
SUMMARY:Dover United U9B VS. CASA 15M Blue
DESCRIPTION:League Name: U08/09B Lower S2 2023/24\nGame Type: Regular\nGame
  Status: Complete\nHome Team: Dover United U9B\nAway Team: CASA 15M Blue\n
 Home Score: 1\nAway Score: 11
END:VEVENT
BEGIN:VEVENT
UID:15483211@ezleagues.ezfacility.com
DTSTAMP:20260420T183631Z
CREATED:20260420T183631Z
DTSTART:20240316T130000Z
DTEND:20240316T140000Z
LOCATION:Field 3
CONTACT:
SUMMARY:CASA 15M Blue VS. Eagle FC 15B Black
DESCRIPTION:League Name: U08/09B Lower S2 2023/24\nGame Type: Regular\nGame
  Status: Complete\nHome Team: CASA 15M Blue\nAway Team: Eagle FC 15B Black
 \nHome Score: 0\nAway Score: 5
END:VEVENT
BEGIN:VEVENT
UID:15483230@ezleagues.ezfacility.com
DTSTAMP:20260420T183631Z
CREATED:20260420T183631Z
DTSTART:20240323T120000Z
DTEND:20240323T130000Z
LOCATION:Field 3
CONTACT:
SUMMARY:Olmsted Raiders VS. CASA 15M Blue
DESCRIPTION:League Name: U08/09B Lower S2 2023/24\nGame Type: Regular\nGame
  Status: Complete\nHome Team: Olmsted Raiders\nAway Team: CASA 15M Blue\nH
 ome Score: 3\nAway Score: 5
END:VEVENT
END:VCALENDAR
