BEGIN:VCALENDAR
VERSION:2.0
PRODID:-//EZFacility.com, Inc.//EZL 2.5.5.28621
BEGIN:VEVENT
UID:15423889@ezleagues.ezfacility.com
DTSTAMP:20260424T044225Z
CREATED:20260424T044225Z
DTSTART:20231203T221000Z
DTEND:20231203T230500Z
LOCATION:Soccer Field (half field) 2
CONTACT:
SUMMARY:FC Mirage 06/07 VS. Chicago Inferno Premier 05/06
DESCRIPTION:League Name: YISL 2006/2007 (U17/U18) Boys Group B\nGame Type: 
 Regular\nGame Status: Complete\nHome Team: FC Mirage 06/07\nAway Team: Chi
 cago Inferno Premier 05/06\nHome Score: 2\nAway Score: 4
END:VEVENT
BEGIN:VEVENT
UID:15423897@ezleagues.ezfacility.com
DTSTAMP:20260424T044225Z
CREATED:20260424T044225Z
DTSTART:20231216T005500Z
DTEND:20231216T015000Z
LOCATION:Soccer Field (half field) 2
CONTACT:
SUMMARY:IP-NUFC U19 Black VS. Chicago Inferno Premier 05/06
DESCRIPTION:League Name: YISL 2006/2007 (U17/U18) Boys Group B\nGame Type: 
 Regular\nGame Status: Complete\nHome Team: IP-NUFC U19 Black\nAway Team: C
 hicago Inferno Premier 05/06\nHome Score: 3\nAway Score: 2
END:VEVENT
BEGIN:VEVENT
UID:15423893@ezleagues.ezfacility.com
DTSTAMP:20260424T044225Z
CREATED:20260424T044225Z
DTSTART:20240105T230500Z
DTEND:20240106T000000Z
LOCATION:Soccer Field (half field) 1
CONTACT:
SUMMARY:FC74 U18/U19 Boys Select VS. Chicago Inferno Premier 05/06
DESCRIPTION:League Name: YISL 2006/2007 (U17/U18) Boys Group B\nGame Type: 
 Regular\nGame Status: Complete\nHome Team: FC74 U18/U19 Boys Select\nAway 
 Team: Chicago Inferno Premier 05/06\nHome Score: 3\nAway Score: 2
END:VEVENT
BEGIN:VEVENT
UID:15423905@ezleagues.ezfacility.com
DTSTAMP:20260424T044225Z
CREATED:20260424T044225Z
DTSTART:20240121T011500Z
DTEND:20240121T021000Z
LOCATION:Soccer Field (half field) 1
CONTACT:
SUMMARY:Chicago Inferno Premier 05/06 VS. Campton United 2006/07 Boys
DESCRIPTION:League Name: YISL 2006/2007 (U17/U18) Boys Group B\nGame Type: 
 Regular\nGame Status: Complete\nHome Team: Chicago Inferno Premier 05/06\n
 Away Team: Campton United 2006/07 Boys\nHome Score: 5\nAway Score: 0
END:VEVENT
BEGIN:VEVENT
UID:15423911@ezleagues.ezfacility.com
DTSTAMP:20260424T044225Z
CREATED:20260424T044225Z
DTSTART:20240126T230500Z
DTEND:20240127T000000Z
LOCATION:Soccer Field (half field) 2
CONTACT:
SUMMARY:Chicago Inferno Premier 05/06 VS. FCLC 2007/U17 Boys Select
DESCRIPTION:League Name: YISL 2006/2007 (U17/U18) Boys Group B\nGame Type: 
 Regular\nGame Status: Complete\nHome Team: Chicago Inferno Premier 05/06\n
 Away Team: FCLC 2007/U17 Boys Select\nHome Score: 5\nAway Score: 0
END:VEVENT
BEGIN:VEVENT
UID:15423923@ezleagues.ezfacility.com
DTSTAMP:20260424T044225Z
CREATED:20260424T044225Z
DTSTART:20240209T230500Z
DTEND:20240210T000000Z
LOCATION:Soccer Field (half field) 2
CONTACT:
SUMMARY:Chicago Inferno Premier 05/06 VS. GLSA U18/U19 Boys Select
DESCRIPTION:League Name: YISL 2006/2007 (U17/U18) Boys Group B\nGame Type: 
 Regular\nGame Status: Complete\nHome Team: Chicago Inferno Premier 05/06\n
 Away Team: GLSA U18/U19 Boys Select\nHome Score: 2\nAway Score: 4
END:VEVENT
BEGIN:VEVENT
UID:15423901@ezleagues.ezfacility.com
DTSTAMP:20260424T044225Z
CREATED:20260424T044225Z
DTSTART:20240217T005500Z
DTEND:20240217T015000Z
LOCATION:Soccer Field (half field) 2
CONTACT:
SUMMARY:Green and White HS Boys VS. Chicago Inferno Premier 05/06
DESCRIPTION:League Name: YISL 2006/2007 (U17/U18) Boys Group B\nGame Type: 
 Regular\nGame Status: Complete\nHome Team: Green and White HS Boys\nAway T
 eam: Chicago Inferno Premier 05/06\nHome Score: 3\nAway Score: 2
END:VEVENT
BEGIN:VEVENT
UID:15423902@ezleagues.ezfacility.com
DTSTAMP:20260424T044225Z
CREATED:20260424T044225Z
DTSTART:20240225T002000Z
DTEND:20240225T011500Z
LOCATION:Soccer Field (half field) 1
CONTACT:
SUMMARY:GLSA U18/U19 Boys Select VS. Chicago Inferno Premier 05/06
DESCRIPTION:League Name: YISL 2006/2007 (U17/U18) Boys Group B\nGame Type: 
 Regular\nGame Status: Complete\nHome Team: GLSA U18/U19 Boys Select\nAway 
 Team: Chicago Inferno Premier 05/06\nHome Score: 3\nAway Score: 2
END:VEVENT
END:VCALENDAR
