BEGIN:VCALENDAR
VERSION:2.0
PRODID:-//EZFacility.com, Inc.//EZL 2.5.5.28621
BEGIN:VEVENT
UID:15424740@ezleagues.ezfacility.com
DTSTAMP:20260424T043143Z
CREATED:20260424T043143Z
DTSTART:20231203T145000Z
DTEND:20231203T154500Z
LOCATION:Soccer Field (half field) 2
CONTACT:
SUMMARY:FCLC 2010 Girls Select VS. FCLC 2012/U13G Select
DESCRIPTION:League Name: YISL 2010/2011(U13/U14) Girls Group A\nGame Type: 
 Regular\nGame Status: Complete\nHome Team: FCLC 2010 Girls Select\nAway Te
 am: FCLC 2012/U13G Select\nHome Score: 0\nAway Score: 1
END:VEVENT
BEGIN:VEVENT
UID:15424743@ezleagues.ezfacility.com
DTSTAMP:20260424T043143Z
CREATED:20260424T043143Z
DTSTART:20231210T135500Z
DTEND:20231210T145000Z
LOCATION:Soccer Field (half field) 1
CONTACT:
SUMMARY:FCLC 2012/U13G Select VS. IP-NUFC 2009 Girls Orange
DESCRIPTION:League Name: YISL 2010/2011(U13/U14) Girls Group A\nGame Type: 
 Regular\nGame Status: Complete\nHome Team: FCLC 2012/U13G Select\nAway Tea
 m: IP-NUFC 2009 Girls Orange\nHome Score: 1\nAway Score: 1
END:VEVENT
BEGIN:VEVENT
UID:15424752@ezleagues.ezfacility.com
DTSTAMP:20260424T043143Z
CREATED:20260424T043143Z
DTSTART:20240114T011500Z
DTEND:20240114T021000Z
LOCATION:Soccer Field (half field) 1
CONTACT:
SUMMARY:Elite SC U13 Girls Elite Black VS. FCLC 2012/U13G Select
DESCRIPTION:League Name: YISL 2010/2011(U13/U14) Girls Group A\nGame Type: 
 Regular\nGame Status: Complete\nHome Team: Elite SC U13 Girls Elite Black\
 nAway Team: FCLC 2012/U13G Select\nHome Score: 1\nAway Score: 1
END:VEVENT
BEGIN:VEVENT
UID:15424749@ezleagues.ezfacility.com
DTSTAMP:20260424T043143Z
CREATED:20260424T043143Z
DTSTART:20240121T230500Z
DTEND:20240122T000000Z
LOCATION:Soccer Field (half field) 1
CONTACT:
SUMMARY:FCLC 2012/U13G Select VS. Hawthorn Woods Elite Girls U14
DESCRIPTION:League Name: YISL 2010/2011(U13/U14) Girls Group A\nGame Type: 
 Regular\nGame Status: Complete\nHome Team: FCLC 2012/U13G Select\nAway Tea
 m: Hawthorn Woods Elite Girls U14\nHome Score: 1\nAway Score: 1
END:VEVENT
BEGIN:VEVENT
UID:15424767@ezleagues.ezfacility.com
DTSTAMP:20260424T043143Z
CREATED:20260424T043143Z
DTSTART:20240127T194500Z
DTEND:20240127T204000Z
LOCATION:Soccer Field (half field) 1
CONTACT:
SUMMARY:FCLC 2012/U13G Select VS. Elite SC U13 Girls Elite Black
DESCRIPTION:League Name: YISL 2010/2011(U13/U14) Girls Group A\nGame Type: 
 Regular\nGame Status: Complete\nHome Team: FCLC 2012/U13G Select\nAway Tea
 m: Elite SC U13 Girls Elite Black\nHome Score: 0\nAway Score: 1
END:VEVENT
BEGIN:VEVENT
UID:15470325@ezleagues.ezfacility.com
DTSTAMP:20260424T043143Z
CREATED:20260424T043143Z
DTSTART:20240210T135500Z
DTEND:20240210T145000Z
LOCATION:Soccer Field (half field) 1
CONTACT:
SUMMARY:FCLC 2012/U13G Select VS. Hawthorn Woods Elite Girls U14
DESCRIPTION:League Name: YISL 2010/2011(U13/U14) Girls Group A\nGame Type: 
 Regular\nGame Status: Complete\nHome Team: FCLC 2012/U13G Select\nAway Tea
 m: Hawthorn Woods Elite Girls U14\nHome Score: 1\nAway Score: 3
END:VEVENT
BEGIN:VEVENT
UID:15424758@ezleagues.ezfacility.com
DTSTAMP:20260424T043143Z
CREATED:20260424T043143Z
DTSTART:20240303T211500Z
DTEND:20240303T221000Z
LOCATION:Soccer Field (half field) 2
CONTACT:
SUMMARY:Elite SC U13 Girls Elite Black VS. FCLC 2012/U13G Select
DESCRIPTION:League Name: YISL 2010/2011(U13/U14) Girls Group A\nGame Type: 
 Regular\nGame Status: Complete\nHome Team: Elite SC U13 Girls Elite Black\
 nAway Team: FCLC 2012/U13G Select\nHome Score: 1\nAway Score: 1
END:VEVENT
BEGIN:VEVENT
UID:15424764@ezleagues.ezfacility.com
DTSTAMP:20260424T043143Z
CREATED:20260424T043143Z
DTSTART:20240310T201500Z
DTEND:20240310T211000Z
LOCATION:Soccer Field (half field) 1
CONTACT:
SUMMARY:Hawthorn Woods Elite Girls U14 VS. FCLC 2012/U13G Select
DESCRIPTION:League Name: YISL 2010/2011(U13/U14) Girls Group A\nGame Type: 
 Regular\nGame Status: Pending\nHome Team: Hawthorn Woods Elite Girls U14\n
 Away Team: FCLC 2012/U13G Select\n
END:VEVENT
END:VCALENDAR
