BEGIN:VCALENDAR
VERSION:2.0
PRODID:-//EZFacility.com, Inc.//EZL 2.5.5.28621
BEGIN:VEVENT
UID:15437252@ezleagues.ezfacility.com
DTSTAMP:20260424T044028Z
CREATED:20260424T044028Z
DTSTART:20231209T230000Z
DTEND:20231210T000000Z
LOCATION:Field 3
CONTACT:
SUMMARY:Red Lion FC VS. Mechanicsburg
DESCRIPTION:League Name: U17/U18B S2 2023/24\nGame Type: Regular\nGame Stat
 us: Complete\nHome Team: Red Lion FC\nAway Team: Mechanicsburg\nHome Score
 : 2\nAway Score: 8
END:VEVENT
BEGIN:VEVENT
UID:15437245@ezleagues.ezfacility.com
DTSTAMP:20260424T044028Z
CREATED:20260424T044028Z
DTSTART:20231216T200000Z
DTEND:20231216T210000Z
LOCATION:Field 1
CONTACT:
SUMMARY:Red Lion FC VS. SuperNova FC 2007
DESCRIPTION:League Name: U17/U18B S2 2023/24\nGame Type: Regular\nGame Stat
 us: Complete\nHome Team: Red Lion FC\nAway Team: SuperNova FC 2007\nHome S
 core: 4\nAway Score: 8
END:VEVENT
BEGIN:VEVENT
UID:15437270@ezleagues.ezfacility.com
DTSTAMP:20260424T044028Z
CREATED:20260424T044028Z
DTSTART:20240107T020000Z
DTEND:20240107T030000Z
LOCATION:Field 1
CONTACT:
SUMMARY:FC Ballyhoo 07 Black VS. Red Lion FC
DESCRIPTION:League Name: U17/U18B S2 2023/24\nGame Type: Regular\nGame Stat
 us: Pending\nHome Team: FC Ballyhoo 07 Black\nAway Team: Red Lion FC\n
END:VEVENT
BEGIN:VEVENT
UID:15437275@ezleagues.ezfacility.com
DTSTAMP:20260424T044028Z
CREATED:20260424T044028Z
DTSTART:20240115T190000Z
DTEND:20240115T200000Z
LOCATION:Field 3
CONTACT:
SUMMARY:Camp Hill Lions VS. Red Lion FC
DESCRIPTION:League Name: U17/U18B S2 2023/24\nGame Type: Regular\nGame Stat
 us: Complete\nHome Team: Camp Hill Lions\nAway Team: Red Lion FC\nHome Sco
 re: 12\nAway Score: 2
END:VEVENT
BEGIN:VEVENT
UID:15437285@ezleagues.ezfacility.com
DTSTAMP:20260424T044028Z
CREATED:20260424T044028Z
DTSTART:20240127T200000Z
DTEND:20240127T210000Z
LOCATION:Field 1
CONTACT:
SUMMARY:Bermudian VS. Red Lion FC
DESCRIPTION:League Name: U17/U18B S2 2023/24\nGame Type: Regular\nGame Stat
 us: Complete\nHome Team: Bermudian\nAway Team: Red Lion FC\nHome Score: 6\
 nAway Score: 5
END:VEVENT
BEGIN:VEVENT
UID:15437280@ezleagues.ezfacility.com
DTSTAMP:20260424T044028Z
CREATED:20260424T044028Z
DTSTART:20240218T020000Z
DTEND:20240218T030000Z
LOCATION:Field 1
CONTACT:
SUMMARY:Boiling Springs U18 VS. Red Lion FC
DESCRIPTION:League Name: U17/U18B S2 2023/24\nGame Type: Regular\nGame Stat
 us: Complete\nHome Team: Boiling Springs U18\nAway Team: Red Lion FC\nHome
  Score: 7\nAway Score: 3
END:VEVENT
BEGIN:VEVENT
UID:15437265@ezleagues.ezfacility.com
DTSTAMP:20260424T044028Z
CREATED:20260424T044028Z
DTSTART:20240310T020000Z
DTEND:20240310T030000Z
LOCATION:Field 3
CONTACT:
SUMMARY:FC Ballyhoo 07 White VS. Red Lion FC
DESCRIPTION:League Name: U17/U18B S2 2023/24\nGame Type: Regular\nGame Stat
 us: Complete\nHome Team: FC Ballyhoo 07 White\nAway Team: Red Lion FC\nHom
 e Score: 0\nAway Score: 5
END:VEVENT
BEGIN:VEVENT
UID:15437259@ezleagues.ezfacility.com
DTSTAMP:20260424T044028Z
CREATED:20260424T044028Z
DTSTART:20240317T010000Z
DTEND:20240317T020000Z
LOCATION:Field 2
CONTACT:
SUMMARY:Red Lion FC VS. Rocks 1
DESCRIPTION:League Name: U17/U18B S2 2023/24\nGame Type: Regular\nGame Stat
 us: Complete\nHome Team: Red Lion FC\nAway Team: Rocks 1\nHome Score: 4\nA
 way Score: 10
END:VEVENT
END:VCALENDAR
