BEGIN:VCALENDAR
VERSION:2.0
PRODID:-//EZFacility.com, Inc.//EZL 2.5.5.28621
BEGIN:VEVENT
UID:15435662@ezleagues.ezfacility.com
DTSTAMP:20260419T131059Z
CREATED:20260419T131059Z
DTSTART:20231105T004000Z
DTEND:20231105T013500Z
LOCATION:PFFC Dome - Full Field
CONTACT:
SUMMARY:Stella Rossa FC U15 VS. DSC 2009B Black
DESCRIPTION:League Name: BU15 - Target - West\nGame Type: Regular\nGame Sta
 tus: Complete\nHome Team: Stella Rossa FC U15\nAway Team: DSC 2009B Black\
 nHome Score: 1\nAway Score: 1
END:VEVENT
BEGIN:VEVENT
UID:15435676@ezleagues.ezfacility.com
DTSTAMP:20260419T131059Z
CREATED:20260419T131059Z
DTSTART:20231119T004500Z
DTEND:20231119T014000Z
LOCATION:PFFC Dome - Full Field
CONTACT:
SUMMARY:DSC 2009B Black VS. MHYSC 2009 B
DESCRIPTION:League Name: BU15 - Target - West\nGame Type: Regular\nGame Sta
 tus: Complete\nHome Team: DSC 2009B Black\nAway Team: MHYSC 2009 B\nHome S
 core: 3\nAway Score: 3
END:VEVENT
BEGIN:VEVENT
UID:15435717@ezleagues.ezfacility.com
DTSTAMP:20260419T131059Z
CREATED:20260419T131059Z
DTSTART:20231126T021000Z
DTEND:20231126T030500Z
LOCATION:CMCC - Full Field
CONTACT:
SUMMARY:DSC 2009B Black VS. USC Karpaty 2009B
DESCRIPTION:League Name: BU15 - Target - West\nGame Type: Regular\nGame Sta
 tus: Complete\nHome Team: DSC 2009B Black\nAway Team: USC Karpaty 2009B\nH
 ome Score: 1\nAway Score: 0
END:VEVENT
BEGIN:VEVENT
UID:15429000@ezleagues.ezfacility.com
DTSTAMP:20260419T131059Z
CREATED:20260419T131059Z
DTSTART:20231216T233500Z
DTEND:20231217T003000Z
LOCATION:PFFC Dome - Full Field
CONTACT:
SUMMARY:Lakeshore United FC VS. DSC 2009B Black
DESCRIPTION:League Name: BU15 - Target - West\nGame Type: Regular\nGame Sta
 tus: Complete\nHome Team: Lakeshore United FC\nAway Team: DSC 2009B Black\
 nHome Score: 2\nAway Score: 1
END:VEVENT
BEGIN:VEVENT
UID:15429240@ezleagues.ezfacility.com
DTSTAMP:20260419T131059Z
CREATED:20260419T131059Z
DTSTART:20231230T220000Z
DTEND:20231230T225500Z
LOCATION:PFFC Field House - Full Field 
CONTACT:
SUMMARY:Gil Vicente U15 Boys VS. DSC 2009B Black
DESCRIPTION:League Name: BU15 - Target - West\nGame Type: Regular\nGame Sta
 tus: Complete\nHome Team: Gil Vicente U15 Boys\nAway Team: DSC 2009B Black
 \nHome Score: 2\nAway Score: 5
END:VEVENT
BEGIN:VEVENT
UID:15429117@ezleagues.ezfacility.com
DTSTAMP:20260419T131059Z
CREATED:20260419T131059Z
DTSTART:20240114T215000Z
DTEND:20240114T224500Z
LOCATION:PFFC Dome - Full Field
CONTACT:
SUMMARY:Force Soccer M U15 Black VS. DSC 2009B Black
DESCRIPTION:League Name: BU15 - Target - West\nGame Type: Regular\nGame Sta
 tus: Complete\nHome Team: Force Soccer M U15 Black\nAway Team: DSC 2009B B
 lack\nHome Score: 0\nAway Score: 2
END:VEVENT
BEGIN:VEVENT
UID:15429210@ezleagues.ezfacility.com
DTSTAMP:20260419T131059Z
CREATED:20260419T131059Z
DTSTART:20240204T021000Z
DTEND:20240204T030500Z
LOCATION:CMCC - Full Field
CONTACT:
SUMMARY:DSC 2009B Black VS. LFC IA Miss M U15 2009
DESCRIPTION:League Name: BU15 - Target - West\nGame Type: Regular\nGame Sta
 tus: Complete\nHome Team: DSC 2009B Black\nAway Team: LFC IA Miss M U15 20
 09\nHome Score: 1\nAway Score: 0
END:VEVENT
BEGIN:VEVENT
UID:15429179@ezleagues.ezfacility.com
DTSTAMP:20260419T131059Z
CREATED:20260419T131059Z
DTSTART:20240218T022000Z
DTEND:20240218T031500Z
LOCATION:PFFC Dome - Full Field
CONTACT:
SUMMARY:DSC 2009B Black VS. Elite 2009 Boys
DESCRIPTION:League Name: BU15 - Target - West\nGame Type: Regular\nGame Sta
 tus: Complete\nHome Team: DSC 2009B Black\nAway Team: Elite 2009 Boys\nHom
 e Score: 3\nAway Score: 0
END:VEVENT
BEGIN:VEVENT
UID:15429030@ezleagues.ezfacility.com
DTSTAMP:20260419T131059Z
CREATED:20260419T131059Z
DTSTART:20240225T224500Z
DTEND:20240225T234000Z
LOCATION:PFFC Dome - Full Field
CONTACT:
SUMMARY:DSC 2009B Black VS. Gil Vicente U15 Boys
DESCRIPTION:League Name: BU15 - Target - West\nGame Type: Regular\nGame Sta
 tus: Complete\nHome Team: DSC 2009B Black\nAway Team: Gil Vicente U15 Boys
 \nHome Score: 1\nAway Score: 0
END:VEVENT
BEGIN:VEVENT
UID:15429059@ezleagues.ezfacility.com
DTSTAMP:20260419T131059Z
CREATED:20260419T131059Z
DTSTART:20240316T181000Z
DTEND:20240316T190500Z
LOCATION:PFFC Field House - Full Field 
CONTACT:
SUMMARY:DSC 2009B Black VS. LFC IA Miss M U15 2009
DESCRIPTION:League Name: BU15 - Target - West\nGame Type: Regular\nGame Sta
 tus: Complete\nHome Team: DSC 2009B Black\nAway Team: LFC IA Miss M U15 20
 09\nHome Score: 0\nAway Score: 3
END:VEVENT
BEGIN:VEVENT
UID:15429088@ezleagues.ezfacility.com
DTSTAMP:20260419T131059Z
CREATED:20260419T131059Z
DTSTART:20240406T160000Z
DTEND:20240406T165500Z
LOCATION:PFFC - Outdoors #2
CONTACT:
SUMMARY:GSC BU15 Mustangs VS. DSC 2009B Black
DESCRIPTION:League Name: BU15 - Target - West\nGame Type: Regular\nGame Sta
 tus: Complete\nHome Team: GSC BU15 Mustangs\nAway Team: DSC 2009B Black\nH
 ome Score: 0\nAway Score: 1
END:VEVENT
BEGIN:VEVENT
UID:15429148@ezleagues.ezfacility.com
DTSTAMP:20260419T131059Z
CREATED:20260419T131059Z
DTSTART:20240421T224000Z
DTEND:20240421T233500Z
LOCATION:PFFC Dome - Full Field
CONTACT:
SUMMARY:DSC 2009B Black VS. Stella Rossa FC U15
DESCRIPTION:League Name: BU15 - Target - West\nGame Type: Regular\nGame Sta
 tus: Complete\nHome Team: DSC 2009B Black\nAway Team: Stella Rossa FC U15\
 nHome Score: 1\nAway Score: 0
END:VEVENT
END:VCALENDAR
