BEGIN:VCALENDAR
VERSION:2.0
PRODID:-//EZFacility.com, Inc.//EZL 2.5.5.28621
BEGIN:VEVENT
UID:15431280@ezleagues.ezfacility.com
DTSTAMP:20260419T164121Z
CREATED:20260419T164121Z
DTSTART:20231229T235000Z
DTEND:20231230T004000Z
LOCATION:Car Stereo One Big Field
CONTACT:Adams
SUMMARY:Run with the Winded VS. Internationals
DESCRIPTION:League Name: 2023/2024 Maumee CS1 Big Field Wom 25+ S2\nGame Ty
 pe: Regular\nGame Status: Complete\nHome Team: Run with the Winded\nAway T
 eam: Internationals\nHome Score: 5\nAway Score: 4
END:VEVENT
BEGIN:VEVENT
UID:15431283@ezleagues.ezfacility.com
DTSTAMP:20260419T164121Z
CREATED:20260419T164121Z
DTSTART:20240106T013000Z
DTEND:20240106T022000Z
LOCATION:Car Stereo One Big Field
CONTACT:Hullinger
SUMMARY:Jailbirds VS. Run with the Winded
DESCRIPTION:League Name: 2023/2024 Maumee CS1 Big Field Wom 25+ S2\nGame Ty
 pe: Regular\nGame Status: Complete\nHome Team: Jailbirds\nAway Team: Run w
 ith the Winded\nHome Score: 5\nAway Score: 4
END:VEVENT
BEGIN:VEVENT
UID:15431286@ezleagues.ezfacility.com
DTSTAMP:20260419T164121Z
CREATED:20260419T164121Z
DTSTART:20240113T004000Z
DTEND:20240113T013000Z
LOCATION:Car Stereo One Big Field
CONTACT:Adams
SUMMARY:Run with the Winded VS. Victorious Secret
DESCRIPTION:League Name: 2023/2024 Maumee CS1 Big Field Wom 25+ S2\nGame Ty
 pe: Regular\nGame Status: Complete\nHome Team: Run with the Winded\nAway T
 eam: Victorious Secret\nHome Score: 1\nAway Score: 1
END:VEVENT
BEGIN:VEVENT
UID:15431289@ezleagues.ezfacility.com
DTSTAMP:20260419T164121Z
CREATED:20260419T164121Z
DTSTART:20240120T004000Z
DTEND:20240120T013000Z
LOCATION:Car Stereo One Big Field
CONTACT:Adams
SUMMARY:Messi Buns VS. Run with the Winded
DESCRIPTION:League Name: 2023/2024 Maumee CS1 Big Field Wom 25+ S2\nGame Ty
 pe: Regular\nGame Status: Complete\nHome Team: Messi Buns\nAway Team: Run 
 with the Winded\nHome Score: 0\nAway Score: 13
END:VEVENT
BEGIN:VEVENT
UID:15431294@ezleagues.ezfacility.com
DTSTAMP:20260419T164121Z
CREATED:20260419T164121Z
DTSTART:20240126T235000Z
DTEND:20240127T004000Z
LOCATION:Car Stereo One Big Field
CONTACT:Ohene-Larbi
SUMMARY:We Need Subs VS. Run with the Winded
DESCRIPTION:League Name: 2023/2024 Maumee CS1 Big Field Wom 25+ S2\nGame Ty
 pe: Regular\nGame Status: Complete\nHome Team: We Need Subs\nAway Team: Ru
 n with the Winded\nHome Score: 3\nAway Score: 7
END:VEVENT
BEGIN:VEVENT
UID:15431299@ezleagues.ezfacility.com
DTSTAMP:20260419T164121Z
CREATED:20260419T164121Z
DTSTART:20240203T005000Z
DTEND:20240203T014000Z
LOCATION:Car Stereo One Big Field
CONTACT:France
SUMMARY:Run with the Winded VS. Frogtown
DESCRIPTION:League Name: 2023/2024 Maumee CS1 Big Field Wom 25+ S2\nGame Ty
 pe: Regular\nGame Status: Complete\nHome Team: Run with the Winded\nAway T
 eam: Frogtown\nHome Score: 0\nAway Score: 10
END:VEVENT
BEGIN:VEVENT
UID:15431308@ezleagues.ezfacility.com
DTSTAMP:20260419T164121Z
CREATED:20260419T164121Z
DTSTART:20240217T023000Z
DTEND:20240217T032000Z
LOCATION:Car Stereo One Big Field
CONTACT:
SUMMARY:Internationals VS. Run with the Winded
DESCRIPTION:League Name: 2023/2024 Maumee CS1 Big Field Wom 25+ S2\nGame Ty
 pe: Regular\nGame Status: Complete\nHome Team: Internationals\nAway Team: 
 Run with the Winded\nHome Score: 8\nAway Score: 5
END:VEVENT
BEGIN:VEVENT
UID:15431311@ezleagues.ezfacility.com
DTSTAMP:20260419T164121Z
CREATED:20260419T164121Z
DTSTART:20240224T014000Z
DTEND:20240224T023000Z
LOCATION:Car Stereo One Big Field
CONTACT:
SUMMARY:Run with the Winded VS. Jailbirds
DESCRIPTION:League Name: 2023/2024 Maumee CS1 Big Field Wom 25+ S2\nGame Ty
 pe: Regular\nGame Status: Complete\nHome Team: Run with the Winded\nAway T
 eam: Jailbirds\nHome Score: 6\nAway Score: 9
END:VEVENT
END:VCALENDAR
