BEGIN:VCALENDAR
VERSION:2.0
PRODID:-//EZFacility.com, Inc.//EZL 2.5.5.28621
BEGIN:VEVENT
UID:15431275@ezleagues.ezfacility.com
DTSTAMP:20260422T011515Z
CREATED:20260422T011515Z
DTSTART:20231223T013000Z
DTEND:20231223T022000Z
LOCATION:Car Stereo One Big Field
CONTACT:Adams
SUMMARY:Internationals VS. Victorious Secret
DESCRIPTION:League Name: 2023/2024 Maumee CS1 Big Field Wom 25+ S2\nGame Ty
 pe: Regular\nGame Status: Complete\nHome Team: Internationals\nAway Team: 
 Victorious Secret\nHome Score: 11\nAway Score: 2
END:VEVENT
BEGIN:VEVENT
UID:15431278@ezleagues.ezfacility.com
DTSTAMP:20260422T011515Z
CREATED:20260422T011515Z
DTSTART:20231230T004000Z
DTEND:20231230T013000Z
LOCATION:Car Stereo One Big Field
CONTACT:Adams
SUMMARY:Victorious Secret VS. Jailbirds
DESCRIPTION:League Name: 2023/2024 Maumee CS1 Big Field Wom 25+ S2\nGame Ty
 pe: Regular\nGame Status: Complete\nHome Team: Victorious Secret\nAway Tea
 m: Jailbirds\nHome Score: 4\nAway Score: 9
END:VEVENT
BEGIN:VEVENT
UID:15431281@ezleagues.ezfacility.com
DTSTAMP:20260422T011515Z
CREATED:20260422T011515Z
DTSTART:20240105T235000Z
DTEND:20240106T004000Z
LOCATION:Car Stereo One Big Field
CONTACT:Hullinger
SUMMARY:Victorious Secret VS. Messi Buns
DESCRIPTION:League Name: 2023/2024 Maumee CS1 Big Field Wom 25+ S2\nGame Ty
 pe: Regular\nGame Status: Complete\nHome Team: Victorious Secret\nAway Tea
 m: Messi Buns\nHome Score: 5\nAway Score: 6
END:VEVENT
BEGIN:VEVENT
UID:15431286@ezleagues.ezfacility.com
DTSTAMP:20260422T011515Z
CREATED:20260422T011515Z
DTSTART:20240113T004000Z
DTEND:20240113T013000Z
LOCATION:Car Stereo One Big Field
CONTACT:Adams
SUMMARY:Run with the Winded VS. Victorious Secret
DESCRIPTION:League Name: 2023/2024 Maumee CS1 Big Field Wom 25+ S2\nGame Ty
 pe: Regular\nGame Status: Complete\nHome Team: Run with the Winded\nAway T
 eam: Victorious Secret\nHome Score: 1\nAway Score: 1
END:VEVENT
BEGIN:VEVENT
UID:15431291@ezleagues.ezfacility.com
DTSTAMP:20260422T011515Z
CREATED:20260422T011515Z
DTSTART:20240119T235000Z
DTEND:20240120T004000Z
LOCATION:Car Stereo One Big Field
CONTACT:Adams
SUMMARY:Victorious Secret VS. We Need Subs
DESCRIPTION:League Name: 2023/2024 Maumee CS1 Big Field Wom 25+ S2\nGame Ty
 pe: Regular\nGame Status: Complete\nHome Team: Victorious Secret\nAway Tea
 m: We Need Subs\nHome Score: 7\nAway Score: 4
END:VEVENT
BEGIN:VEVENT
UID:15431296@ezleagues.ezfacility.com
DTSTAMP:20260422T011515Z
CREATED:20260422T011515Z
DTSTART:20240127T013000Z
DTEND:20240127T022000Z
LOCATION:Car Stereo One Big Field
CONTACT:Ohene-Larbi
SUMMARY:Frogtown VS. Victorious Secret
DESCRIPTION:League Name: 2023/2024 Maumee CS1 Big Field Wom 25+ S2\nGame Ty
 pe: Regular\nGame Status: Complete\nHome Team: Frogtown\nAway Team: Victor
 ious Secret\nHome Score: 12\nAway Score: 2
END:VEVENT
BEGIN:VEVENT
UID:15431303@ezleagues.ezfacility.com
DTSTAMP:20260422T011515Z
CREATED:20260422T011515Z
DTSTART:20240210T014000Z
DTEND:20240210T023000Z
LOCATION:Car Stereo One Big Field
CONTACT:Adams
SUMMARY:Victorious Secret VS. Internationals
DESCRIPTION:League Name: 2023/2024 Maumee CS1 Big Field Wom 25+ S2\nGame Ty
 pe: Regular\nGame Status: Complete\nHome Team: Victorious Secret\nAway Tea
 m: Internationals\nHome Score: 3\nAway Score: 2
END:VEVENT
BEGIN:VEVENT
UID:15431306@ezleagues.ezfacility.com
DTSTAMP:20260422T011515Z
CREATED:20260422T011515Z
DTSTART:20240217T005000Z
DTEND:20240217T014000Z
LOCATION:Car Stereo One Big Field
CONTACT:Adams
SUMMARY:Jailbirds VS. Victorious Secret
DESCRIPTION:League Name: 2023/2024 Maumee CS1 Big Field Wom 25+ S2\nGame Ty
 pe: Regular\nGame Status: Complete\nHome Team: Jailbirds\nAway Team: Victo
 rious Secret\nHome Score: 8\nAway Score: 4
END:VEVENT
BEGIN:VEVENT
UID:15431309@ezleagues.ezfacility.com
DTSTAMP:20260422T011515Z
CREATED:20260422T011515Z
DTSTART:20240224T000000Z
DTEND:20240224T005000Z
LOCATION:Car Stereo One Big Field
CONTACT:
SUMMARY:Messi Buns VS. Victorious Secret
DESCRIPTION:League Name: 2023/2024 Maumee CS1 Big Field Wom 25+ S2\nGame Ty
 pe: Regular\nGame Status: Complete\nHome Team: Messi Buns\nAway Team: Vict
 orious Secret\nHome Score: 5\nAway Score: 0
END:VEVENT
END:VCALENDAR
