BEGIN:VCALENDAR
VERSION:2.0
PRODID:-//EZFacility.com, Inc.//EZL 2.5.5.28621
BEGIN:VEVENT
UID:15652084@ezleagues.ezfacility.com
DTSTAMP:20260424T044005Z
CREATED:20260424T044005Z
DTSTART:20210405T003000Z
DTEND:20210405T013000Z
LOCATION:Field 2
CONTACT:
SUMMARY:La Banda  VS. Monarcas 
DESCRIPTION:League Name: WS Futbol Sala Thursday Over 35's League 7V7 Winte
 r 2023-24\nGame Type: Postseason\nGame Status: Complete\nHome Team: La Ban
 da \nAway Team: Monarcas \nHome Score: 5\nAway Score: 7
END:VEVENT
BEGIN:VEVENT
UID:15438370@ezleagues.ezfacility.com
DTSTAMP:20260424T044005Z
CREATED:20260424T044005Z
DTSTART:20220127T120000Z
DTEND:20220127T130000Z
LOCATION:Field 1
CONTACT:
SUMMARY:La Banda  VS. Sunrise FC
DESCRIPTION:League Name: WS Futbol Sala Thursday Over 35's League 7V7 Winte
 r 2023-24\nGame Type: Regular\nGame Status: Complete\nHome Team: La Banda 
 \nAway Team: Sunrise FC\nHome Score: 10\nAway Score: 0
END:VEVENT
BEGIN:VEVENT
UID:15438324@ezleagues.ezfacility.com
DTSTAMP:20260424T044005Z
CREATED:20260424T044005Z
DTSTART:20231208T003000Z
DTEND:20231208T013000Z
LOCATION:Field 2
CONTACT:
SUMMARY:Poder Macias VS. La Banda 
DESCRIPTION:League Name: WS Futbol Sala Thursday Over 35's League 7V7 Winte
 r 2023-24\nGame Type: Regular\nGame Status: Complete\nHome Team: Poder Mac
 ias\nAway Team: La Banda \nHome Score: 5\nAway Score: 5
END:VEVENT
BEGIN:VEVENT
UID:15438328@ezleagues.ezfacility.com
DTSTAMP:20260424T044005Z
CREATED:20260424T044005Z
DTSTART:20231215T003000Z
DTEND:20231215T013000Z
LOCATION:Field 2
CONTACT:
SUMMARY:La Banda  VS. Foosball Thruball
DESCRIPTION:League Name: WS Futbol Sala Thursday Over 35's League 7V7 Winte
 r 2023-24\nGame Type: Regular\nGame Status: Complete\nHome Team: La Banda 
 \nAway Team: Foosball Thruball\nHome Score: 13\nAway Score: 3
END:VEVENT
BEGIN:VEVENT
UID:15438331@ezleagues.ezfacility.com
DTSTAMP:20260424T044005Z
CREATED:20260424T044005Z
DTSTART:20231222T003000Z
DTEND:20231222T013000Z
LOCATION:Field 2
CONTACT:
SUMMARY:La Banda  VS. Monarcas 
DESCRIPTION:League Name: WS Futbol Sala Thursday Over 35's League 7V7 Winte
 r 2023-24\nGame Type: Regular\nGame Status: Complete\nHome Team: La Banda 
 \nAway Team: Monarcas \nHome Score: 5\nAway Score: 4
END:VEVENT
BEGIN:VEVENT
UID:15438337@ezleagues.ezfacility.com
DTSTAMP:20260424T044005Z
CREATED:20260424T044005Z
DTSTART:20240105T013000Z
DTEND:20240105T023000Z
LOCATION:Field 2
CONTACT:
SUMMARY:Acapulco VS. La Banda 
DESCRIPTION:League Name: WS Futbol Sala Thursday Over 35's League 7V7 Winte
 r 2023-24\nGame Type: Regular\nGame Status: Complete\nHome Team: Acapulco\
 nAway Team: La Banda \nHome Score: 4\nAway Score: 2
END:VEVENT
BEGIN:VEVENT
UID:15438342@ezleagues.ezfacility.com
DTSTAMP:20260424T044005Z
CREATED:20260424T044005Z
DTSTART:20240119T003000Z
DTEND:20240119T013000Z
LOCATION:Field 2
CONTACT:
SUMMARY:Sunrise FC VS. La Banda 
DESCRIPTION:League Name: WS Futbol Sala Thursday Over 35's League 7V7 Winte
 r 2023-24\nGame Type: Regular\nGame Status: Complete\nHome Team: Sunrise F
 C\nAway Team: La Banda \nHome Score: 1\nAway Score: 11
END:VEVENT
BEGIN:VEVENT
UID:15438352@ezleagues.ezfacility.com
DTSTAMP:20260424T044005Z
CREATED:20260424T044005Z
DTSTART:20240126T003000Z
DTEND:20240126T013000Z
LOCATION:Field 2
CONTACT:
SUMMARY:La Banda  VS. Poder Macias
DESCRIPTION:League Name: WS Futbol Sala Thursday Over 35's League 7V7 Winte
 r 2023-24\nGame Type: Regular\nGame Status: Complete\nHome Team: La Banda 
 \nAway Team: Poder Macias\nHome Score: 5\nAway Score: 4
END:VEVENT
BEGIN:VEVENT
UID:15438359@ezleagues.ezfacility.com
DTSTAMP:20260424T044005Z
CREATED:20260424T044005Z
DTSTART:20240209T013000Z
DTEND:20240209T023000Z
LOCATION:Field 2
CONTACT:
SUMMARY:Monarcas  VS. La Banda 
DESCRIPTION:League Name: WS Futbol Sala Thursday Over 35's League 7V7 Winte
 r 2023-24\nGame Type: Regular\nGame Status: Complete\nHome Team: Monarcas 
 \nAway Team: La Banda \nHome Score: 5\nAway Score: 6
END:VEVENT
BEGIN:VEVENT
UID:15438365@ezleagues.ezfacility.com
DTSTAMP:20260424T044005Z
CREATED:20260424T044005Z
DTSTART:20240223T013000Z
DTEND:20240223T023000Z
LOCATION:Field 2
CONTACT:
SUMMARY:La Banda  VS. Acapulco
DESCRIPTION:League Name: WS Futbol Sala Thursday Over 35's League 7V7 Winte
 r 2023-24\nGame Type: Regular\nGame Status: Complete\nHome Team: La Banda 
 \nAway Team: Acapulco\nHome Score: 4\nAway Score: 4
END:VEVENT
BEGIN:VEVENT
UID:15438319@ezleagues.ezfacility.com
DTSTAMP:20260424T044005Z
CREATED:20260424T044005Z
DTSTART:20240301T013000Z
DTEND:20240301T023000Z
LOCATION:Field 2
CONTACT:
SUMMARY:Vikingos VS. La Banda 
DESCRIPTION:League Name: WS Futbol Sala Thursday Over 35's League 7V7 Winte
 r 2023-24\nGame Type: Regular\nGame Status: Complete\nHome Team: Vikingos\
 nAway Team: La Banda \nHome Score: 4\nAway Score: 8
END:VEVENT
BEGIN:VEVENT
UID:15438356@ezleagues.ezfacility.com
DTSTAMP:20260424T044005Z
CREATED:20260424T044005Z
DTSTART:20240308T010000Z
DTEND:20240308T020000Z
LOCATION:Field 2
CONTACT:
SUMMARY:Foosball Thruball VS. La Banda 
DESCRIPTION:League Name: WS Futbol Sala Thursday Over 35's League 7V7 Winte
 r 2023-24\nGame Type: Regular\nGame Status: Complete\nHome Team: Foosball 
 Thruball\nAway Team: La Banda \nHome Score: 6\nAway Score: 7
END:VEVENT
BEGIN:VEVENT
UID:15438347@ezleagues.ezfacility.com
DTSTAMP:20260424T044005Z
CREATED:20260424T044005Z
DTSTART:20240315T000000Z
DTEND:20240315T010000Z
LOCATION:Field 2
CONTACT:
SUMMARY:La Banda  VS. Vikingos
DESCRIPTION:League Name: WS Futbol Sala Thursday Over 35's League 7V7 Winte
 r 2023-24\nGame Type: Regular\nGame Status: Complete\nHome Team: La Banda 
 \nAway Team: Vikingos\nHome Score: 3\nAway Score: 3
END:VEVENT
BEGIN:VEVENT
UID:15652083@ezleagues.ezfacility.com
DTSTAMP:20260424T044005Z
CREATED:20260424T044005Z
DTSTART:20240329T000000Z
DTEND:20240329T010000Z
LOCATION:Field 2
CONTACT:
SUMMARY:La Banda  VS. Poder Macias
DESCRIPTION:League Name: WS Futbol Sala Thursday Over 35's League 7V7 Winte
 r 2023-24\nGame Type: Postseason\nGame Status: Complete\nHome Team: La Ban
 da \nAway Team: Poder Macias\nHome Score: 3\nAway Score: 2
END:VEVENT
END:VCALENDAR
