BEGIN:VCALENDAR
VERSION:2.0
PRODID:-//EZFacility.com, Inc.//EZL 2.5.5.28621
BEGIN:VEVENT
UID:15401091@ezleagues.ezfacility.com
DTSTAMP:20260425T162330Z
CREATED:20260425T162330Z
DTSTART:20240107T001500Z
DTEND:20240107T005800Z
LOCATION:Field 2
CONTACT:
SUMMARY:Ajax FC 2011 Girls White VS. Eclipse Select 2012 East Girls
DESCRIPTION:League Name: Travel Soccer-Girls-2011\nGame Type: Regular\nGame
  Status: Complete\nHome Team: Ajax FC 2011 Girls White\nAway Team: Eclipse
  Select 2012 East Girls\nHome Score: 4\nAway Score: 4
END:VEVENT
BEGIN:VEVENT
UID:15442158@ezleagues.ezfacility.com
DTSTAMP:20260425T162330Z
CREATED:20260425T162330Z
DTSTART:20240114T233000Z
DTEND:20240115T001500Z
LOCATION:Field 3
CONTACT:
SUMMARY:Eclipse Select 2012 East Girls VS. Midway Soccer Club 2011 Girls
DESCRIPTION:League Name: Travel Soccer-Girls-2011\nGame Type: Regular\nGame
  Status: Complete\nHome Team: Eclipse Select 2012 East Girls\nAway Team: M
 idway Soccer Club 2011 Girls\nHome Score: 6\nAway Score: 1
END:VEVENT
BEGIN:VEVENT
UID:15401094@ezleagues.ezfacility.com
DTSTAMP:20260425T162330Z
CREATED:20260425T162330Z
DTSTART:20240128T144500Z
DTEND:20240128T152800Z
LOCATION:Field 1
CONTACT:
SUMMARY:LTSC 2011 Girls Select  VS. Eclipse Select 2012 East Girls
DESCRIPTION:League Name: Travel Soccer-Girls-2011\nGame Type: Regular\nGame
  Status: Complete\nHome Team: LTSC 2011 Girls Select \nAway Team: Eclipse 
 Select 2012 East Girls\nHome Score: 1\nAway Score: 7
END:VEVENT
BEGIN:VEVENT
UID:15401081@ezleagues.ezfacility.com
DTSTAMP:20260425T162330Z
CREATED:20260425T162330Z
DTSTART:20240211T230000Z
DTEND:20240211T234300Z
LOCATION:Field 1
CONTACT:
SUMMARY:AYSO 300 UNITED 2011 Girls White VS. Eclipse Select 2012 East Girls
DESCRIPTION:League Name: Travel Soccer-Girls-2011\nGame Type: Regular\nGame
  Status: Complete\nHome Team: AYSO 300 UNITED 2011 Girls White\nAway Team:
  Eclipse Select 2012 East Girls\nHome Score: 1\nAway Score: 5
END:VEVENT
BEGIN:VEVENT
UID:15442244@ezleagues.ezfacility.com
DTSTAMP:20260425T162330Z
CREATED:20260425T162330Z
DTSTART:20240218T004500Z
DTEND:20240218T013000Z
LOCATION:Field 1
CONTACT:
SUMMARY:Eclipse Select 2012 East Girls VS. AYSO 300 UNITED 2011 Girls Red
DESCRIPTION:League Name: Travel Soccer-Girls-2011\nGame Type: Regular\nGame
  Status: Complete\nHome Team: Eclipse Select 2012 East Girls\nAway Team: A
 YSO 300 UNITED 2011 Girls Red\nHome Score: 13\nAway Score: 0
END:VEVENT
BEGIN:VEVENT
UID:15401064@ezleagues.ezfacility.com
DTSTAMP:20260425T162330Z
CREATED:20260425T162330Z
DTSTART:20240225T151500Z
DTEND:20240225T155800Z
LOCATION:Naperville Yard Field 2
CONTACT:
SUMMARY:Eclipse Select 2012 East Girls VS. Chicago Blast 2011 Blue Girls
DESCRIPTION:League Name: Travel Soccer-Girls-2011\nGame Type: Regular\nGame
  Status: Complete\nHome Team: Eclipse Select 2012 East Girls\nAway Team: C
 hicago Blast 2011 Blue Girls\nHome Score: 9\nAway Score: 0
END:VEVENT
BEGIN:VEVENT
UID:15442317@ezleagues.ezfacility.com
DTSTAMP:20260425T162330Z
CREATED:20260425T162330Z
DTSTART:20240303T010000Z
DTEND:20240303T014500Z
LOCATION:Field 2
CONTACT:
SUMMARY:FSC 2011 Girls Red VS. Eclipse Select 2012 East Girls
DESCRIPTION:League Name: Travel Soccer-Girls-2011\nGame Type: Regular\nGame
  Status: Complete\nHome Team: FSC 2011 Girls Red\nAway Team: Eclipse Selec
 t 2012 East Girls\nHome Score: 1\nAway Score: 6
END:VEVENT
BEGIN:VEVENT
UID:15442318@ezleagues.ezfacility.com
DTSTAMP:20260425T162330Z
CREATED:20260425T162330Z
DTSTART:20240309T150000Z
DTEND:20240309T154500Z
LOCATION:Field 3
CONTACT:
SUMMARY:ECSA 2011G Blue VS. Eclipse Select 2012 East Girls
DESCRIPTION:League Name: Travel Soccer-Girls-2011\nGame Type: Regular\nGame
  Status: Complete\nHome Team: ECSA 2011G Blue\nAway Team: Eclipse Select 2
 012 East Girls\nHome Score: 3\nAway Score: 0
END:VEVENT
END:VCALENDAR
