BEGIN:VCALENDAR
VERSION:2.0
PRODID:-//EZFacility.com, Inc.//EZL 2.5.5.28621
BEGIN:VEVENT
UID:15449266@ezleagues.ezfacility.com
DTSTAMP:20260425T223851Z
CREATED:20260425T223851Z
DTSTART:20240127T210000Z
DTEND:20240127T220000Z
LOCATION:Rossford Dome 9v9 Field 1
CONTACT:
SUMMARY:Genoa Premier United VS. GTFC Impact 2013 White
DESCRIPTION:League Name: Rossford Dome Boys U11 Div. 1 2024\nGame Type: Reg
 ular\nGame Status: Complete\nHome Team: Genoa Premier United\nAway Team: G
 TFC Impact 2013 White\nHome Score: 1\nAway Score: 4
END:VEVENT
BEGIN:VEVENT
UID:15449265@ezleagues.ezfacility.com
DTSTAMP:20260425T223851Z
CREATED:20260425T223851Z
DTSTART:20240128T170000Z
DTEND:20240128T180000Z
LOCATION:Rossford Dome 9v9 Field 1
CONTACT:
SUMMARY:GTFC Impact 2013 Premier Girls VS. Genoa Premier United
DESCRIPTION:League Name: Rossford Dome Boys U11 Div. 1 2024\nGame Type: Reg
 ular\nGame Status: Complete\nHome Team: GTFC Impact 2013 Premier Girls\nAw
 ay Team: Genoa Premier United\nHome Score: 2\nAway Score: 0
END:VEVENT
BEGIN:VEVENT
UID:15449268@ezleagues.ezfacility.com
DTSTAMP:20260425T223851Z
CREATED:20260425T223851Z
DTSTART:20240204T160000Z
DTEND:20240204T170000Z
LOCATION:Rossford Dome 9v9 Field 1
CONTACT:Pfeiffer
SUMMARY:Sylvania United White VS. Genoa Premier United
DESCRIPTION:League Name: Rossford Dome Boys U11 Div. 1 2024\nGame Type: Reg
 ular\nGame Status: Complete\nHome Team: Sylvania United White\nAway Team: 
 Genoa Premier United\nHome Score: 0\nAway Score: 3
END:VEVENT
BEGIN:VEVENT
UID:15449274@ezleagues.ezfacility.com
DTSTAMP:20260425T223851Z
CREATED:20260425T223851Z
DTSTART:20240218T160000Z
DTEND:20240218T170000Z
LOCATION:Rossford Dome 9v9 Field 1
CONTACT:
SUMMARY:Genoa Premier United VS. AWSC Blue 2013
DESCRIPTION:League Name: Rossford Dome Boys U11 Div. 1 2024\nGame Type: Reg
 ular\nGame Status: Complete\nHome Team: Genoa Premier United\nAway Team: A
 WSC Blue 2013\nHome Score: 4\nAway Score: 1
END:VEVENT
BEGIN:VEVENT
UID:15449278@ezleagues.ezfacility.com
DTSTAMP:20260425T223851Z
CREATED:20260425T223851Z
DTSTART:20240225T170000Z
DTEND:20240225T180000Z
LOCATION:Rossford Dome 9v9 Field 1
CONTACT:Rost
SUMMARY:Genoa Premier United VS. GTFC Impact 2013 Premier Girls
DESCRIPTION:League Name: Rossford Dome Boys U11 Div. 1 2024\nGame Type: Reg
 ular\nGame Status: Complete\nHome Team: Genoa Premier United\nAway Team: G
 TFC Impact 2013 Premier Girls\nHome Score: 0\nAway Score: 10
END:VEVENT
BEGIN:VEVENT
UID:15449281@ezleagues.ezfacility.com
DTSTAMP:20260425T223851Z
CREATED:20260425T223851Z
DTSTART:20240303T170000Z
DTEND:20240303T180000Z
LOCATION:Rossford Dome 9v9 Field 1
CONTACT:
SUMMARY:GTFC Impact 2013 White VS. Genoa Premier United
DESCRIPTION:League Name: Rossford Dome Boys U11 Div. 1 2024\nGame Type: Reg
 ular\nGame Status: Complete\nHome Team: GTFC Impact 2013 White\nAway Team:
  Genoa Premier United\nHome Score: 3\nAway Score: 3
END:VEVENT
BEGIN:VEVENT
UID:15449259@ezleagues.ezfacility.com
DTSTAMP:20260425T223851Z
CREATED:20260425T223851Z
DTSTART:20240316T190000Z
DTEND:20240316T200000Z
LOCATION:Rossford Dome 9v9 Field 1
CONTACT:
SUMMARY:AWSC Blue 2013 VS. Genoa Premier United
DESCRIPTION:League Name: Rossford Dome Boys U11 Div. 1 2024\nGame Type: Reg
 ular\nGame Status: Complete\nHome Team: AWSC Blue 2013\nAway Team: Genoa P
 remier United\nHome Score: 2\nAway Score: 3
END:VEVENT
BEGIN:VEVENT
UID:15449270@ezleagues.ezfacility.com
DTSTAMP:20260425T223851Z
CREATED:20260425T223851Z
DTSTART:20240330T160000Z
DTEND:20240330T170000Z
LOCATION:Rossford Dome 9v9 Field 1
CONTACT:
SUMMARY:Genoa Premier United VS. GTFC Impact 2014 Premier
DESCRIPTION:League Name: Rossford Dome Boys U11 Div. 1 2024\nGame Type: Reg
 ular\nGame Status: Complete\nHome Team: Genoa Premier United\nAway Team: G
 TFC Impact 2014 Premier\nHome Score: 3\nAway Score: 1
END:VEVENT
END:VCALENDAR
