BEGIN:VCALENDAR
VERSION:2.0
PRODID:-//EZFacility.com, Inc.//EZL 2.5.5.28621
BEGIN:VEVENT
UID:15449258@ezleagues.ezfacility.com
DTSTAMP:20260426T034938Z
CREATED:20260426T034938Z
DTSTART:20240113T150000Z
DTEND:20240113T160000Z
LOCATION:Rossford Dome 9v9 Field 1
CONTACT:
SUMMARY:GTFC Impact 2014 Premier VS. GTFC Impact 2013 White
DESCRIPTION:League Name: Rossford Dome Boys U11 Div. 1 2024\nGame Type: Reg
 ular\nGame Status: Complete\nHome Team: GTFC Impact 2014 Premier\nAway Tea
 m: GTFC Impact 2013 White\nHome Score: 5\nAway Score: 1
END:VEVENT
BEGIN:VEVENT
UID:15449262@ezleagues.ezfacility.com
DTSTAMP:20260426T034938Z
CREATED:20260426T034938Z
DTSTART:20240121T150000Z
DTEND:20240121T160000Z
LOCATION:Rossford Dome 9v9 Field 1
CONTACT:
SUMMARY:GTFC Impact 2013 White VS. Sylvania United White
DESCRIPTION:League Name: Rossford Dome Boys U11 Div. 1 2024\nGame Type: Reg
 ular\nGame Status: Complete\nHome Team: GTFC Impact 2013 White\nAway Team:
  Sylvania United White\nHome Score: 8\nAway Score: 2
END:VEVENT
BEGIN:VEVENT
UID:15449266@ezleagues.ezfacility.com
DTSTAMP:20260426T034938Z
CREATED:20260426T034938Z
DTSTART:20240127T210000Z
DTEND:20240127T220000Z
LOCATION:Rossford Dome 9v9 Field 1
CONTACT:
SUMMARY:Genoa Premier United VS. GTFC Impact 2013 White
DESCRIPTION:League Name: Rossford Dome Boys U11 Div. 1 2024\nGame Type: Reg
 ular\nGame Status: Complete\nHome Team: Genoa Premier United\nAway Team: G
 TFC Impact 2013 White\nHome Score: 1\nAway Score: 4
END:VEVENT
BEGIN:VEVENT
UID:15449269@ezleagues.ezfacility.com
DTSTAMP:20260426T034938Z
CREATED:20260426T034938Z
DTSTART:20240204T170000Z
DTEND:20240204T180000Z
LOCATION:Rossford Dome 9v9 Field 1
CONTACT:Pfeiffer
SUMMARY:AWSC Blue 2013 VS. GTFC Impact 2013 White
DESCRIPTION:League Name: Rossford Dome Boys U11 Div. 1 2024\nGame Type: Reg
 ular\nGame Status: Complete\nHome Team: AWSC Blue 2013\nAway Team: GTFC Im
 pact 2013 White\nHome Score: 1\nAway Score: 1
END:VEVENT
BEGIN:VEVENT
UID:15449273@ezleagues.ezfacility.com
DTSTAMP:20260426T034938Z
CREATED:20260426T034938Z
DTSTART:20240217T140000Z
DTEND:20240217T150000Z
LOCATION:Rossford Dome 9v9 Field 1
CONTACT:
SUMMARY:GTFC Impact 2013 White VS. GTFC Impact 2014 Premier
DESCRIPTION:League Name: Rossford Dome Boys U11 Div. 1 2024\nGame Type: Reg
 ular\nGame Status: Complete\nHome Team: GTFC Impact 2013 White\nAway Team:
  GTFC Impact 2014 Premier\nHome Score: 4\nAway Score: 7
END:VEVENT
BEGIN:VEVENT
UID:15449277@ezleagues.ezfacility.com
DTSTAMP:20260426T034938Z
CREATED:20260426T034938Z
DTSTART:20240225T190000Z
DTEND:20240225T200000Z
LOCATION:Rossford Dome 9v9 Field 1
CONTACT:Rost
SUMMARY:GTFC Impact 2013 White VS. Sylvania United White
DESCRIPTION:League Name: Rossford Dome Boys U11 Div. 1 2024\nGame Type: Reg
 ular\nGame Status: Complete\nHome Team: GTFC Impact 2013 White\nAway Team:
  Sylvania United White\nHome Score: 1\nAway Score: 5
END:VEVENT
BEGIN:VEVENT
UID:15449281@ezleagues.ezfacility.com
DTSTAMP:20260426T034938Z
CREATED:20260426T034938Z
DTSTART:20240303T170000Z
DTEND:20240303T180000Z
LOCATION:Rossford Dome 9v9 Field 1
CONTACT:
SUMMARY:GTFC Impact 2013 White VS. Genoa Premier United
DESCRIPTION:League Name: Rossford Dome Boys U11 Div. 1 2024\nGame Type: Reg
 ular\nGame Status: Complete\nHome Team: GTFC Impact 2013 White\nAway Team:
  Genoa Premier United\nHome Score: 3\nAway Score: 3
END:VEVENT
BEGIN:VEVENT
UID:15449271@ezleagues.ezfacility.com
DTSTAMP:20260426T034938Z
CREATED:20260426T034938Z
DTSTART:20240330T170000Z
DTEND:20240330T180000Z
LOCATION:Rossford Dome 9v9 Field 2
CONTACT:
SUMMARY:GTFC Impact 2013 Premier Girls VS. GTFC Impact 2013 White
DESCRIPTION:League Name: Rossford Dome Boys U11 Div. 1 2024\nGame Type: Reg
 ular\nGame Status: Complete\nHome Team: GTFC Impact 2013 Premier Girls\nAw
 ay Team: GTFC Impact 2013 White\nHome Score: 7\nAway Score: 0
END:VEVENT
END:VCALENDAR
