BEGIN:VCALENDAR
VERSION:2.0
PRODID:-//EZFacility.com, Inc.//EZL 2.5.5.28621
BEGIN:VEVENT
UID:15449260@ezleagues.ezfacility.com
DTSTAMP:20260426T033818Z
CREATED:20260426T033818Z
DTSTART:20240114T160000Z
DTEND:20240114T170000Z
LOCATION:Rossford Dome 9v9 Field 1
CONTACT:
SUMMARY:Sylvania United White VS. GTFC Impact 2013 Premier Girls
DESCRIPTION:League Name: Rossford Dome Boys U11 Div. 1 2024\nGame Type: Reg
 ular\nGame Status: Complete\nHome Team: Sylvania United White\nAway Team: 
 GTFC Impact 2013 Premier Girls\nHome Score: 1\nAway Score: 8
END:VEVENT
BEGIN:VEVENT
UID:15449263@ezleagues.ezfacility.com
DTSTAMP:20260426T033818Z
CREATED:20260426T033818Z
DTSTART:20240121T160000Z
DTEND:20240121T170000Z
LOCATION:Rossford Dome 9v9 Field 1
CONTACT:
SUMMARY:GTFC Impact 2013 Premier Girls VS. AWSC Blue 2013
DESCRIPTION:League Name: Rossford Dome Boys U11 Div. 1 2024\nGame Type: Reg
 ular\nGame Status: Complete\nHome Team: GTFC Impact 2013 Premier Girls\nAw
 ay Team: AWSC Blue 2013\nHome Score: 10\nAway Score: 0
END:VEVENT
BEGIN:VEVENT
UID:15449265@ezleagues.ezfacility.com
DTSTAMP:20260426T033818Z
CREATED:20260426T033818Z
DTSTART:20240128T170000Z
DTEND:20240128T180000Z
LOCATION:Rossford Dome 9v9 Field 1
CONTACT:
SUMMARY:GTFC Impact 2013 Premier Girls VS. Genoa Premier United
DESCRIPTION:League Name: Rossford Dome Boys U11 Div. 1 2024\nGame Type: Reg
 ular\nGame Status: Complete\nHome Team: GTFC Impact 2013 Premier Girls\nAw
 ay Team: Genoa Premier United\nHome Score: 2\nAway Score: 0
END:VEVENT
BEGIN:VEVENT
UID:15449267@ezleagues.ezfacility.com
DTSTAMP:20260426T033818Z
CREATED:20260426T033818Z
DTSTART:20240203T210000Z
DTEND:20240203T220000Z
LOCATION:Rossford Dome 9v9 Field 1
CONTACT:
SUMMARY:GTFC Impact 2014 Premier VS. GTFC Impact 2013 Premier Girls
DESCRIPTION:League Name: Rossford Dome Boys U11 Div. 1 2024\nGame Type: Reg
 ular\nGame Status: Complete\nHome Team: GTFC Impact 2014 Premier\nAway Tea
 m: GTFC Impact 2013 Premier Girls\nHome Score: 0\nAway Score: 3
END:VEVENT
BEGIN:VEVENT
UID:15449275@ezleagues.ezfacility.com
DTSTAMP:20260426T033818Z
CREATED:20260426T033818Z
DTSTART:20240218T150000Z
DTEND:20240218T160000Z
LOCATION:Rossford Dome 9v9 Field 1
CONTACT:
SUMMARY:GTFC Impact 2013 Premier Girls VS. Sylvania United White
DESCRIPTION:League Name: Rossford Dome Boys U11 Div. 1 2024\nGame Type: Reg
 ular\nGame Status: Complete\nHome Team: GTFC Impact 2013 Premier Girls\nAw
 ay Team: Sylvania United White\nHome Score: 5\nAway Score: 3
END:VEVENT
BEGIN:VEVENT
UID:15449278@ezleagues.ezfacility.com
DTSTAMP:20260426T033818Z
CREATED:20260426T033818Z
DTSTART:20240225T170000Z
DTEND:20240225T180000Z
LOCATION:Rossford Dome 9v9 Field 1
CONTACT:Rost
SUMMARY:Genoa Premier United VS. GTFC Impact 2013 Premier Girls
DESCRIPTION:League Name: Rossford Dome Boys U11 Div. 1 2024\nGame Type: Reg
 ular\nGame Status: Complete\nHome Team: Genoa Premier United\nAway Team: G
 TFC Impact 2013 Premier Girls\nHome Score: 0\nAway Score: 10
END:VEVENT
BEGIN:VEVENT
UID:15449280@ezleagues.ezfacility.com
DTSTAMP:20260426T033818Z
CREATED:20260426T033818Z
DTSTART:20240303T160000Z
DTEND:20240303T170000Z
LOCATION:Rossford Dome 9v9 Field 1
CONTACT:
SUMMARY:AWSC Blue 2013 VS. GTFC Impact 2013 Premier Girls
DESCRIPTION:League Name: Rossford Dome Boys U11 Div. 1 2024\nGame Type: Reg
 ular\nGame Status: Complete\nHome Team: AWSC Blue 2013\nAway Team: GTFC Im
 pact 2013 Premier Girls\nHome Score: 0\nAway Score: 5
END:VEVENT
BEGIN:VEVENT
UID:15449271@ezleagues.ezfacility.com
DTSTAMP:20260426T033818Z
CREATED:20260426T033818Z
DTSTART:20240330T170000Z
DTEND:20240330T180000Z
LOCATION:Rossford Dome 9v9 Field 2
CONTACT:
SUMMARY:GTFC Impact 2013 Premier Girls VS. GTFC Impact 2013 White
DESCRIPTION:League Name: Rossford Dome Boys U11 Div. 1 2024\nGame Type: Reg
 ular\nGame Status: Complete\nHome Team: GTFC Impact 2013 Premier Girls\nAw
 ay Team: GTFC Impact 2013 White\nHome Score: 7\nAway Score: 0
END:VEVENT
END:VCALENDAR
