BEGIN:VCALENDAR
VERSION:2.0
PRODID:-//EZFacility.com, Inc.//EZL 2.5.5.28621
BEGIN:VEVENT
UID:15444905@ezleagues.ezfacility.com
DTSTAMP:20260424T043953Z
CREATED:20260424T043953Z
DTSTART:20231210T120000Z
DTEND:20231210T130000Z
LOCATION:Navy
CONTACT:
SUMMARY:Star Hill Black VS. Tolland Eagles
DESCRIPTION:League Name: Junior NFC 11U Flag Football (Born in 12,13,14) S1
 \nGame Type: Regular\nGame Status: Complete\nHome Team: Star Hill Black\nA
 way Team: Tolland Eagles\nHome Score: 49\nAway Score: 12
END:VEVENT
BEGIN:VEVENT
UID:15444917@ezleagues.ezfacility.com
DTSTAMP:20260424T043953Z
CREATED:20260424T043953Z
DTSTART:20231217T160000Z
DTEND:20231217T170000Z
LOCATION:Navy
CONTACT:
SUMMARY:Star Hill Black VS. Pick 6 Squad
DESCRIPTION:League Name: Junior NFC 11U Flag Football (Born in 12,13,14) S1
 \nGame Type: Regular\nGame Status: Complete\nHome Team: Star Hill Black\nA
 way Team: Pick 6 Squad\nHome Score: 46\nAway Score: 25
END:VEVENT
BEGIN:VEVENT
UID:15444923@ezleagues.ezfacility.com
DTSTAMP:20260424T043953Z
CREATED:20260424T043953Z
DTSTART:20231231T160000Z
DTEND:20231231T170000Z
LOCATION:Navy
CONTACT:
SUMMARY:Bulldogs VS. Star Hill Black
DESCRIPTION:League Name: Junior NFC 11U Flag Football (Born in 12,13,14) S1
 \nGame Type: Regular\nGame Status: Complete\nHome Team: Bulldogs\nAway Tea
 m: Star Hill Black\nHome Score: 6\nAway Score: 43
END:VEVENT
BEGIN:VEVENT
UID:15444938@ezleagues.ezfacility.com
DTSTAMP:20260424T043953Z
CREATED:20260424T043953Z
DTSTART:20240114T160000Z
DTEND:20240114T170000Z
LOCATION:Navy
CONTACT:
SUMMARY:Star Hill Black VS. Ellington Explosion
DESCRIPTION:League Name: Junior NFC 11U Flag Football (Born in 12,13,14) S1
 \nGame Type: Regular\nGame Status: Complete\nHome Team: Star Hill Black\nA
 way Team: Ellington Explosion\nHome Score: 20\nAway Score: 25
END:VEVENT
BEGIN:VEVENT
UID:15444943@ezleagues.ezfacility.com
DTSTAMP:20260424T043953Z
CREATED:20260424T043953Z
DTSTART:20240121T160000Z
DTEND:20240121T170000Z
LOCATION:Navy
CONTACT:
SUMMARY:Star Hill Black VS. Star Hill Gold
DESCRIPTION:League Name: Junior NFC 11U Flag Football (Born in 12,13,14) S1
 \nGame Type: Regular\nGame Status: Complete\nHome Team: Star Hill Black\nA
 way Team: Star Hill Gold\nHome Score: 27\nAway Score: 7
END:VEVENT
BEGIN:VEVENT
UID:15444948@ezleagues.ezfacility.com
DTSTAMP:20260424T043953Z
CREATED:20260424T043953Z
DTSTART:20240128T160000Z
DTEND:20240128T170000Z
LOCATION:Navy
CONTACT:
SUMMARY:CT JETS VS. Star Hill Black
DESCRIPTION:League Name: Junior NFC 11U Flag Football (Born in 12,13,14) S1
 \nGame Type: Regular\nGame Status: Complete\nHome Team: CT JETS\nAway Team
 : Star Hill Black\nHome Score: 43\nAway Score: 14
END:VEVENT
BEGIN:VEVENT
UID:15444951@ezleagues.ezfacility.com
DTSTAMP:20260424T043953Z
CREATED:20260424T043953Z
DTSTART:20240204T160000Z
DTEND:20240204T170000Z
LOCATION:Navy
CONTACT:
SUMMARY:Ellington Roadrunners (Black) VS. Star Hill Black
DESCRIPTION:League Name: Junior NFC 11U Flag Football (Born in 12,13,14) S1
 \nGame Type: Regular\nGame Status: Complete\nHome Team: Ellington Roadrunn
 ers (Black)\nAway Team: Star Hill Black\nHome Score: 42\nAway Score: 12
END:VEVENT
BEGIN:VEVENT
UID:15444953@ezleagues.ezfacility.com
DTSTAMP:20260424T043953Z
CREATED:20260424T043953Z
DTSTART:20240211T130000Z
DTEND:20240211T140000Z
LOCATION:Navy
CONTACT:
SUMMARY:South Windsor Legends VS. Star Hill Black
DESCRIPTION:League Name: Junior NFC 11U Flag Football (Born in 12,13,14) S1
 \nGame Type: Regular\nGame Status: Complete\nHome Team: South Windsor Lege
 nds\nAway Team: Star Hill Black\nHome Score: 30\nAway Score: 12
END:VEVENT
END:VCALENDAR
