BEGIN:VCALENDAR
VERSION:2.0
PRODID:-//EZFacility.com, Inc.//EZL 2.5.5.28621
BEGIN:VEVENT
UID:15444971@ezleagues.ezfacility.com
DTSTAMP:20260426T033600Z
CREATED:20260426T033600Z
DTSTART:20231210T160000Z
DTEND:20231210T170000Z
LOCATION:Maroon
CONTACT:
SUMMARY:Pick Six VS. Gremlins
DESCRIPTION:League Name: Junior AFC 11U Flag Football (Born in 2012,13,14) 
 S1\nGame Type: Regular\nGame Status: Complete\nHome Team: Pick Six\nAway T
 eam: Gremlins\nHome Score: 22\nAway Score: 0
END:VEVENT
BEGIN:VEVENT
UID:15444976@ezleagues.ezfacility.com
DTSTAMP:20260426T033600Z
CREATED:20260426T033600Z
DTSTART:20231217T120000Z
DTEND:20231217T130000Z
LOCATION:Maroon
CONTACT:
SUMMARY:Next Level Beast VS. Pick Six
DESCRIPTION:League Name: Junior AFC 11U Flag Football (Born in 2012,13,14) 
 S1\nGame Type: Regular\nGame Status: Complete\nHome Team: Next Level Beast
 \nAway Team: Pick Six\nHome Score: 48\nAway Score: 0
END:VEVENT
BEGIN:VEVENT
UID:15444981@ezleagues.ezfacility.com
DTSTAMP:20260426T033600Z
CREATED:20260426T033600Z
DTSTART:20231231T130000Z
DTEND:20231231T140000Z
LOCATION:Maroon
CONTACT:
SUMMARY:Pick Six VS. RHAM Elite
DESCRIPTION:League Name: Junior AFC 11U Flag Football (Born in 2012,13,14) 
 S1\nGame Type: Regular\nGame Status: Complete\nHome Team: Pick Six\nAway T
 eam: RHAM Elite\nHome Score: 12\nAway Score: 34
END:VEVENT
BEGIN:VEVENT
UID:15444989@ezleagues.ezfacility.com
DTSTAMP:20260426T033600Z
CREATED:20260426T033600Z
DTSTART:20240114T130000Z
DTEND:20240114T140000Z
LOCATION:Navy
CONTACT:
SUMMARY:Pick Six VS. Star Hill Red
DESCRIPTION:League Name: Junior AFC 11U Flag Football (Born in 2012,13,14) 
 S1\nGame Type: Regular\nGame Status: Complete\nHome Team: Pick Six\nAway T
 eam: Star Hill Red\nHome Score: 35\nAway Score: 0
END:VEVENT
BEGIN:VEVENT
UID:15444994@ezleagues.ezfacility.com
DTSTAMP:20260426T033600Z
CREATED:20260426T033600Z
DTSTART:20240121T150000Z
DTEND:20240121T160000Z
LOCATION:Navy
CONTACT:
SUMMARY:Pick Six VS. Star Hill Blue
DESCRIPTION:League Name: Junior AFC 11U Flag Football (Born in 2012,13,14) 
 S1\nGame Type: Regular\nGame Status: Complete\nHome Team: Pick Six\nAway T
 eam: Star Hill Blue\nHome Score: 32\nAway Score: 14
END:VEVENT
BEGIN:VEVENT
UID:15444996@ezleagues.ezfacility.com
DTSTAMP:20260426T033600Z
CREATED:20260426T033600Z
DTSTART:20240128T130000Z
DTEND:20240128T140000Z
LOCATION:Maroon
CONTACT:
SUMMARY:Ellington Roadrunners (Orange) VS. Pick Six
DESCRIPTION:League Name: Junior AFC 11U Flag Football (Born in 2012,13,14) 
 S1\nGame Type: Regular\nGame Status: Complete\nHome Team: Ellington Roadru
 nners (Orange)\nAway Team: Pick Six\nHome Score: 46\nAway Score: 20
END:VEVENT
BEGIN:VEVENT
UID:15445001@ezleagues.ezfacility.com
DTSTAMP:20260426T033600Z
CREATED:20260426T033600Z
DTSTART:20240204T130000Z
DTEND:20240204T140000Z
LOCATION:Navy
CONTACT:
SUMMARY:Pick Six VS. Urban Lodge
DESCRIPTION:League Name: Junior AFC 11U Flag Football (Born in 2012,13,14) 
 S1\nGame Type: Regular\nGame Status: Complete\nHome Team: Pick Six\nAway T
 eam: Urban Lodge\nHome Score: 34\nAway Score: 27
END:VEVENT
BEGIN:VEVENT
UID:15445006@ezleagues.ezfacility.com
DTSTAMP:20260426T033600Z
CREATED:20260426T033600Z
DTSTART:20240211T150000Z
DTEND:20240211T160000Z
LOCATION:Maroon
CONTACT:
SUMMARY:Gettin Messi VS. Pick Six
DESCRIPTION:League Name: Junior AFC 11U Flag Football (Born in 2012,13,14) 
 S1\nGame Type: Regular\nGame Status: Complete\nHome Team: Gettin Messi\nAw
 ay Team: Pick Six\nHome Score: 15\nAway Score: 39
END:VEVENT
END:VCALENDAR
