BEGIN:VCALENDAR
VERSION:2.0
PRODID:-//EZFacility.com, Inc.//EZL 2.5.5.28621
BEGIN:VEVENT
UID:15444966@ezleagues.ezfacility.com
DTSTAMP:20260424T043236Z
CREATED:20260424T043236Z
DTSTART:20231210T130000Z
DTEND:20231210T140000Z
LOCATION:Navy
CONTACT:
SUMMARY:Star Hill Red VS. Urban Lodge
DESCRIPTION:League Name: Junior AFC 11U Flag Football (Born in 2012,13,14) 
 S1\nGame Type: Regular\nGame Status: Complete\nHome Team: Star Hill Red\nA
 way Team: Urban Lodge\nHome Score: 18\nAway Score: 12
END:VEVENT
BEGIN:VEVENT
UID:15444979@ezleagues.ezfacility.com
DTSTAMP:20260424T043236Z
CREATED:20260424T043236Z
DTSTART:20231217T170000Z
DTEND:20231217T180000Z
LOCATION:Navy
CONTACT:
SUMMARY:Ellington Roadrunners (Orange) VS. Star Hill Red
DESCRIPTION:League Name: Junior AFC 11U Flag Football (Born in 2012,13,14) 
 S1\nGame Type: Regular\nGame Status: Complete\nHome Team: Ellington Roadru
 nners (Orange)\nAway Team: Star Hill Red\nHome Score: 24\nAway Score: 14
END:VEVENT
BEGIN:VEVENT
UID:15444980@ezleagues.ezfacility.com
DTSTAMP:20260424T043236Z
CREATED:20260424T043236Z
DTSTART:20231231T130000Z
DTEND:20231231T140000Z
LOCATION:Navy
CONTACT:
SUMMARY:Gremlins VS. Star Hill Red
DESCRIPTION:League Name: Junior AFC 11U Flag Football (Born in 2012,13,14) 
 S1\nGame Type: Regular\nGame Status: Complete\nHome Team: Gremlins\nAway T
 eam: Star Hill Red\nHome Score: 34\nAway Score: 27
END:VEVENT
BEGIN:VEVENT
UID:15444986@ezleagues.ezfacility.com
DTSTAMP:20260424T043236Z
CREATED:20260424T043236Z
DTSTART:20240107T150000Z
DTEND:20240107T160000Z
LOCATION:Navy
CONTACT:
SUMMARY:Gettin Messi VS. Star Hill Red
DESCRIPTION:League Name: Junior AFC 11U Flag Football (Born in 2012,13,14) 
 S1\nGame Type: Regular\nGame Status: Complete\nHome Team: Gettin Messi\nAw
 ay Team: Star Hill Red\nHome Score: 25\nAway Score: 12
END:VEVENT
BEGIN:VEVENT
UID:15444989@ezleagues.ezfacility.com
DTSTAMP:20260424T043236Z
CREATED:20260424T043236Z
DTSTART:20240114T130000Z
DTEND:20240114T140000Z
LOCATION:Navy
CONTACT:
SUMMARY:Pick Six VS. Star Hill Red
DESCRIPTION:League Name: Junior AFC 11U Flag Football (Born in 2012,13,14) 
 S1\nGame Type: Regular\nGame Status: Complete\nHome Team: Pick Six\nAway T
 eam: Star Hill Red\nHome Score: 35\nAway Score: 0
END:VEVENT
BEGIN:VEVENT
UID:15444993@ezleagues.ezfacility.com
DTSTAMP:20260424T043236Z
CREATED:20260424T043236Z
DTSTART:20240121T130000Z
DTEND:20240121T140000Z
LOCATION:Navy
CONTACT:
SUMMARY:Next Level Beast VS. Star Hill Red
DESCRIPTION:League Name: Junior AFC 11U Flag Football (Born in 2012,13,14) 
 S1\nGame Type: Regular\nGame Status: Complete\nHome Team: Next Level Beast
 \nAway Team: Star Hill Red\nHome Score: 50\nAway Score: 7
END:VEVENT
BEGIN:VEVENT
UID:15444997@ezleagues.ezfacility.com
DTSTAMP:20260424T043236Z
CREATED:20260424T043236Z
DTSTART:20240128T140000Z
DTEND:20240128T150000Z
LOCATION:Navy
CONTACT:
SUMMARY:Star Hill Blue VS. Star Hill Red
DESCRIPTION:League Name: Junior AFC 11U Flag Football (Born in 2012,13,14) 
 S1\nGame Type: Regular\nGame Status: Complete\nHome Team: Star Hill Blue\n
 Away Team: Star Hill Red\nHome Score: 25\nAway Score: 33
END:VEVENT
BEGIN:VEVENT
UID:15445002@ezleagues.ezfacility.com
DTSTAMP:20260424T043236Z
CREATED:20260424T043236Z
DTSTART:20240204T150000Z
DTEND:20240204T160000Z
LOCATION:Navy
CONTACT:
SUMMARY:RHAM Elite VS. Star Hill Red
DESCRIPTION:League Name: Junior AFC 11U Flag Football (Born in 2012,13,14) 
 S1\nGame Type: Regular\nGame Status: Complete\nHome Team: RHAM Elite\nAway
  Team: Star Hill Red\nHome Score: 46\nAway Score: 14
END:VEVENT
END:VCALENDAR
