BEGIN:VCALENDAR
VERSION:2.0
PRODID:-//EZFacility.com, Inc.//EZL 2.5.5.28621
BEGIN:VEVENT
UID:15446479@ezleagues.ezfacility.com
DTSTAMP:20260421T054830Z
CREATED:20260421T054830Z
DTSTART:20240114T154500Z
DTEND:20240114T164000Z
LOCATION:Soccer Field 4A
CONTACT:
SUMMARY:Legion FC Chicago 2012 A2 VS. Elite S.C. U12 Boys Elite 2012
DESCRIPTION:League Name: YISL 2012(U12) Boys Group A\nGame Type: Regular\nG
 ame Status: Complete\nHome Team: Legion FC Chicago 2012 A2\nAway Team: Eli
 te S.C. U12 Boys Elite 2012\nHome Score: 2\nAway Score: 4
END:VEVENT
BEGIN:VEVENT
UID:15446481@ezleagues.ezfacility.com
DTSTAMP:20260421T054830Z
CREATED:20260421T054830Z
DTSTART:20240121T130000Z
DTEND:20240121T135500Z
LOCATION:Soccer Field 2A
CONTACT:
SUMMARY:FC1974 Boys 2013 Elite VS. Legion FC Chicago 2012 A2
DESCRIPTION:League Name: YISL 2012(U12) Boys Group A\nGame Type: Regular\nG
 ame Status: Complete\nHome Team: FC1974 Boys 2013 Elite\nAway Team: Legion
  FC Chicago 2012 A2\nHome Score: 5\nAway Score: 0
END:VEVENT
BEGIN:VEVENT
UID:15446483@ezleagues.ezfacility.com
DTSTAMP:20260421T054830Z
CREATED:20260421T054830Z
DTSTART:20240128T135500Z
DTEND:20240128T145000Z
LOCATION:Soccer Field 4A
CONTACT:
SUMMARY:AAC Eagles Chicago 2012 Red VS. Legion FC Chicago 2012 A2
DESCRIPTION:League Name: YISL 2012(U12) Boys Group A\nGame Type: Regular\nG
 ame Status: Complete\nHome Team: AAC Eagles Chicago 2012 Red\nAway Team: L
 egion FC Chicago 2012 A2\nHome Score: 3\nAway Score: 1
END:VEVENT
BEGIN:VEVENT
UID:15446496@ezleagues.ezfacility.com
DTSTAMP:20260421T054830Z
CREATED:20260421T054830Z
DTSTART:20240218T202000Z
DTEND:20240218T211500Z
LOCATION:Soccer Field 3A
CONTACT:
SUMMARY:Legion FC Chicago 2012 A2 VS. FC1974 Boys 2013 Elite
DESCRIPTION:League Name: YISL 2012(U12) Boys Group A\nGame Type: Regular\nG
 ame Status: Complete\nHome Team: Legion FC Chicago 2012 A2\nAway Team: FC1
 974 Boys 2013 Elite\nHome Score: 1\nAway Score: 5
END:VEVENT
BEGIN:VEVENT
UID:15446498@ezleagues.ezfacility.com
DTSTAMP:20260421T054830Z
CREATED:20260421T054830Z
DTSTART:20240309T232500Z
DTEND:20240310T002000Z
LOCATION:Soccer Field 4A
CONTACT:
SUMMARY:Legion FC Chicago 2012 A2 VS. AAC Eagles Chicago 2012 Red
DESCRIPTION:League Name: YISL 2012(U12) Boys Group A\nGame Type: Regular\nG
 ame Status: Complete\nHome Team: Legion FC Chicago 2012 A2\nAway Team: AAC
  Eagles Chicago 2012 Red\nHome Score: 1\nAway Score: 6
END:VEVENT
BEGIN:VEVENT
UID:15446492@ezleagues.ezfacility.com
DTSTAMP:20260421T054830Z
CREATED:20260421T054830Z
DTSTART:20240310T173000Z
DTEND:20240310T182500Z
LOCATION:Soccer Field 3A
CONTACT:
SUMMARY:Elite S.C. U12 Boys Elite 2012 VS. Legion FC Chicago 2012 A2
DESCRIPTION:League Name: YISL 2012(U12) Boys Group A\nGame Type: Regular\nG
 ame Status: Complete\nHome Team: Elite S.C. U12 Boys Elite 2012\nAway Team
 : Legion FC Chicago 2012 A2\nHome Score: 2\nAway Score: 4
END:VEVENT
BEGIN:VEVENT
UID:15667141@ezleagues.ezfacility.com
DTSTAMP:20260421T054830Z
CREATED:20260421T054830Z
DTSTART:20240327T000000Z
DTEND:20240327T005500Z
LOCATION:Soccer Field 2A
CONTACT:
SUMMARY:Legion FC Chicago 2012 A2 VS. TBD
DESCRIPTION:League Name: YISL 2012(U12) Boys Group A\nGame Type: Regular\nG
 ame Status: Pending\nHome Team: Legion FC Chicago 2012 A2\nAway Team: TBD\
 n
END:VEVENT
END:VCALENDAR
