BEGIN:VCALENDAR
VERSION:2.0
PRODID:-//EZFacility.com, Inc.//EZL 2.5.5.28621
BEGIN:VEVENT
UID:15470947@ezleagues.ezfacility.com
DTSTAMP:20260426T034916Z
CREATED:20260426T034916Z
DTSTART:20231208T200000Z
DTEND:20231208T210000Z
LOCATION:Turf 2
CONTACT:
SUMMARY:Corny Bros Inc. VS. Throwing Bags
DESCRIPTION:League Name: Cornhole Recreational (December 2023)\nGame Type: 
 Regular\nGame Status: Complete\nHome Team: Corny Bros Inc.\nAway Team: Thr
 owing Bags\nHome Score: 0\nAway Score: 21
END:VEVENT
BEGIN:VEVENT
UID:15470972@ezleagues.ezfacility.com
DTSTAMP:20260426T034916Z
CREATED:20260426T034916Z
DTSTART:20231208T201000Z
DTEND:20231208T211000Z
LOCATION:Turf 2
CONTACT:
SUMMARY:Dirty Old Bags VS. Throwing Bags
DESCRIPTION:League Name: Cornhole Recreational (December 2023)\nGame Type: 
 Regular\nGame Status: Complete\nHome Team: Dirty Old Bags\nAway Team: Thro
 wing Bags\nHome Score: 13\nAway Score: 21
END:VEVENT
BEGIN:VEVENT
UID:15470978@ezleagues.ezfacility.com
DTSTAMP:20260426T034916Z
CREATED:20260426T034916Z
DTSTART:20231208T202000Z
DTEND:20231208T212000Z
LOCATION:Turf 2
CONTACT:
SUMMARY:Throwing Bags VS. Only Snipes
DESCRIPTION:League Name: Cornhole Recreational (December 2023)\nGame Type: 
 Regular\nGame Status: Complete\nHome Team: Throwing Bags\nAway Team: Only 
 Snipes\nHome Score: 21\nAway Score: 18
END:VEVENT
BEGIN:VEVENT
UID:15479020@ezleagues.ezfacility.com
DTSTAMP:20260426T034916Z
CREATED:20260426T034916Z
DTSTART:20231215T200000Z
DTEND:20231215T210000Z
LOCATION:Turf 2
CONTACT:
SUMMARY:Bag Masters VS. Throwing Bags
DESCRIPTION:League Name: Cornhole Recreational (December 2023)\nGame Type: 
 Regular\nGame Status: Complete\nHome Team: Bag Masters\nAway Team: Throwin
 g Bags\nHome Score: 3\nAway Score: 21
END:VEVENT
BEGIN:VEVENT
UID:15479075@ezleagues.ezfacility.com
DTSTAMP:20260426T034916Z
CREATED:20260426T034916Z
DTSTART:20231215T201000Z
DTEND:20231215T211000Z
LOCATION:Turf 2
CONTACT:
SUMMARY:C-Bags VS. Throwing Bags
DESCRIPTION:League Name: Cornhole Recreational (December 2023)\nGame Type: 
 Regular\nGame Status: Complete\nHome Team: C-Bags\nAway Team: Throwing Bag
 s\nHome Score: 20\nAway Score: 21
END:VEVENT
BEGIN:VEVENT
UID:15479109@ezleagues.ezfacility.com
DTSTAMP:20260426T034916Z
CREATED:20260426T034916Z
DTSTART:20231215T202000Z
DTEND:20231215T212000Z
LOCATION:Turf 2
CONTACT:
SUMMARY:Hiphopanonymous VS. Throwing Bags
DESCRIPTION:League Name: Cornhole Recreational (December 2023)\nGame Type: 
 Regular\nGame Status: Complete\nHome Team: Hiphopanonymous\nAway Team: Thr
 owing Bags\nHome Score: 3\nAway Score: 21
END:VEVENT
BEGIN:VEVENT
UID:15490540@ezleagues.ezfacility.com
DTSTAMP:20260426T034916Z
CREATED:20260426T034916Z
DTSTART:20231222T200000Z
DTEND:20231222T210000Z
LOCATION:Turf 2
CONTACT:
SUMMARY:Four Bagger VS. Throwing Bags
DESCRIPTION:League Name: Cornhole Recreational (December 2023)\nGame Type: 
 Regular\nGame Status: Complete\nHome Team: Four Bagger\nAway Team: Throwin
 g Bags\nHome Score: 12\nAway Score: 21
END:VEVENT
BEGIN:VEVENT
UID:15490565@ezleagues.ezfacility.com
DTSTAMP:20260426T034916Z
CREATED:20260426T034916Z
DTSTART:20231222T201000Z
DTEND:20231222T211000Z
LOCATION:Turf 2
CONTACT:
SUMMARY:All In VS. Throwing Bags
DESCRIPTION:League Name: Cornhole Recreational (December 2023)\nGame Type: 
 Regular\nGame Status: Complete\nHome Team: All In\nAway Team: Throwing Bag
 s\nHome Score: 0\nAway Score: 21
END:VEVENT
BEGIN:VEVENT
UID:15490579@ezleagues.ezfacility.com
DTSTAMP:20260426T034916Z
CREATED:20260426T034916Z
DTSTART:20231222T202000Z
DTEND:20231222T212000Z
LOCATION:Turf 2
CONTACT:
SUMMARY:Beers and Bags VS. Throwing Bags
DESCRIPTION:League Name: Cornhole Recreational (December 2023)\nGame Type: 
 Regular\nGame Status: Complete\nHome Team: Beers and Bags\nAway Team: Thro
 wing Bags\nHome Score: 15\nAway Score: 21
END:VEVENT
BEGIN:VEVENT
UID:15508110@ezleagues.ezfacility.com
DTSTAMP:20260426T034916Z
CREATED:20260426T034916Z
DTSTART:20231229T200000Z
DTEND:20231229T210000Z
LOCATION:Turf 2
CONTACT:
SUMMARY:Reynolds Bags VS. Throwing Bags
DESCRIPTION:League Name: Cornhole Recreational (December 2023)\nGame Type: 
 Regular\nGame Status: Complete\nHome Team: Reynolds Bags\nAway Team: Throw
 ing Bags\nHome Score: 21\nAway Score: 14
END:VEVENT
BEGIN:VEVENT
UID:15508124@ezleagues.ezfacility.com
DTSTAMP:20260426T034916Z
CREATED:20260426T034916Z
DTSTART:20231229T201000Z
DTEND:20231229T211000Z
LOCATION:Turf 2
CONTACT:
SUMMARY:The Swingers VS. Throwing Bags
DESCRIPTION:League Name: Cornhole Recreational (December 2023)\nGame Type: 
 Regular\nGame Status: Complete\nHome Team: The Swingers\nAway Team: Throwi
 ng Bags\nHome Score: 20\nAway Score: 21
END:VEVENT
BEGIN:VEVENT
UID:15508172@ezleagues.ezfacility.com
DTSTAMP:20260426T034916Z
CREATED:20260426T034916Z
DTSTART:20231229T202000Z
DTEND:20231229T212000Z
LOCATION:Turf 2
CONTACT:
SUMMARY:Boss of the Toss VS. Throwing Bags
DESCRIPTION:League Name: Cornhole Recreational (December 2023)\nGame Type: 
 Regular\nGame Status: Complete\nHome Team: Boss of the Toss\nAway Team: Th
 rowing Bags\nHome Score: 9\nAway Score: 21
END:VEVENT
END:VCALENDAR
