BEGIN:VCALENDAR
VERSION:2.0
PRODID:-//EZFacility.com, Inc.//EZL 2.5.5.28621
BEGIN:VEVENT
UID:15467161@ezleagues.ezfacility.com
DTSTAMP:20260426T033703Z
CREATED:20260426T033703Z
DTSTART:20231203T180000Z
DTEND:20231203T184500Z
LOCATION:VA Army National Guard Field 2
CONTACT:
SUMMARY:GSM United VS. F4C Juniors
DESCRIPTION:League Name: 2015/2016 Boys Rec\nGame Type: Regular\nGame Statu
 s: Complete\nHome Team: GSM United\nAway Team: F4C Juniors\nHome Score: 3\
 nAway Score: 0
END:VEVENT
BEGIN:VEVENT
UID:15452526@ezleagues.ezfacility.com
DTSTAMP:20260426T033703Z
CREATED:20260426T033703Z
DTSTART:20231217T150500Z
DTEND:20231217T155000Z
LOCATION: Field 3
CONTACT:Gelles
SUMMARY:Sharks VS. GSM United
DESCRIPTION:League Name: 2015/2016 Boys Rec\nGame Type: Regular\nGame Statu
 s: Complete\nHome Team: Sharks\nAway Team: GSM United\nHome Score: 0\nAway
  Score: 13
END:VEVENT
BEGIN:VEVENT
UID:15452528@ezleagues.ezfacility.com
DTSTAMP:20260426T033703Z
CREATED:20260426T033703Z
DTSTART:20231223T220000Z
DTEND:20231223T224500Z
LOCATION:Field 1
CONTACT:Cazun
SUMMARY:Gaithersburg SS VS. GSM United
DESCRIPTION:League Name: 2015/2016 Boys Rec\nGame Type: Regular\nGame Statu
 s: Complete\nHome Team: Gaithersburg SS\nAway Team: GSM United\nHome Score
 : 12\nAway Score: 1
END:VEVENT
BEGIN:VEVENT
UID:15452551@ezleagues.ezfacility.com
DTSTAMP:20260426T033703Z
CREATED:20260426T033703Z
DTSTART:20231231T164000Z
DTEND:20231231T172500Z
LOCATION:Field 1
CONTACT:Pedemonte
SUMMARY:Elite Kickers Red VS. GSM United
DESCRIPTION:League Name: 2015/2016 Boys Rec\nGame Type: Regular\nGame Statu
 s: Complete\nHome Team: Elite Kickers Red\nAway Team: GSM United\nHome Sco
 re: 2\nAway Score: 13
END:VEVENT
BEGIN:VEVENT
UID:15452552@ezleagues.ezfacility.com
DTSTAMP:20260426T033703Z
CREATED:20260426T033703Z
DTSTART:20240106T120000Z
DTEND:20240106T124500Z
LOCATION:VA Army National Guard Field 2
CONTACT:Pedemonte
SUMMARY:Lions VS. GSM United
DESCRIPTION:League Name: 2015/2016 Boys Rec\nGame Type: Regular\nGame Statu
 s: Complete\nHome Team: Lions\nAway Team: GSM United\nHome Score: 4\nAway 
 Score: 4
END:VEVENT
BEGIN:VEVENT
UID:15453496@ezleagues.ezfacility.com
DTSTAMP:20260426T033703Z
CREATED:20260426T033703Z
DTSTART:20240113T184500Z
DTEND:20240113T193000Z
LOCATION:VA Army National Guard Field 2
CONTACT:Cazun
SUMMARY:Super Campeones VS. GSM United
DESCRIPTION:League Name: 2015/2016 Boys Rec\nGame Type: Postseason\nGame St
 atus: Complete\nHome Team: Super Campeones\nAway Team: GSM United\nHome Sc
 ore: 3\nAway Score: 6
END:VEVENT
BEGIN:VEVENT
UID:15453499@ezleagues.ezfacility.com
DTSTAMP:20260426T033703Z
CREATED:20260426T033703Z
DTSTART:20240120T140000Z
DTEND:20240120T144500Z
LOCATION:VA Army National Guard Field 2
CONTACT:Gelles
SUMMARY:Gaithersburg SS VS. GSM United
DESCRIPTION:League Name: 2015/2016 Boys Rec\nGame Type: Postseason\nGame St
 atus: Complete\nHome Team: Gaithersburg SS\nAway Team: GSM United\nHome Sc
 ore: 9\nAway Score: 0
END:VEVENT
END:VCALENDAR
