BEGIN:VCALENDAR
VERSION:2.0
PRODID:-//EZFacility.com, Inc.//EZL 2.5.5.28621
BEGIN:VEVENT
UID:15452517@ezleagues.ezfacility.com
DTSTAMP:20260426T033643Z
CREATED:20260426T033643Z
DTSTART:20231210T155000Z
DTEND:20231210T163500Z
LOCATION: Field 3
CONTACT:Jones
SUMMARY:Sharks VS. Lions
DESCRIPTION:League Name: 2015/2016 Boys Rec\nGame Type: Regular\nGame Statu
 s: Complete\nHome Team: Sharks\nAway Team: Lions\nHome Score: 0\nAway Scor
 e: 15
END:VEVENT
BEGIN:VEVENT
UID:15452526@ezleagues.ezfacility.com
DTSTAMP:20260426T033643Z
CREATED:20260426T033643Z
DTSTART:20231217T150500Z
DTEND:20231217T155000Z
LOCATION: Field 3
CONTACT:Gelles
SUMMARY:Sharks VS. GSM United
DESCRIPTION:League Name: 2015/2016 Boys Rec\nGame Type: Regular\nGame Statu
 s: Complete\nHome Team: Sharks\nAway Team: GSM United\nHome Score: 0\nAway
  Score: 13
END:VEVENT
BEGIN:VEVENT
UID:15452530@ezleagues.ezfacility.com
DTSTAMP:20260426T033643Z
CREATED:20260426T033643Z
DTSTART:20231230T172500Z
DTEND:20231230T181000Z
LOCATION: Field 3
CONTACT:Huber
SUMMARY:Sharks VS. Super Campeones
DESCRIPTION:League Name: 2015/2016 Boys Rec\nGame Type: Regular\nGame Statu
 s: Complete\nHome Team: Sharks\nAway Team: Super Campeones\nHome Score: 3\
 nAway Score: 7
END:VEVENT
BEGIN:VEVENT
UID:15452544@ezleagues.ezfacility.com
DTSTAMP:20260426T033643Z
CREATED:20260426T033643Z
DTSTART:20231231T194500Z
DTEND:20231231T203000Z
LOCATION: Field 3
CONTACT:Bachir
SUMMARY:Gaithersburg SS VS. Sharks
DESCRIPTION:League Name: 2015/2016 Boys Rec\nGame Type: Regular\nGame Statu
 s: Complete\nHome Team: Gaithersburg SS\nAway Team: Sharks\nHome Score: 15
 \nAway Score: 1
END:VEVENT
BEGIN:VEVENT
UID:15452920@ezleagues.ezfacility.com
DTSTAMP:20260426T033643Z
CREATED:20260426T033643Z
DTSTART:20240106T234000Z
DTEND:20240107T002500Z
LOCATION:VA Army National Guard Field 2
CONTACT:Bachir
SUMMARY:Sharks VS. F4C Juniors
DESCRIPTION:League Name: 2015/2016 Boys Rec\nGame Type: Regular\nGame Statu
 s: Complete\nHome Team: Sharks\nAway Team: F4C Juniors\nHome Score: 4\nAwa
 y Score: 4
END:VEVENT
BEGIN:VEVENT
UID:15453497@ezleagues.ezfacility.com
DTSTAMP:20260426T033643Z
CREATED:20260426T033643Z
DTSTART:20240113T125000Z
DTEND:20240113T133500Z
LOCATION:VA Army National Guard Field 2
CONTACT:Pedemonte
SUMMARY:Firecrackers VS. Sharks
DESCRIPTION:League Name: 2015/2016 Boys Rec\nGame Type: Postseason\nGame St
 atus: Complete\nHome Team: Firecrackers\nAway Team: Sharks\nHome Score: 2\
 nAway Score: 14
END:VEVENT
BEGIN:VEVENT
UID:15453500@ezleagues.ezfacility.com
DTSTAMP:20260426T033643Z
CREATED:20260426T033643Z
DTSTART:20240120T131500Z
DTEND:20240120T140000Z
LOCATION:VA Army National Guard Field 2
CONTACT:Gelles\, Sampson
SUMMARY:Sharks VS. F4C Juniors
DESCRIPTION:League Name: 2015/2016 Boys Rec\nGame Type: Postseason\nGame St
 atus: Complete\nHome Team: Sharks\nAway Team: F4C Juniors\nHome Score: 4\n
 Away Score: 3
END:VEVENT
END:VCALENDAR
