BEGIN:VCALENDAR
VERSION:2.0
PRODID:-//EZFacility.com, Inc.//EZL 2.5.5.28621
BEGIN:VEVENT
UID:15452521@ezleagues.ezfacility.com
DTSTAMP:20260424T043922Z
CREATED:20260424T043922Z
DTSTART:20231210T124000Z
DTEND:20231210T132500Z
LOCATION:Field 1
CONTACT:Ramirez
SUMMARY:Elite Kickers Red VS. Firecrackers
DESCRIPTION:League Name: 2015/2016 Boys Rec\nGame Type: Regular\nGame Statu
 s: Complete\nHome Team: Elite Kickers Red\nAway Team: Firecrackers\nHome S
 core: 5\nAway Score: 2
END:VEVENT
BEGIN:VEVENT
UID:15452525@ezleagues.ezfacility.com
DTSTAMP:20260424T043922Z
CREATED:20260424T043922Z
DTSTART:20231217T192000Z
DTEND:20231217T200500Z
LOCATION:VA Army National Guard Field 2
CONTACT:Cazun
SUMMARY:Elite Kickers Red VS. Gaithersburg SS
DESCRIPTION:League Name: 2015/2016 Boys Rec\nGame Type: Regular\nGame Statu
 s: Complete\nHome Team: Elite Kickers Red\nAway Team: Gaithersburg SS\nHom
 e Score: 1\nAway Score: 13
END:VEVENT
BEGIN:VEVENT
UID:15452551@ezleagues.ezfacility.com
DTSTAMP:20260424T043922Z
CREATED:20260424T043922Z
DTSTART:20231231T164000Z
DTEND:20231231T172500Z
LOCATION:Field 1
CONTACT:Pedemonte
SUMMARY:Elite Kickers Red VS. GSM United
DESCRIPTION:League Name: 2015/2016 Boys Rec\nGame Type: Regular\nGame Statu
 s: Complete\nHome Team: Elite Kickers Red\nAway Team: GSM United\nHome Sco
 re: 2\nAway Score: 13
END:VEVENT
BEGIN:VEVENT
UID:15452921@ezleagues.ezfacility.com
DTSTAMP:20260424T043922Z
CREATED:20260424T043922Z
DTSTART:20240106T142000Z
DTEND:20240106T150500Z
LOCATION:VA Army National Guard Field 2
CONTACT:Pedemonte
SUMMARY:Super Campeones VS. Elite Kickers Red
DESCRIPTION:League Name: 2015/2016 Boys Rec\nGame Type: Regular\nGame Statu
 s: Complete\nHome Team: Super Campeones\nAway Team: Elite Kickers Red\nHom
 e Score: 7\nAway Score: 3
END:VEVENT
BEGIN:VEVENT
UID:15452529@ezleagues.ezfacility.com
DTSTAMP:20260424T043922Z
CREATED:20260424T043922Z
DTSTART:20240107T194000Z
DTEND:20240107T202500Z
LOCATION:Field 1
CONTACT:Gelles
SUMMARY:Elite Kickers Red VS. Lions
DESCRIPTION:League Name: 2015/2016 Boys Rec\nGame Type: Regular\nGame Statu
 s: Complete\nHome Team: Elite Kickers Red\nAway Team: Lions\nHome Score: 8
 \nAway Score: 10
END:VEVENT
BEGIN:VEVENT
UID:15453498@ezleagues.ezfacility.com
DTSTAMP:20260424T043922Z
CREATED:20260424T043922Z
DTSTART:20240113T133500Z
DTEND:20240113T142000Z
LOCATION:VA Army National Guard Field 2
CONTACT:Pedemonte
SUMMARY:F4C Juniors VS. Elite Kickers Red
DESCRIPTION:League Name: 2015/2016 Boys Rec\nGame Type: Postseason\nGame St
 atus: Complete\nHome Team: F4C Juniors\nAway Team: Elite Kickers Red\nHome
  Score: 6\nAway Score: 0
END:VEVENT
END:VCALENDAR
