BEGIN:VCALENDAR
VERSION:2.0
PRODID:-//EZFacility.com, Inc.//EZL 2.5.5.28621
BEGIN:VEVENT
UID:15452517@ezleagues.ezfacility.com
DTSTAMP:20260423T163014Z
CREATED:20260423T163014Z
DTSTART:20231210T155000Z
DTEND:20231210T163500Z
LOCATION: Field 3
CONTACT:Jones
SUMMARY:Sharks VS. Lions
DESCRIPTION:League Name: 2015/2016 Boys Rec\nGame Type: Regular\nGame Statu
 s: Complete\nHome Team: Sharks\nAway Team: Lions\nHome Score: 0\nAway Scor
 e: 15
END:VEVENT
BEGIN:VEVENT
UID:15452527@ezleagues.ezfacility.com
DTSTAMP:20260423T163014Z
CREATED:20260423T163014Z
DTSTART:20231216T120000Z
DTEND:20231216T124500Z
LOCATION:VA Army National Guard Field 2
CONTACT:Pedemonte
SUMMARY:Firecrackers VS. Lions
DESCRIPTION:League Name: 2015/2016 Boys Rec\nGame Type: Regular\nGame Statu
 s: Complete\nHome Team: Firecrackers\nAway Team: Lions\nHome Score: 1\nAwa
 y Score: 17
END:VEVENT
BEGIN:VEVENT
UID:15452550@ezleagues.ezfacility.com
DTSTAMP:20260423T163014Z
CREATED:20260423T163014Z
DTSTART:20231231T155000Z
DTEND:20231231T163500Z
LOCATION:Field 1
CONTACT:Pedemonte
SUMMARY:Lions VS. F4C Juniors
DESCRIPTION:League Name: 2015/2016 Boys Rec\nGame Type: Regular\nGame Statu
 s: Complete\nHome Team: Lions\nAway Team: F4C Juniors\nHome Score: 6\nAway
  Score: 8
END:VEVENT
BEGIN:VEVENT
UID:15452552@ezleagues.ezfacility.com
DTSTAMP:20260423T163014Z
CREATED:20260423T163014Z
DTSTART:20240106T120000Z
DTEND:20240106T124500Z
LOCATION:VA Army National Guard Field 2
CONTACT:Pedemonte
SUMMARY:Lions VS. GSM United
DESCRIPTION:League Name: 2015/2016 Boys Rec\nGame Type: Regular\nGame Statu
 s: Complete\nHome Team: Lions\nAway Team: GSM United\nHome Score: 4\nAway 
 Score: 4
END:VEVENT
BEGIN:VEVENT
UID:15452529@ezleagues.ezfacility.com
DTSTAMP:20260423T163014Z
CREATED:20260423T163014Z
DTSTART:20240107T194000Z
DTEND:20240107T202500Z
LOCATION:Field 1
CONTACT:Gelles
SUMMARY:Elite Kickers Red VS. Lions
DESCRIPTION:League Name: 2015/2016 Boys Rec\nGame Type: Regular\nGame Statu
 s: Complete\nHome Team: Elite Kickers Red\nAway Team: Lions\nHome Score: 8
 \nAway Score: 10
END:VEVENT
BEGIN:VEVENT
UID:15453495@ezleagues.ezfacility.com
DTSTAMP:20260423T163014Z
CREATED:20260423T163014Z
DTSTART:20240113T180000Z
DTEND:20240113T184500Z
LOCATION:VA Army National Guard Field 2
CONTACT:Cazun
SUMMARY:Gaithersburg SS VS. Lions
DESCRIPTION:League Name: 2015/2016 Boys Rec\nGame Type: Postseason\nGame St
 atus: Complete\nHome Team: Gaithersburg SS\nAway Team: Lions\nHome Score: 
 13\nAway Score: 2
END:VEVENT
END:VCALENDAR
