BEGIN:VCALENDAR
VERSION:2.0
PRODID:-//EZFacility.com, Inc.//EZL 2.5.5.28621
BEGIN:VEVENT
UID:15455433@ezleagues.ezfacility.com
DTSTAMP:20260426T034931Z
CREATED:20260426T034931Z
DTSTART:20231203T212000Z
DTEND:20231203T220500Z
LOCATION: Field 3
CONTACT:
SUMMARY:Sterling Black VS. Herndon Red Travel
DESCRIPTION:League Name: 2009/2010 Boys Travel South\nGame Type: Regular\nG
 ame Status: Complete\nHome Team: Sterling Black\nAway Team: Herndon Red Tr
 avel\nHome Score: 14\nAway Score: 8
END:VEVENT
BEGIN:VEVENT
UID:15452593@ezleagues.ezfacility.com
DTSTAMP:20260426T034931Z
CREATED:20260426T034931Z
DTSTART:20231217T011000Z
DTEND:20231217T015500Z
LOCATION:VA Army National Guard Field 2
CONTACT:Cazun
SUMMARY:FC Dulles 10 VS. Herndon Red Travel
DESCRIPTION:League Name: 2009/2010 Boys Travel South\nGame Type: Regular\nG
 ame Status: Complete\nHome Team: FC Dulles 10\nAway Team: Herndon Red Trav
 el\nHome Score: 7\nAway Score: 4
END:VEVENT
BEGIN:VEVENT
UID:15455434@ezleagues.ezfacility.com
DTSTAMP:20260426T034931Z
CREATED:20260426T034931Z
DTSTART:20231223T233000Z
DTEND:20231224T001500Z
LOCATION:Field 1
CONTACT:Bachir
SUMMARY:LS10 Silver VS. Herndon Red Travel
DESCRIPTION:League Name: 2009/2010 Boys Travel South\nGame Type: Regular\nG
 ame Status: Complete\nHome Team: LS10 Silver\nAway Team: Herndon Red Trave
 l\nHome Score: 6\nAway Score: 13
END:VEVENT
BEGIN:VEVENT
UID:15455438@ezleagues.ezfacility.com
DTSTAMP:20260426T034931Z
CREATED:20260426T034931Z
DTSTART:20231231T020000Z
DTEND:20231231T024500Z
LOCATION: Field 3
CONTACT:Jones
SUMMARY:Stingrays VS. Herndon Red Travel
DESCRIPTION:League Name: 2009/2010 Boys Travel South\nGame Type: Regular\nG
 ame Status: Complete\nHome Team: Stingrays\nAway Team: Herndon Red Travel\
 nHome Score: 5\nAway Score: 8
END:VEVENT
BEGIN:VEVENT
UID:15455440@ezleagues.ezfacility.com
DTSTAMP:20260426T034931Z
CREATED:20260426T034931Z
DTSTART:20240107T220500Z
DTEND:20240107T225000Z
LOCATION: Field 3
CONTACT:Cazun
SUMMARY:Herndon Red Travel VS. Sterling Black
DESCRIPTION:League Name: 2009/2010 Boys Travel South\nGame Type: Regular\nG
 ame Status: Complete\nHome Team: Herndon Red Travel\nAway Team: Sterling B
 lack\nHome Score: 3\nAway Score: 8
END:VEVENT
BEGIN:VEVENT
UID:15455442@ezleagues.ezfacility.com
DTSTAMP:20260426T034931Z
CREATED:20260426T034931Z
DTSTART:20240114T234000Z
DTEND:20240115T002500Z
LOCATION: Field 3
CONTACT:Cazun
SUMMARY:Herndon Red Travel VS. LS10 Silver
DESCRIPTION:League Name: 2009/2010 Boys Travel South\nGame Type: Regular\nG
 ame Status: Complete\nHome Team: Herndon Red Travel\nAway Team: LS10 Silve
 r\nHome Score: 6\nAway Score: 2
END:VEVENT
BEGIN:VEVENT
UID:15455445@ezleagues.ezfacility.com
DTSTAMP:20260426T034931Z
CREATED:20260426T034931Z
DTSTART:20240121T013000Z
DTEND:20240121T021500Z
LOCATION: Field 3
CONTACT:Sampson
SUMMARY:FC Dulles 10 VS. Herndon Red Travel
DESCRIPTION:League Name: 2009/2010 Boys Travel South\nGame Type: Postseason
 \nGame Status: Complete\nHome Team: FC Dulles 10\nAway Team: Herndon Red T
 ravel\nHome Score: 7\nAway Score: 4
END:VEVENT
END:VCALENDAR
