BEGIN:VCALENDAR
VERSION:2.0
PRODID:-//EZFacility.com, Inc.//EZL 2.5.5.28621
BEGIN:VEVENT
UID:15452649@ezleagues.ezfacility.com
DTSTAMP:20260424T043259Z
CREATED:20260424T043259Z
DTSTART:20231210T150500Z
DTEND:20231210T155000Z
LOCATION: Field 3
CONTACT:Jones
SUMMARY:Nuggets VS. Virginia Revolution 2013G Gold
DESCRIPTION:League Name: 2013/2014 Girls \nGame Type: Regular\nGame Status:
  Complete\nHome Team: Nuggets\nAway Team: Virginia Revolution 2013G Gold\n
 Home Score: 0\nAway Score: 21
END:VEVENT
BEGIN:VEVENT
UID:15452651@ezleagues.ezfacility.com
DTSTAMP:20260424T043259Z
CREATED:20260424T043259Z
DTSTART:20231217T155000Z
DTEND:20231217T163500Z
LOCATION: Field 3
CONTACT:Gelles
SUMMARY:Nuggets VS. Poppers
DESCRIPTION:League Name: 2013/2014 Girls \nGame Type: Regular\nGame Status:
  Complete\nHome Team: Nuggets\nAway Team: Poppers\nHome Score: 2\nAway Sco
 re: 8
END:VEVENT
BEGIN:VEVENT
UID:15452655@ezleagues.ezfacility.com
DTSTAMP:20260424T043259Z
CREATED:20260424T043259Z
DTSTART:20231230T164000Z
DTEND:20231230T172500Z
LOCATION: Field 3
CONTACT:Huber
SUMMARY:Nuggets VS. Loudoun 2013G Gray
DESCRIPTION:League Name: 2013/2014 Girls \nGame Type: Regular\nGame Status:
  Complete\nHome Team: Nuggets\nAway Team: Loudoun 2013G Gray\nHome Score: 
 0\nAway Score: 14
END:VEVENT
BEGIN:VEVENT
UID:15452661@ezleagues.ezfacility.com
DTSTAMP:20260424T043259Z
CREATED:20260424T043259Z
DTSTART:20231231T190000Z
DTEND:20231231T194500Z
LOCATION:VA Army National Guard Field 2
CONTACT:Bachir
SUMMARY:Nuggets VS. United
DESCRIPTION:League Name: 2013/2014 Girls \nGame Type: Regular\nGame Status:
  Complete\nHome Team: Nuggets\nAway Team: United\nHome Score: 0\nAway Scor
 e: 14
END:VEVENT
BEGIN:VEVENT
UID:15452664@ezleagues.ezfacility.com
DTSTAMP:20260424T043259Z
CREATED:20260424T043259Z
DTSTART:20240106T125500Z
DTEND:20240106T135000Z
LOCATION: Field 3
CONTACT:Huber
SUMMARY:Galaxy VS. Nuggets
DESCRIPTION:League Name: 2013/2014 Girls \nGame Type: Regular\nGame Status:
  Complete\nHome Team: Galaxy\nAway Team: Nuggets\nHome Score: 1\nAway Scor
 e: 3
END:VEVENT
BEGIN:VEVENT
UID:15455655@ezleagues.ezfacility.com
DTSTAMP:20260424T043259Z
CREATED:20260424T043259Z
DTSTART:20240120T121000Z
DTEND:20240120T125500Z
LOCATION: Field 3
CONTACT:Huber
SUMMARY:Loudoun 2013G Gray VS. Nuggets
DESCRIPTION:League Name: 2013/2014 Girls \nGame Type: Postseason\nGame Stat
 us: Complete\nHome Team: Loudoun 2013G Gray\nAway Team: Nuggets\nHome Scor
 e: 7\nAway Score: 0
END:VEVENT
END:VCALENDAR
