BEGIN:VCALENDAR
VERSION:2.0
PRODID:-//EZFacility.com, Inc.//EZL 2.5.5.28621
BEGIN:VEVENT
UID:15456748@ezleagues.ezfacility.com
DTSTAMP:20260424T043247Z
CREATED:20260424T043247Z
DTSTART:20231204T010000Z
DTEND:20231204T020000Z
LOCATION:West Rink
CONTACT:
SUMMARY:Lost Lake VS. Wesley Snipers
DESCRIPTION:League Name: Sunday D League (start 12/3/23)\nGame Type: Regula
 r\nGame Status: Complete\nHome Team: Lost Lake\nAway Team: Wesley Snipers\
 nHome Score: 2\nAway Score: 6
END:VEVENT
BEGIN:VEVENT
UID:15456752@ezleagues.ezfacility.com
DTSTAMP:20260424T043247Z
CREATED:20260424T043247Z
DTSTART:20231211T033000Z
DTEND:20231211T043000Z
LOCATION:West Rink
CONTACT:
SUMMARY:Outlaws VS. Lost Lake
DESCRIPTION:League Name: Sunday D League (start 12/3/23)\nGame Type: Regula
 r\nGame Status: Complete\nHome Team: Outlaws\nAway Team: Lost Lake\nHome S
 core: 9\nAway Score: 0
END:VEVENT
BEGIN:VEVENT
UID:15456758@ezleagues.ezfacility.com
DTSTAMP:20260424T043247Z
CREATED:20260424T043247Z
DTSTART:20231217T211500Z
DTEND:20231217T221500Z
LOCATION:West Rink
CONTACT:
SUMMARY:Crab Trap VS. Lost Lake
DESCRIPTION:League Name: Sunday D League (start 12/3/23)\nGame Type: Regula
 r\nGame Status: Complete\nHome Team: Crab Trap\nAway Team: Lost Lake\nHome
  Score: 4\nAway Score: 5
END:VEVENT
BEGIN:VEVENT
UID:15456776@ezleagues.ezfacility.com
DTSTAMP:20260424T043247Z
CREATED:20260424T043247Z
DTSTART:20240108T033000Z
DTEND:20240108T043000Z
LOCATION:East Rink
CONTACT:
SUMMARY:Moose  VS. Lost Lake
DESCRIPTION:League Name: Sunday D League (start 12/3/23)\nGame Type: Regula
 r\nGame Status: Complete\nHome Team: Moose \nAway Team: Lost Lake\nHome Sc
 ore: 1\nAway Score: 5
END:VEVENT
BEGIN:VEVENT
UID:15456781@ezleagues.ezfacility.com
DTSTAMP:20260424T043247Z
CREATED:20260424T043247Z
DTSTART:20240114T211500Z
DTEND:20240114T221500Z
LOCATION:East Rink
CONTACT:
SUMMARY:Lost Lake VS. Ice Hawks
DESCRIPTION:League Name: Sunday D League (start 12/3/23)\nGame Type: Regula
 r\nGame Status: Complete\nHome Team: Lost Lake\nAway Team: Ice Hawks\nHome
  Score: 1\nAway Score: 3
END:VEVENT
BEGIN:VEVENT
UID:15456785@ezleagues.ezfacility.com
DTSTAMP:20260424T043247Z
CREATED:20260424T043247Z
DTSTART:20240122T044500Z
DTEND:20240122T054500Z
LOCATION:East Rink
CONTACT:
SUMMARY:Lost Lake VS. Whiskey Dekes
DESCRIPTION:League Name: Sunday D League (start 12/3/23)\nGame Type: Regula
 r\nGame Status: Complete\nHome Team: Lost Lake\nAway Team: Whiskey Dekes\n
 Home Score: 2\nAway Score: 8
END:VEVENT
BEGIN:VEVENT
UID:15456789@ezleagues.ezfacility.com
DTSTAMP:20260424T043247Z
CREATED:20260424T043247Z
DTSTART:20240129T044500Z
DTEND:20240129T054500Z
LOCATION:East Rink
CONTACT:
SUMMARY:Lost Lake VS. Howlers
DESCRIPTION:League Name: Sunday D League (start 12/3/23)\nGame Type: Regula
 r\nGame Status: Complete\nHome Team: Lost Lake\nAway Team: Howlers\nHome S
 core: 4\nAway Score: 2
END:VEVENT
BEGIN:VEVENT
UID:15456793@ezleagues.ezfacility.com
DTSTAMP:20260424T043247Z
CREATED:20260424T043247Z
DTSTART:20240204T223000Z
DTEND:20240204T233000Z
LOCATION:East Rink
CONTACT:
SUMMARY:Wesley Snipers VS. Lost Lake
DESCRIPTION:League Name: Sunday D League (start 12/3/23)\nGame Type: Regula
 r\nGame Status: Complete\nHome Team: Wesley Snipers\nAway Team: Lost Lake\
 nHome Score: 7\nAway Score: 3
END:VEVENT
BEGIN:VEVENT
UID:15456803@ezleagues.ezfacility.com
DTSTAMP:20260424T043247Z
CREATED:20260424T043247Z
DTSTART:20240219T010000Z
DTEND:20240219T020000Z
LOCATION:West Rink
CONTACT:
SUMMARY:Lost Lake VS. Crab Trap
DESCRIPTION:League Name: Sunday D League (start 12/3/23)\nGame Type: Regula
 r\nGame Status: Complete\nHome Team: Lost Lake\nAway Team: Crab Trap\nHome
  Score: 7\nAway Score: 6
END:VEVENT
BEGIN:VEVENT
UID:15456809@ezleagues.ezfacility.com
DTSTAMP:20260424T043247Z
CREATED:20260424T043247Z
DTSTART:20240225T223000Z
DTEND:20240225T233000Z
LOCATION:East Rink
CONTACT:
SUMMARY:Lost Lake VS. Puck Norris
DESCRIPTION:League Name: Sunday D League (start 12/3/23)\nGame Type: Regula
 r\nGame Status: Complete\nHome Team: Lost Lake\nAway Team: Puck Norris\nHo
 me Score: 2\nAway Score: 8
END:VEVENT
BEGIN:VEVENT
UID:15456815@ezleagues.ezfacility.com
DTSTAMP:20260424T043247Z
CREATED:20260424T043247Z
DTSTART:20240304T021500Z
DTEND:20240304T031500Z
LOCATION:East Rink
CONTACT:
SUMMARY:Lost Lake VS. Jurassic Puck
DESCRIPTION:League Name: Sunday D League (start 12/3/23)\nGame Type: Regula
 r\nGame Status: Complete\nHome Team: Lost Lake\nAway Team: Jurassic Puck\n
 Home Score: 2\nAway Score: 5
END:VEVENT
BEGIN:VEVENT
UID:15456821@ezleagues.ezfacility.com
DTSTAMP:20260424T043247Z
CREATED:20260424T043247Z
DTSTART:20240310T213000Z
DTEND:20240310T223000Z
LOCATION:West Rink
CONTACT:
SUMMARY:Lost Lake VS. Moose 
DESCRIPTION:League Name: Sunday D League (start 12/3/23)\nGame Type: Regula
 r\nGame Status: Complete\nHome Team: Lost Lake\nAway Team: Moose \nHome Sc
 ore: 4\nAway Score: 5
END:VEVENT
BEGIN:VEVENT
UID:15456826@ezleagues.ezfacility.com
DTSTAMP:20260424T043247Z
CREATED:20260424T043247Z
DTSTART:20240318T000000Z
DTEND:20240318T010000Z
LOCATION:East Rink
CONTACT:
SUMMARY:Ice Hawks VS. Lost Lake
DESCRIPTION:League Name: Sunday D League (start 12/3/23)\nGame Type: Regula
 r\nGame Status: Complete\nHome Team: Ice Hawks\nAway Team: Lost Lake\nHome
  Score: 4\nAway Score: 6
END:VEVENT
BEGIN:VEVENT
UID:15456830@ezleagues.ezfacility.com
DTSTAMP:20260424T043247Z
CREATED:20260424T043247Z
DTSTART:20240325T034500Z
DTEND:20240325T044500Z
LOCATION:East Rink
CONTACT:
SUMMARY:Whiskey Dekes VS. Lost Lake
DESCRIPTION:League Name: Sunday D League (start 12/3/23)\nGame Type: Regula
 r\nGame Status: Complete\nHome Team: Whiskey Dekes\nAway Team: Lost Lake\n
 Home Score: 2\nAway Score: 4
END:VEVENT
BEGIN:VEVENT
UID:15456832@ezleagues.ezfacility.com
DTSTAMP:20260424T043247Z
CREATED:20260424T043247Z
DTSTART:20240401T004500Z
DTEND:20240401T014500Z
LOCATION:East Rink
CONTACT:
SUMMARY:Wesley Snipers VS. Lost Lake
DESCRIPTION:League Name: Sunday D League (start 12/3/23)\nGame Type: Regula
 r\nGame Status: Complete\nHome Team: Wesley Snipers\nAway Team: Lost Lake\
 nHome Score: 5\nAway Score: 4
END:VEVENT
BEGIN:VEVENT
UID:15456797@ezleagues.ezfacility.com
DTSTAMP:20260424T043247Z
CREATED:20260424T043247Z
DTSTART:20240407T224500Z
DTEND:20240407T234500Z
LOCATION:East Rink
CONTACT:
SUMMARY:Lost Lake VS. Outlaws
DESCRIPTION:League Name: Sunday D League (start 12/3/23)\nGame Type: Regula
 r\nGame Status: Complete\nHome Team: Lost Lake\nAway Team: Outlaws\nHome S
 core: 2\nAway Score: 3
END:VEVENT
BEGIN:VEVENT
UID:15456764@ezleagues.ezfacility.com
DTSTAMP:20260424T043247Z
CREATED:20260424T043247Z
DTSTART:20240415T000000Z
DTEND:20240415T010000Z
LOCATION:West Rink
CONTACT:
SUMMARY:Puck Norris VS. Lost Lake
DESCRIPTION:League Name: Sunday D League (start 12/3/23)\nGame Type: Regula
 r\nGame Status: Complete\nHome Team: Puck Norris\nAway Team: Lost Lake\nHo
 me Score: 3\nAway Score: 1
END:VEVENT
BEGIN:VEVENT
UID:15456770@ezleagues.ezfacility.com
DTSTAMP:20260424T043247Z
CREATED:20260424T043247Z
DTSTART:20240421T213000Z
DTEND:20240421T223000Z
LOCATION:West Rink
CONTACT:
SUMMARY:Jurassic Puck VS. Lost Lake
DESCRIPTION:League Name: Sunday D League (start 12/3/23)\nGame Type: Regula
 r\nGame Status: Complete\nHome Team: Jurassic Puck\nAway Team: Lost Lake\n
 Home Score: 2\nAway Score: 1
END:VEVENT
BEGIN:VEVENT
UID:15697675@ezleagues.ezfacility.com
DTSTAMP:20260424T043247Z
CREATED:20260424T043247Z
DTSTART:20240428T190000Z
DTEND:20240428T200000Z
LOCATION:East Rink
CONTACT:
SUMMARY:Lost Lake VS. Howlers
DESCRIPTION:League Name: Sunday D League (start 12/3/23)\nGame Type: Regula
 r\nGame Status: Complete\nHome Team: Lost Lake\nAway Team: Howlers\nHome S
 core: 5\nAway Score: 3
END:VEVENT
BEGIN:VEVENT
UID:15730434@ezleagues.ezfacility.com
DTSTAMP:20260424T043247Z
CREATED:20260424T043247Z
DTSTART:20240505T190000Z
DTEND:20240505T200000Z
LOCATION:East Rink
CONTACT:
SUMMARY:Wesley Snipers VS. Lost Lake
DESCRIPTION:League Name: Sunday D League (start 12/3/23)\nGame Type: Regula
 r\nGame Status: Complete\nHome Team: Wesley Snipers\nAway Team: Lost Lake\
 nHome Score: 6\nAway Score: 4
END:VEVENT
BEGIN:VEVENT
UID:15734969@ezleagues.ezfacility.com
DTSTAMP:20260424T043247Z
CREATED:20260424T043247Z
DTSTART:20240512T224500Z
DTEND:20240512T234500Z
LOCATION:West Rink
CONTACT:
SUMMARY:Crab Trap VS. Lost Lake
DESCRIPTION:League Name: Sunday D League (start 12/3/23)\nGame Type: Regula
 r\nGame Status: Pending\nHome Team: Crab Trap\nAway Team: Lost Lake\n
END:VEVENT
BEGIN:VEVENT
UID:15742829@ezleagues.ezfacility.com
DTSTAMP:20260424T043247Z
CREATED:20260424T043247Z
DTSTART:20240519T224500Z
DTEND:20240519T234500Z
LOCATION:West Rink
CONTACT:
SUMMARY:Crab Trap VS. Lost Lake
DESCRIPTION:League Name: Sunday D League (start 12/3/23)\nGame Type: Regula
 r\nGame Status: Complete\nHome Team: Crab Trap\nAway Team: Lost Lake\nHome
  Score: 2\nAway Score: 5
END:VEVENT
BEGIN:VEVENT
UID:15760337@ezleagues.ezfacility.com
DTSTAMP:20260424T043247Z
CREATED:20260424T043247Z
DTSTART:20240603T034500Z
DTEND:20240603T044500Z
LOCATION:West Rink
CONTACT:
SUMMARY:Moose  VS. Lost Lake
DESCRIPTION:League Name: Sunday D League (start 12/3/23)\nGame Type: Regula
 r\nGame Status: Complete\nHome Team: Moose \nAway Team: Lost Lake\nHome Sc
 ore: 3\nAway Score: 9
END:VEVENT
END:VCALENDAR
