BEGIN:VCALENDAR
VERSION:2.0
PRODID:-//EZFacility.com, Inc.//EZL 2.5.5.28621
BEGIN:VEVENT
UID:15459358@ezleagues.ezfacility.com
DTSTAMP:20260426T033757Z
CREATED:20260426T033757Z
DTSTART:20231210T210000Z
DTEND:20231210T214500Z
LOCATION:North Field
CONTACT:
SUMMARY:Aztlan VS. Fc Jaguares 
DESCRIPTION:League Name: United SL-Winter 2024-Segunda "B"\nGame Type: Regu
 lar\nGame Status: Complete\nHome Team: Aztlan\nAway Team: Fc Jaguares \nHo
 me Score: 6\nAway Score: 2
END:VEVENT
BEGIN:VEVENT
UID:15459383@ezleagues.ezfacility.com
DTSTAMP:20260426T033757Z
CREATED:20260426T033757Z
DTSTART:20231217T180000Z
DTEND:20231217T184500Z
LOCATION:South Field
CONTACT:
SUMMARY:Aztlan VS. Ham Fc
DESCRIPTION:League Name: United SL-Winter 2024-Segunda "B"\nGame Type: Regu
 lar\nGame Status: Complete\nHome Team: Aztlan\nAway Team: Ham Fc\nHome Sco
 re: 1\nAway Score: 5
END:VEVENT
BEGIN:VEVENT
UID:15497603@ezleagues.ezfacility.com
DTSTAMP:20260426T033757Z
CREATED:20260426T033757Z
DTSTART:20231231T214500Z
DTEND:20231231T223000Z
LOCATION:South Field
CONTACT:
SUMMARY:Aztlan VS. Las Palmas 
DESCRIPTION:League Name: United SL-Winter 2024-Segunda "B"\nGame Type: Regu
 lar\nGame Status: Complete\nHome Team: Aztlan\nAway Team: Las Palmas \nHom
 e Score: 3\nAway Score: 6
END:VEVENT
BEGIN:VEVENT
UID:15459458@ezleagues.ezfacility.com
DTSTAMP:20260426T033757Z
CREATED:20260426T033757Z
DTSTART:20240107T214500Z
DTEND:20240107T223000Z
LOCATION:North Field
CONTACT:
SUMMARY:Esteli F.C. VS. Aztlan
DESCRIPTION:League Name: United SL-Winter 2024-Segunda "B"\nGame Type: Regu
 lar\nGame Status: Complete\nHome Team: Esteli F.C.\nAway Team: Aztlan\nHom
 e Score: 3\nAway Score: 4
END:VEVENT
BEGIN:VEVENT
UID:15459483@ezleagues.ezfacility.com
DTSTAMP:20260426T033757Z
CREATED:20260426T033757Z
DTSTART:20240114T163000Z
DTEND:20240114T171500Z
LOCATION:South Field
CONTACT:
SUMMARY:SG Veracruz VS. Aztlan
DESCRIPTION:League Name: United SL-Winter 2024-Segunda "B"\nGame Type: Regu
 lar\nGame Status: Complete\nHome Team: SG Veracruz\nAway Team: Aztlan\nHom
 e Score: 3\nAway Score: 3
END:VEVENT
BEGIN:VEVENT
UID:15556856@ezleagues.ezfacility.com
DTSTAMP:20260426T033757Z
CREATED:20260426T033757Z
DTSTART:20240121T214500Z
DTEND:20240121T223000Z
LOCATION:North Field
CONTACT:
SUMMARY:Los Quiotes VS. Aztlan
DESCRIPTION:League Name: United SL-Winter 2024-Segunda "B"\nGame Type: Regu
 lar\nGame Status: Complete\nHome Team: Los Quiotes\nAway Team: Aztlan\nHom
 e Score: 8\nAway Score: 2
END:VEVENT
BEGIN:VEVENT
UID:15459533@ezleagues.ezfacility.com
DTSTAMP:20260426T033757Z
CREATED:20260426T033757Z
DTSTART:20240128T214500Z
DTEND:20240128T223000Z
LOCATION:North Field
CONTACT:
SUMMARY:Zona Rio Blanco VS. Aztlan
DESCRIPTION:League Name: United SL-Winter 2024-Segunda "B"\nGame Type: Regu
 lar\nGame Status: Complete\nHome Team: Zona Rio Blanco\nAway Team: Aztlan\
 nHome Score: 5\nAway Score: 2
END:VEVENT
BEGIN:VEVENT
UID:15459414@ezleagues.ezfacility.com
DTSTAMP:20260426T033757Z
CREATED:20260426T033757Z
DTSTART:20240204T163000Z
DTEND:20240204T171500Z
LOCATION:South Field
CONTACT:
SUMMARY:Durango Fc VS. Aztlan
DESCRIPTION:League Name: United SL-Winter 2024-Segunda "B"\nGame Type: Regu
 lar\nGame Status: Complete\nHome Team: Durango Fc\nAway Team: Aztlan\nHome
  Score: 6\nAway Score: 3
END:VEVENT
BEGIN:VEVENT
UID:15604802@ezleagues.ezfacility.com
DTSTAMP:20260426T033757Z
CREATED:20260426T033757Z
DTSTART:20240211T180000Z
DTEND:20240211T184500Z
LOCATION:South Field
CONTACT:
SUMMARY:Aztlan VS. Fc Jaguares 
DESCRIPTION:League Name: United SL-Winter 2024-Segunda "B"\nGame Type: Post
 season\nGame Status: Complete\nHome Team: Aztlan\nAway Team: Fc Jaguares \
 nHome Score: 3\nAway Score: 1
END:VEVENT
BEGIN:VEVENT
UID:15614905@ezleagues.ezfacility.com
DTSTAMP:20260426T033757Z
CREATED:20260426T033757Z
DTSTART:20240218T171500Z
DTEND:20240218T180000Z
LOCATION:South Field
CONTACT:
SUMMARY:SG Veracruz VS. Aztlan
DESCRIPTION:League Name: United SL-Winter 2024-Segunda "B"\nGame Type: Post
 season\nGame Status: Pending\nHome Team: SG Veracruz\nAway Team: Aztlan\n
END:VEVENT
END:VCALENDAR
