BEGIN:VCALENDAR
VERSION:2.0
PRODID:-//EZFacility.com, Inc.//EZL 2.5.5.28621
BEGIN:VEVENT
UID:15483337@ezleagues.ezfacility.com
DTSTAMP:20260426T033725Z
CREATED:20260426T033725Z
DTSTART:20240116T231500Z
DTEND:20240116T234500Z
LOCATION:Ice Rink
CONTACT:
SUMMARY:Here Comes the Broom VS. The Legion of Broom
DESCRIPTION:League Name: Broomball\nGame Type: Regular\nGame Status: Comple
 te\nHome Team: Here Comes the Broom\nAway Team: The Legion of Broom\nHome 
 Score: 1\nAway Score: 0
END:VEVENT
BEGIN:VEVENT
UID:15483343@ezleagues.ezfacility.com
DTSTAMP:20260426T033725Z
CREATED:20260426T033725Z
DTSTART:20240124T001500Z
DTEND:20240124T004500Z
LOCATION:Ice Rink
CONTACT:
SUMMARY:Here Comes the Broom VS. Sticks in Hand
DESCRIPTION:League Name: Broomball\nGame Type: Regular\nGame Status: Comple
 te\nHome Team: Here Comes the Broom\nAway Team: Sticks in Hand\nHome Score
 : 0\nAway Score: 1
END:VEVENT
BEGIN:VEVENT
UID:15483349@ezleagues.ezfacility.com
DTSTAMP:20260426T033725Z
CREATED:20260426T033725Z
DTSTART:20240131T001500Z
DTEND:20240131T004500Z
LOCATION:Ice Rink
CONTACT:
SUMMARY:Here Comes the Broom VS. Dr. Broom
DESCRIPTION:League Name: Broomball\nGame Type: Regular\nGame Status: Comple
 te\nHome Team: Here Comes the Broom\nAway Team: Dr. Broom\nHome Score: 3\n
 Away Score: 0
END:VEVENT
END:VCALENDAR
