BEGIN:VCALENDAR
VERSION:2.0
PRODID:-//EZFacility.com, Inc.//EZL 2.5.5.28621
BEGIN:VEVENT
UID:15461858@ezleagues.ezfacility.com
DTSTAMP:20260426T033536Z
CREATED:20260426T033536Z
DTSTART:20231215T035000Z
DTEND:20231215T044000Z
LOCATION:Indoor East
CONTACT:
SUMMARY:UA06 VS. Fancy unit
DESCRIPTION:League Name: Thrs Ladies -06-12\nGame Type: Regular\nGame Statu
 s: Complete\nHome Team: UA06\nAway Team: Fancy unit\nHome Score: 4\nAway S
 core: 2
END:VEVENT
BEGIN:VEVENT
UID:15474224@ezleagues.ezfacility.com
DTSTAMP:20260426T033536Z
CREATED:20260426T033536Z
DTSTART:20231222T051500Z
DTEND:20231222T060500Z
LOCATION:Indoor East
CONTACT:
SUMMARY:Fancy unit VS. All Washed Up
DESCRIPTION:League Name: Thrs Ladies -06-12\nGame Type: Regular\nGame Statu
 s: Complete\nHome Team: Fancy unit\nAway Team: All Washed Up\nHome Score: 
 9\nAway Score: 1
END:VEVENT
BEGIN:VEVENT
UID:15474232@ezleagues.ezfacility.com
DTSTAMP:20260426T033536Z
CREATED:20260426T033536Z
DTSTART:20240105T003000Z
DTEND:20240105T012000Z
LOCATION:Indoor East
CONTACT:
SUMMARY:Fancy unit VS. Swifties
DESCRIPTION:League Name: Thrs Ladies -06-12\nGame Type: Regular\nGame Statu
 s: Complete\nHome Team: Fancy unit\nAway Team: Swifties\nHome Score: 1\nAw
 ay Score: 5
END:VEVENT
BEGIN:VEVENT
UID:15474273@ezleagues.ezfacility.com
DTSTAMP:20260426T033536Z
CREATED:20260426T033536Z
DTSTART:20240112T045000Z
DTEND:20240112T054000Z
LOCATION:Indoor West
CONTACT:
SUMMARY:Fancy unit VS. Mom Squad
DESCRIPTION:League Name: Thrs Ladies -06-12\nGame Type: Regular\nGame Statu
 s: Complete\nHome Team: Fancy unit\nAway Team: Mom Squad\nHome Score: 5\nA
 way Score: 1
END:VEVENT
BEGIN:VEVENT
UID:15474275@ezleagues.ezfacility.com
DTSTAMP:20260426T033536Z
CREATED:20260426T033536Z
DTSTART:20240119T030000Z
DTEND:20240119T035000Z
LOCATION:Indoor East
CONTACT:
SUMMARY:Ball Busters VS. Fancy unit
DESCRIPTION:League Name: Thrs Ladies -06-12\nGame Type: Regular\nGame Statu
 s: Complete\nHome Team: Ball Busters\nAway Team: Fancy unit\nHome Score: 4
 \nAway Score: 1
END:VEVENT
BEGIN:VEVENT
UID:15474281@ezleagues.ezfacility.com
DTSTAMP:20260426T033536Z
CREATED:20260426T033536Z
DTSTART:20240126T003000Z
DTEND:20240126T012000Z
LOCATION:Indoor East
CONTACT:
SUMMARY:Fancy unit VS. Saggy moms
DESCRIPTION:League Name: Thrs Ladies -06-12\nGame Type: Regular\nGame Statu
 s: Complete\nHome Team: Fancy unit\nAway Team: Saggy moms\nHome Score: 6\n
 Away Score: 12
END:VEVENT
BEGIN:VEVENT
UID:15474236@ezleagues.ezfacility.com
DTSTAMP:20260426T033536Z
CREATED:20260426T033536Z
DTSTART:20240202T035000Z
DTEND:20240202T044000Z
LOCATION:Indoor East
CONTACT:
SUMMARY:Chicks with Kicks VS. Fancy unit
DESCRIPTION:League Name: Thrs Ladies -06-12\nGame Type: Regular\nGame Statu
 s: Complete\nHome Team: Chicks with Kicks\nAway Team: Fancy unit\nHome Sco
 re: 3\nAway Score: 7
END:VEVENT
BEGIN:VEVENT
UID:15475181@ezleagues.ezfacility.com
DTSTAMP:20260426T033536Z
CREATED:20260426T033536Z
DTSTART:20240216T062000Z
DTEND:20240216T071000Z
LOCATION:Indoor East
CONTACT:
SUMMARY:Fancy unit VS. All Washed Up
DESCRIPTION:League Name: Thrs Ladies -06-12\nGame Type: Regular\nGame Statu
 s: Complete\nHome Team: Fancy unit\nAway Team: All Washed Up\nHome Score: 
 2\nAway Score: 1
END:VEVENT
END:VCALENDAR
