BEGIN:VCALENDAR
VERSION:2.0
PRODID:-//EZFacility.com, Inc.//EZL 2.5.5.28621
BEGIN:VEVENT
UID:15461872@ezleagues.ezfacility.com
DTSTAMP:20260424T081651Z
CREATED:20260424T081651Z
DTSTART:20231222T021500Z
DTEND:20231222T030500Z
LOCATION:Indoor West
CONTACT:
SUMMARY:Blender Ballers VS. FLEX
DESCRIPTION:League Name: Thrs Coed 06-12\nGame Type: Regular\nGame Status: 
 Complete\nHome Team: Blender Ballers\nAway Team: FLEX\nHome Score: 6\nAway
  Score: 3
END:VEVENT
BEGIN:VEVENT
UID:15474771@ezleagues.ezfacility.com
DTSTAMP:20260424T081651Z
CREATED:20260424T081651Z
DTSTART:20231229T040500Z
DTEND:20231229T045500Z
LOCATION:Indoor West
CONTACT:
SUMMARY:Zeeg VS. Blender Ballers
DESCRIPTION:League Name: Thrs Coed 06-12\nGame Type: Regular\nGame Status: 
 Complete\nHome Team: Zeeg\nAway Team: Blender Ballers\nHome Score: 6\nAway
  Score: 1
END:VEVENT
BEGIN:VEVENT
UID:15474778@ezleagues.ezfacility.com
DTSTAMP:20260424T081651Z
CREATED:20260424T081651Z
DTSTART:20240105T062000Z
DTEND:20240105T071000Z
LOCATION:Indoor East
CONTACT:
SUMMARY:Blender Ballers VS. Unsupervised Adults
DESCRIPTION:League Name: Thrs Coed 06-12\nGame Type: Regular\nGame Status: 
 Complete\nHome Team: Blender Ballers\nAway Team: Unsupervised Adults\nHome
  Score: 5\nAway Score: 3
END:VEVENT
BEGIN:VEVENT
UID:15474785@ezleagues.ezfacility.com
DTSTAMP:20260424T081651Z
CREATED:20260424T081651Z
DTSTART:20240112T003000Z
DTEND:20240112T012000Z
LOCATION:Indoor East
CONTACT:
SUMMARY:Undecleated VS. Blender Ballers
DESCRIPTION:League Name: Thrs Coed 06-12\nGame Type: Regular\nGame Status: 
 Complete\nHome Team: Undecleated\nAway Team: Blender Ballers\nHome Score: 
 6\nAway Score: 1
END:VEVENT
BEGIN:VEVENT
UID:15474792@ezleagues.ezfacility.com
DTSTAMP:20260424T081651Z
CREATED:20260424T081651Z
DTSTART:20240119T054000Z
DTEND:20240119T063000Z
LOCATION:Indoor West
CONTACT:
SUMMARY:Blender Ballers VS. Tortellini Rush
DESCRIPTION:League Name: Thrs Coed 06-12\nGame Type: Regular\nGame Status: 
 Complete\nHome Team: Blender Ballers\nAway Team: Tortellini Rush\nHome Sco
 re: 2\nAway Score: 7
END:VEVENT
BEGIN:VEVENT
UID:15474794@ezleagues.ezfacility.com
DTSTAMP:20260424T081651Z
CREATED:20260424T081651Z
DTSTART:20240119T063000Z
DTEND:20240119T072000Z
LOCATION:Indoor West
CONTACT:
SUMMARY:Jane and Her Humans VS. Blender Ballers
DESCRIPTION:League Name: Thrs Coed 06-12\nGame Type: Regular\nGame Status: 
 Complete\nHome Team: Jane and Her Humans\nAway Team: Blender Ballers\nHome
  Score: 9\nAway Score: 2
END:VEVENT
BEGIN:VEVENT
UID:15474799@ezleagues.ezfacility.com
DTSTAMP:20260424T081651Z
CREATED:20260424T081651Z
DTSTART:20240126T030000Z
DTEND:20240126T035000Z
LOCATION:Indoor East
CONTACT:
SUMMARY:The Vipers VS. Blender Ballers
DESCRIPTION:League Name: Thrs Coed 06-12\nGame Type: Regular\nGame Status: 
 Complete\nHome Team: The Vipers\nAway Team: Blender Ballers\nHome Score: 1
 \nAway Score: 7
END:VEVENT
BEGIN:VEVENT
UID:15474806@ezleagues.ezfacility.com
DTSTAMP:20260424T081651Z
CREATED:20260424T081651Z
DTSTART:20240202T004500Z
DTEND:20240202T013500Z
LOCATION:Indoor West
CONTACT:
SUMMARY:Man Chest Hair United VS. Blender Ballers
DESCRIPTION:League Name: Thrs Coed 06-12\nGame Type: Regular\nGame Status: 
 Complete\nHome Team: Man Chest Hair United\nAway Team: Blender Ballers\nHo
 me Score: 3\nAway Score: 3
END:VEVENT
BEGIN:VEVENT
UID:15605817@ezleagues.ezfacility.com
DTSTAMP:20260424T081651Z
CREATED:20260424T081651Z
DTSTART:20240216T012000Z
DTEND:20240216T021000Z
LOCATION:Indoor East
CONTACT:
SUMMARY:Phantom Strikers VS. Blender Ballers
DESCRIPTION:League Name: Thrs Coed 06-12\nGame Type: Regular\nGame Status: 
 Complete\nHome Team: Phantom Strikers\nAway Team: Blender Ballers\nHome Sc
 ore: 5\nAway Score: 3
END:VEVENT
END:VCALENDAR
