BEGIN:VCALENDAR
VERSION:2.0
PRODID:-//EZFacility.com, Inc.//EZL 2.5.5.28621
BEGIN:VEVENT
UID:15503849@ezleagues.ezfacility.com
DTSTAMP:20260426T033903Z
CREATED:20260426T033903Z
DTSTART:20240107T172000Z
DTEND:20240107T181200Z
LOCATION:Field   ID 3
CONTACT:
SUMMARY:Chilean Rawdoggers VS. Gigi's Lambo
DESCRIPTION:League Name: Winter Indoor 2024 Coed Open (Sundays) North\nGame
  Type: Regular\nGame Status: Complete\nHome Team: Chilean Rawdoggers\nAway
  Team: Gigi's Lambo\nHome Score: 2\nAway Score: 15
END:VEVENT
BEGIN:VEVENT
UID:15503825@ezleagues.ezfacility.com
DTSTAMP:20260426T033903Z
CREATED:20260426T033903Z
DTSTART:20240114T214000Z
DTEND:20240114T223200Z
LOCATION:Field   ID 2
CONTACT:
SUMMARY:Gigi's Lambo VS. BobTheBuilder FC
DESCRIPTION:League Name: Winter Indoor 2024 Coed Open (Sundays) North\nGame
  Type: Regular\nGame Status: Complete\nHome Team: Gigi's Lambo\nAway Team:
  BobTheBuilder FC\nHome Score: 11\nAway Score: 2
END:VEVENT
BEGIN:VEVENT
UID:15503828@ezleagues.ezfacility.com
DTSTAMP:20260426T033903Z
CREATED:20260426T033903Z
DTSTART:20240121T214000Z
DTEND:20240121T223200Z
LOCATION:Field   ID 2
CONTACT:
SUMMARY:Gigi's Lambo VS. Sacks and Racks
DESCRIPTION:League Name: Winter Indoor 2024 Coed Open (Sundays) North\nGame
  Type: Regular\nGame Status: Complete\nHome Team: Gigi's Lambo\nAway Team:
  Sacks and Racks\nHome Score: 4\nAway Score: 0
END:VEVENT
BEGIN:VEVENT
UID:15503831@ezleagues.ezfacility.com
DTSTAMP:20260426T033903Z
CREATED:20260426T033903Z
DTSTART:20240128T214000Z
DTEND:20240128T223200Z
LOCATION:Field   ID 2
CONTACT:
SUMMARY:Gigi's Lambo VS. Ross
DESCRIPTION:League Name: Winter Indoor 2024 Coed Open (Sundays) North\nGame
  Type: Regular\nGame Status: Complete\nHome Team: Gigi's Lambo\nAway Team:
  Ross\nHome Score: 6\nAway Score: 4
END:VEVENT
BEGIN:VEVENT
UID:15503834@ezleagues.ezfacility.com
DTSTAMP:20260426T033903Z
CREATED:20260426T033903Z
DTSTART:20240204T214000Z
DTEND:20240204T223200Z
LOCATION:Field   ID 2
CONTACT:
SUMMARY:Gigi's Lambo VS. Chilean Rawdoggers
DESCRIPTION:League Name: Winter Indoor 2024 Coed Open (Sundays) North\nGame
  Type: Regular\nGame Status: Complete\nHome Team: Gigi's Lambo\nAway Team:
  Chilean Rawdoggers\nHome Score: 8\nAway Score: 3
END:VEVENT
BEGIN:VEVENT
UID:15503840@ezleagues.ezfacility.com
DTSTAMP:20260426T033903Z
CREATED:20260426T033903Z
DTSTART:20240218T214000Z
DTEND:20240218T223200Z
LOCATION:Field   ID 2
CONTACT:
SUMMARY:BobTheBuilder FC VS. Gigi's Lambo
DESCRIPTION:League Name: Winter Indoor 2024 Coed Open (Sundays) North\nGame
  Type: Regular\nGame Status: Complete\nHome Team: BobTheBuilder FC\nAway T
 eam: Gigi's Lambo\nHome Score: 2\nAway Score: 9
END:VEVENT
BEGIN:VEVENT
UID:15503843@ezleagues.ezfacility.com
DTSTAMP:20260426T033903Z
CREATED:20260426T033903Z
DTSTART:20240225T214000Z
DTEND:20240225T223200Z
LOCATION:Field   ID 2
CONTACT:
SUMMARY:Sacks and Racks VS. Gigi's Lambo
DESCRIPTION:League Name: Winter Indoor 2024 Coed Open (Sundays) North\nGame
  Type: Regular\nGame Status: Complete\nHome Team: Sacks and Racks\nAway Te
 am: Gigi's Lambo\nHome Score: 6\nAway Score: 5
END:VEVENT
BEGIN:VEVENT
UID:15503846@ezleagues.ezfacility.com
DTSTAMP:20260426T033903Z
CREATED:20260426T033903Z
DTSTART:20240303T214000Z
DTEND:20240303T223200Z
LOCATION:Field   ID 2
CONTACT:
SUMMARY:Ross VS. Gigi's Lambo
DESCRIPTION:League Name: Winter Indoor 2024 Coed Open (Sundays) North\nGame
  Type: Regular\nGame Status: Complete\nHome Team: Ross\nAway Team: Gigi's 
 Lambo\nHome Score: 6\nAway Score: 5
END:VEVENT
BEGIN:VEVENT
UID:15503837@ezleagues.ezfacility.com
DTSTAMP:20260426T033903Z
CREATED:20260426T033903Z
DTSTART:20240310T194800Z
DTEND:20240310T204000Z
LOCATION:Field   ID 3
CONTACT:
SUMMARY:Grandview FC VS. Gigi's Lambo
DESCRIPTION:League Name: Winter Indoor 2024 Coed Open (Sundays) North\nGame
  Type: Regular\nGame Status: Complete\nHome Team: Grandview FC\nAway Team:
  Gigi's Lambo\nHome Score: 5\nAway Score: 3
END:VEVENT
END:VCALENDAR
