BEGIN:VCALENDAR
VERSION:2.0
PRODID:-//EZFacility.com, Inc.//EZL 2.5.5.28621
BEGIN:VEVENT
UID:15478258@ezleagues.ezfacility.com
DTSTAMP:20260424T044020Z
CREATED:20260424T044020Z
DTSTART:20231230T011500Z
DTEND:20231230T021500Z
LOCATION:Field 3
CONTACT:
SUMMARY:M M Crew / 007 Pub VS. Cleats and Cleavage
DESCRIPTION:League Name: S6 Fri Coed Rec - Dec 22, 2023\nGame Type: Regular
 \nGame Status: Complete\nHome Team: M M Crew / 007 Pub\nAway Team: Cleats 
 and Cleavage\nHome Score: 10\nAway Score: 13
END:VEVENT
BEGIN:VEVENT
UID:15478259@ezleagues.ezfacility.com
DTSTAMP:20260424T044020Z
CREATED:20260424T044020Z
DTSTART:20231230T021500Z
DTEND:20231230T031500Z
LOCATION:Field 3
CONTACT:
SUMMARY:Cleats and Cleavage VS. M M Crew / 007 Pub
DESCRIPTION:League Name: S6 Fri Coed Rec - Dec 22, 2023\nGame Type: Regular
 \nGame Status: Complete\nHome Team: Cleats and Cleavage\nAway Team: M M Cr
 ew / 007 Pub\nHome Score: 8\nAway Score: 7
END:VEVENT
BEGIN:VEVENT
UID:15478278@ezleagues.ezfacility.com
DTSTAMP:20260424T044020Z
CREATED:20260424T044020Z
DTSTART:20240106T011500Z
DTEND:20240106T021500Z
LOCATION:Field 5
CONTACT:
SUMMARY:Now Hiring VS. Cleats and Cleavage
DESCRIPTION:League Name: S6 Fri Coed Rec - Dec 22, 2023\nGame Type: Regular
 \nGame Status: Complete\nHome Team: Now Hiring\nAway Team: Cleats and Clea
 vage\nHome Score: 8\nAway Score: 11
END:VEVENT
BEGIN:VEVENT
UID:15478279@ezleagues.ezfacility.com
DTSTAMP:20260424T044020Z
CREATED:20260424T044020Z
DTSTART:20240106T021500Z
DTEND:20240106T031500Z
LOCATION:Field 5
CONTACT:
SUMMARY:Cleats and Cleavage VS. Now Hiring
DESCRIPTION:League Name: S6 Fri Coed Rec - Dec 22, 2023\nGame Type: Regular
 \nGame Status: Complete\nHome Team: Cleats and Cleavage\nAway Team: Now Hi
 ring\nHome Score: 10\nAway Score: 9
END:VEVENT
BEGIN:VEVENT
UID:15478298@ezleagues.ezfacility.com
DTSTAMP:20260424T044020Z
CREATED:20260424T044020Z
DTSTART:20240113T011500Z
DTEND:20240113T021500Z
LOCATION:Field 1
CONTACT:
SUMMARY:Pitches B Crazy VS. Cleats and Cleavage
DESCRIPTION:League Name: S6 Fri Coed Rec - Dec 22, 2023\nGame Type: Regular
 \nGame Status: Complete\nHome Team: Pitches B Crazy\nAway Team: Cleats and
  Cleavage\nHome Score: 18\nAway Score: 9
END:VEVENT
BEGIN:VEVENT
UID:15478299@ezleagues.ezfacility.com
DTSTAMP:20260424T044020Z
CREATED:20260424T044020Z
DTSTART:20240113T021500Z
DTEND:20240113T031500Z
LOCATION:Field 1
CONTACT:
SUMMARY:Cleats and Cleavage VS. Pitches B Crazy
DESCRIPTION:League Name: S6 Fri Coed Rec - Dec 22, 2023\nGame Type: Regular
 \nGame Status: Complete\nHome Team: Cleats and Cleavage\nAway Team: Pitche
 s B Crazy\nHome Score: 12\nAway Score: 22
END:VEVENT
BEGIN:VEVENT
UID:15478318@ezleagues.ezfacility.com
DTSTAMP:20260424T044020Z
CREATED:20260424T044020Z
DTSTART:20240120T011500Z
DTEND:20240120T021500Z
LOCATION:Field 2
CONTACT:
SUMMARY:Sons of Pitches VS. Cleats and Cleavage
DESCRIPTION:League Name: S6 Fri Coed Rec - Dec 22, 2023\nGame Type: Regular
 \nGame Status: Complete\nHome Team: Sons of Pitches\nAway Team: Cleats and
  Cleavage\nHome Score: 12\nAway Score: 11
END:VEVENT
BEGIN:VEVENT
UID:15478319@ezleagues.ezfacility.com
DTSTAMP:20260424T044020Z
CREATED:20260424T044020Z
DTSTART:20240120T021500Z
DTEND:20240120T031500Z
LOCATION:Field 2
CONTACT:
SUMMARY:Cleats and Cleavage VS. Sons of Pitches
DESCRIPTION:League Name: S6 Fri Coed Rec - Dec 22, 2023\nGame Type: Regular
 \nGame Status: Complete\nHome Team: Cleats and Cleavage\nAway Team: Sons o
 f Pitches\nHome Score: 12\nAway Score: 11
END:VEVENT
BEGIN:VEVENT
UID:15478338@ezleagues.ezfacility.com
DTSTAMP:20260424T044020Z
CREATED:20260424T044020Z
DTSTART:20240127T031500Z
DTEND:20240127T041500Z
LOCATION:Field 2
CONTACT:
SUMMARY:Orange Theory VS. Cleats and Cleavage
DESCRIPTION:League Name: S6 Fri Coed Rec - Dec 22, 2023\nGame Type: Regular
 \nGame Status: Complete\nHome Team: Orange Theory\nAway Team: Cleats and C
 leavage\nHome Score: 6\nAway Score: 20
END:VEVENT
BEGIN:VEVENT
UID:15478339@ezleagues.ezfacility.com
DTSTAMP:20260424T044020Z
CREATED:20260424T044020Z
DTSTART:20240127T041500Z
DTEND:20240127T051500Z
LOCATION:Field 2
CONTACT:
SUMMARY:Cleats and Cleavage VS. Orange Theory
DESCRIPTION:League Name: S6 Fri Coed Rec - Dec 22, 2023\nGame Type: Regular
 \nGame Status: Complete\nHome Team: Cleats and Cleavage\nAway Team: Orange
  Theory\nHome Score: 12\nAway Score: 10
END:VEVENT
BEGIN:VEVENT
UID:15478238@ezleagues.ezfacility.com
DTSTAMP:20260424T044020Z
CREATED:20260424T044020Z
DTSTART:20240210T031500Z
DTEND:20240210T041500Z
LOCATION:Field 1
CONTACT:
SUMMARY:EB32 VS. Cleats and Cleavage
DESCRIPTION:League Name: S6 Fri Coed Rec - Dec 22, 2023\nGame Type: Regular
 \nGame Status: Complete\nHome Team: EB32\nAway Team: Cleats and Cleavage\n
 Home Score: 15\nAway Score: 15
END:VEVENT
BEGIN:VEVENT
UID:15478239@ezleagues.ezfacility.com
DTSTAMP:20260424T044020Z
CREATED:20260424T044020Z
DTSTART:20240210T041500Z
DTEND:20240210T051500Z
LOCATION:Field 1
CONTACT:
SUMMARY:Cleats and Cleavage VS. EB32
DESCRIPTION:League Name: S6 Fri Coed Rec - Dec 22, 2023\nGame Type: Regular
 \nGame Status: Complete\nHome Team: Cleats and Cleavage\nAway Team: EB32\n
 Home Score: 11\nAway Score: 13
END:VEVENT
BEGIN:VEVENT
UID:15478358@ezleagues.ezfacility.com
DTSTAMP:20260424T044020Z
CREATED:20260424T044020Z
DTSTART:20240217T031500Z
DTEND:20240217T041500Z
LOCATION:Field 6
CONTACT:
SUMMARY:Monster Machines VS. Cleats and Cleavage
DESCRIPTION:League Name: S6 Fri Coed Rec - Dec 22, 2023\nGame Type: Regular
 \nGame Status: Complete\nHome Team: Monster Machines\nAway Team: Cleats an
 d Cleavage\nHome Score: 11\nAway Score: 1
END:VEVENT
BEGIN:VEVENT
UID:15478359@ezleagues.ezfacility.com
DTSTAMP:20260424T044020Z
CREATED:20260424T044020Z
DTSTART:20240217T041500Z
DTEND:20240217T051500Z
LOCATION:Field 6
CONTACT:
SUMMARY:Cleats and Cleavage VS. Monster Machines
DESCRIPTION:League Name: S6 Fri Coed Rec - Dec 22, 2023\nGame Type: Regular
 \nGame Status: Complete\nHome Team: Cleats and Cleavage\nAway Team: Monste
 r Machines\nHome Score: 7\nAway Score: 11
END:VEVENT
BEGIN:VEVENT
UID:15618840@ezleagues.ezfacility.com
DTSTAMP:20260424T044020Z
CREATED:20260424T044020Z
DTSTART:20240224T031500Z
DTEND:20240224T041500Z
LOCATION:Field 1
CONTACT:
SUMMARY:Cleats and Cleavage VS. Now Hiring
DESCRIPTION:League Name: S6 Fri Coed Rec - Dec 22, 2023\nGame Type: Postsea
 son\nGame Status: Complete\nHome Team: Cleats and Cleavage\nAway Team: Now
  Hiring\nHome Score: 9\nAway Score: 4
END:VEVENT
BEGIN:VEVENT
UID:15618841@ezleagues.ezfacility.com
DTSTAMP:20260424T044020Z
CREATED:20260424T044020Z
DTSTART:20240224T041500Z
DTEND:20240224T051500Z
LOCATION:Field 1
CONTACT:
SUMMARY:Now Hiring VS. Cleats and Cleavage
DESCRIPTION:League Name: S6 Fri Coed Rec - Dec 22, 2023\nGame Type: Postsea
 son\nGame Status: Complete\nHome Team: Now Hiring\nAway Team: Cleats and C
 leavage\nHome Score: 12\nAway Score: 5
END:VEVENT
END:VCALENDAR
