BEGIN:VCALENDAR
VERSION:2.0
PRODID:-//EZFacility.com, Inc.//EZL 2.5.5.28621
BEGIN:VEVENT
UID:15590439@ezleagues.ezfacility.com
DTSTAMP:20260424T044339Z
CREATED:20260424T044339Z
DTSTART:20240201T210000Z
DTEND:20240201T220000Z
LOCATION:TBD
CONTACT:
SUMMARY:KFC VS. Game Cancelled
DESCRIPTION:League Name: Winter Thursday 7v7 Mens Soccer\nGame Type: Regula
 r\nGame Status: Pending\nHome Team: KFC\nAway Team: Game Cancelled\n
END:VEVENT
BEGIN:VEVENT
UID:15571061@ezleagues.ezfacility.com
DTSTAMP:20260424T044339Z
CREATED:20260424T044339Z
DTSTART:20240209T053000Z
DTEND:20240209T063000Z
LOCATION:Field 2A
CONTACT:
SUMMARY:KFC VS. MS.IL
DESCRIPTION:League Name: Winter Thursday 7v7 Mens Soccer\nGame Type: Regula
 r\nGame Status: Complete\nHome Team: KFC\nAway Team: MS.IL\nHome Score: 3\
 nAway Score: 5
END:VEVENT
BEGIN:VEVENT
UID:15571079@ezleagues.ezfacility.com
DTSTAMP:20260424T044339Z
CREATED:20260424T044339Z
DTSTART:20240216T033000Z
DTEND:20240216T043000Z
LOCATION:Field 2B
CONTACT:
SUMMARY:Undefeated VS. KFC
DESCRIPTION:League Name: Winter Thursday 7v7 Mens Soccer\nGame Type: Regula
 r\nGame Status: Complete\nHome Team: Undefeated\nAway Team: KFC\nHome Scor
 e: 5\nAway Score: 1
END:VEVENT
BEGIN:VEVENT
UID:15571088@ezleagues.ezfacility.com
DTSTAMP:20260424T044339Z
CREATED:20260424T044339Z
DTSTART:20240223T023000Z
DTEND:20240223T033000Z
LOCATION:Field 2B
CONTACT:
SUMMARY:KFC VS. i ragazzi
DESCRIPTION:League Name: Winter Thursday 7v7 Mens Soccer\nGame Type: Regula
 r\nGame Status: Complete\nHome Team: KFC\nAway Team: i ragazzi\nHome Score
 : 1\nAway Score: 3
END:VEVENT
BEGIN:VEVENT
UID:15571097@ezleagues.ezfacility.com
DTSTAMP:20260424T044339Z
CREATED:20260424T044339Z
DTSTART:20240301T043000Z
DTEND:20240301T053000Z
LOCATION:Field 2A
CONTACT:
SUMMARY:KFC VS. Los causitas
DESCRIPTION:League Name: Winter Thursday 7v7 Mens Soccer\nGame Type: Regula
 r\nGame Status: Complete\nHome Team: KFC\nAway Team: Los causitas\nHome Sc
 ore: 2\nAway Score: 5
END:VEVENT
BEGIN:VEVENT
UID:15571105@ezleagues.ezfacility.com
DTSTAMP:20260424T044339Z
CREATED:20260424T044339Z
DTSTART:20240308T053000Z
DTEND:20240308T063000Z
LOCATION:Field 2B
CONTACT:
SUMMARY:Hooligans 2.0 VS. KFC
DESCRIPTION:League Name: Winter Thursday 7v7 Mens Soccer\nGame Type: Regula
 r\nGame Status: Complete\nHome Team: Hooligans 2.0\nAway Team: KFC\nHome S
 core: 4\nAway Score: 3
END:VEVENT
BEGIN:VEVENT
UID:15571112@ezleagues.ezfacility.com
DTSTAMP:20260424T044339Z
CREATED:20260424T044339Z
DTSTART:20240315T023000Z
DTEND:20240315T033000Z
LOCATION:Field 2B
CONTACT:
SUMMARY:Fire FC VS. KFC
DESCRIPTION:League Name: Winter Thursday 7v7 Mens Soccer\nGame Type: Regula
 r\nGame Status: Complete\nHome Team: Fire FC\nAway Team: KFC\nHome Score: 
 3\nAway Score: 1
END:VEVENT
BEGIN:VEVENT
UID:15571119@ezleagues.ezfacility.com
DTSTAMP:20260424T044339Z
CREATED:20260424T044339Z
DTSTART:20240322T033000Z
DTEND:20240322T043000Z
LOCATION:Field 2B
CONTACT:
SUMMARY:Legal Aliens VS. KFC
DESCRIPTION:League Name: Winter Thursday 7v7 Mens Soccer\nGame Type: Regula
 r\nGame Status: Complete\nHome Team: Legal Aliens\nAway Team: KFC\nHome Sc
 ore: 2\nAway Score: 2
END:VEVENT
BEGIN:VEVENT
UID:15571070@ezleagues.ezfacility.com
DTSTAMP:20260424T044339Z
CREATED:20260424T044339Z
DTSTART:20240329T013000Z
DTEND:20240329T023000Z
LOCATION:Field 2A
CONTACT:
SUMMARY:KFC VS. OnlyLads FC
DESCRIPTION:League Name: Winter Thursday 7v7 Mens Soccer\nGame Type: Regula
 r\nGame Status: Complete\nHome Team: KFC\nAway Team: OnlyLads FC\nHome Sco
 re: 0\nAway Score: 4
END:VEVENT
END:VCALENDAR
