BEGIN:VCALENDAR
VERSION:2.0
PRODID:-//EZFacility.com, Inc.//EZL 2.5.5.28621
BEGIN:VEVENT
UID:15590448@ezleagues.ezfacility.com
DTSTAMP:20260426T035046Z
CREATED:20260426T035046Z
DTSTART:20240201T210000Z
DTEND:20240201T220000Z
LOCATION:TBD
CONTACT:
SUMMARY:Tiburones FC VS. Game Cancelled
DESCRIPTION:League Name: Winter Thursday 7v7 Mens Soccer\nGame Type: Regula
 r\nGame Status: Pending\nHome Team: Tiburones FC\nAway Team: Game Cancelle
 d\n
END:VEVENT
BEGIN:VEVENT
UID:15571065@ezleagues.ezfacility.com
DTSTAMP:20260426T035046Z
CREATED:20260426T035046Z
DTSTART:20240209T053000Z
DTEND:20240209T063000Z
LOCATION:Field 2B
CONTACT:
SUMMARY:Tiburones FC VS. Undefeated
DESCRIPTION:League Name: Winter Thursday 7v7 Mens Soccer\nGame Type: Regula
 r\nGame Status: Complete\nHome Team: Tiburones FC\nAway Team: Undefeated\n
 Home Score: 1\nAway Score: 10
END:VEVENT
BEGIN:VEVENT
UID:15571080@ezleagues.ezfacility.com
DTSTAMP:20260426T035046Z
CREATED:20260426T035046Z
DTSTART:20240216T033000Z
DTEND:20240216T043000Z
LOCATION:Field 2A
CONTACT:
SUMMARY:Los causitas VS. Tiburones FC
DESCRIPTION:League Name: Winter Thursday 7v7 Mens Soccer\nGame Type: Regula
 r\nGame Status: Complete\nHome Team: Los causitas\nAway Team: Tiburones FC
 \nHome Score: 3\nAway Score: 3
END:VEVENT
BEGIN:VEVENT
UID:15571087@ezleagues.ezfacility.com
DTSTAMP:20260426T035046Z
CREATED:20260426T035046Z
DTSTART:20240223T043000Z
DTEND:20240223T053000Z
LOCATION:Field 2A
CONTACT:
SUMMARY:Tiburones FC VS. Hooligans 2.0
DESCRIPTION:League Name: Winter Thursday 7v7 Mens Soccer\nGame Type: Regula
 r\nGame Status: Complete\nHome Team: Tiburones FC\nAway Team: Hooligans 2.
 0\nHome Score: 1\nAway Score: 3
END:VEVENT
BEGIN:VEVENT
UID:15571094@ezleagues.ezfacility.com
DTSTAMP:20260426T035046Z
CREATED:20260426T035046Z
DTSTART:20240301T043000Z
DTEND:20240301T053000Z
LOCATION:Field 2B
CONTACT:
SUMMARY:Tiburones FC VS. Fire FC
DESCRIPTION:League Name: Winter Thursday 7v7 Mens Soccer\nGame Type: Regula
 r\nGame Status: Complete\nHome Team: Tiburones FC\nAway Team: Fire FC\nHom
 e Score: 8\nAway Score: 7
END:VEVENT
BEGIN:VEVENT
UID:15571101@ezleagues.ezfacility.com
DTSTAMP:20260426T035046Z
CREATED:20260426T035046Z
DTSTART:20240308T023000Z
DTEND:20240308T033000Z
LOCATION:Field 2A
CONTACT:
SUMMARY:Tiburones FC VS. Legal Aliens
DESCRIPTION:League Name: Winter Thursday 7v7 Mens Soccer\nGame Type: Regula
 r\nGame Status: Complete\nHome Team: Tiburones FC\nAway Team: Legal Aliens
 \nHome Score: 3\nAway Score: 3
END:VEVENT
BEGIN:VEVENT
UID:15571108@ezleagues.ezfacility.com
DTSTAMP:20260426T035046Z
CREATED:20260426T035046Z
DTSTART:20240315T013000Z
DTEND:20240315T023000Z
LOCATION:Field 2A
CONTACT:
SUMMARY:Crew VS. Tiburones FC
DESCRIPTION:League Name: Winter Thursday 7v7 Mens Soccer\nGame Type: Regula
 r\nGame Status: Complete\nHome Team: Crew\nAway Team: Tiburones FC\nHome S
 core: 2\nAway Score: 5
END:VEVENT
BEGIN:VEVENT
UID:15571115@ezleagues.ezfacility.com
DTSTAMP:20260426T035046Z
CREATED:20260426T035046Z
DTSTART:20240322T043000Z
DTEND:20240322T053000Z
LOCATION:Field 2B
CONTACT:
SUMMARY:Town VS. Tiburones FC
DESCRIPTION:League Name: Winter Thursday 7v7 Mens Soccer\nGame Type: Regula
 r\nGame Status: Complete\nHome Team: Town\nAway Team: Tiburones FC\nHome S
 core: 1\nAway Score: 1
END:VEVENT
BEGIN:VEVENT
UID:15571073@ezleagues.ezfacility.com
DTSTAMP:20260426T035046Z
CREATED:20260426T035046Z
DTSTART:20240329T043000Z
DTEND:20240329T053000Z
LOCATION:Field 2B
CONTACT:
SUMMARY:i ragazzi VS. Tiburones FC
DESCRIPTION:League Name: Winter Thursday 7v7 Mens Soccer\nGame Type: Regula
 r\nGame Status: Complete\nHome Team: i ragazzi\nAway Team: Tiburones FC\nH
 ome Score: 0\nAway Score: 1
END:VEVENT
END:VCALENDAR
