BEGIN:VCALENDAR
VERSION:2.0
PRODID:-//EZFacility.com, Inc.//EZL 2.5.5.28621
BEGIN:VEVENT
UID:15496139@ezleagues.ezfacility.com
DTSTAMP:20260419T203628Z
CREATED:20260419T203628Z
DTSTART:20240105T034200Z
DTEND:20240105T043400Z
LOCATION:Field   ID 2
CONTACT:
SUMMARY:AUBANGYAMUM VS. FRIENDS FC
DESCRIPTION:League Name: Winter Indoor 2024 Men's Open South (Thursdays)\nG
 ame Type: Regular\nGame Status: Complete\nHome Team: AUBANGYAMUM\nAway Tea
 m: FRIENDS FC\nHome Score: 0\nAway Score: 9
END:VEVENT
BEGIN:VEVENT
UID:15496145@ezleagues.ezfacility.com
DTSTAMP:20260419T203628Z
CREATED:20260419T203628Z
DTSTART:20240112T034200Z
DTEND:20240112T043400Z
LOCATION:Field   ID 3
CONTACT:
SUMMARY:FRIENDS FC VS. Columbus FC
DESCRIPTION:League Name: Winter Indoor 2024 Men's Open South (Thursdays)\nG
 ame Type: Regular\nGame Status: Complete\nHome Team: FRIENDS FC\nAway Team
 : Columbus FC\nHome Score: 4\nAway Score: 5
END:VEVENT
BEGIN:VEVENT
UID:15496151@ezleagues.ezfacility.com
DTSTAMP:20260419T203628Z
CREATED:20260419T203628Z
DTSTART:20240119T025000Z
DTEND:20240119T034200Z
LOCATION:Field   ID 3
CONTACT:
SUMMARY:FRIENDS FC VS. Marysville FC
DESCRIPTION:League Name: Winter Indoor 2024 Men's Open South (Thursdays)\nG
 ame Type: Regular\nGame Status: Complete\nHome Team: FRIENDS FC\nAway Team
 : Marysville FC\nHome Score: 10\nAway Score: 4
END:VEVENT
BEGIN:VEVENT
UID:15496163@ezleagues.ezfacility.com
DTSTAMP:20260419T203628Z
CREATED:20260419T203628Z
DTSTART:20240202T025000Z
DTEND:20240202T034200Z
LOCATION:Field   ID 2
CONTACT:
SUMMARY:FRIENDS FC VS. Biryani FC
DESCRIPTION:League Name: Winter Indoor 2024 Men's Open South (Thursdays)\nG
 ame Type: Regular\nGame Status: Complete\nHome Team: FRIENDS FC\nAway Team
 : Biryani FC\nHome Score: 6\nAway Score: 3
END:VEVENT
BEGIN:VEVENT
UID:15496168@ezleagues.ezfacility.com
DTSTAMP:20260419T203628Z
CREATED:20260419T203628Z
DTSTART:20240209T025000Z
DTEND:20240209T034200Z
LOCATION:Field   ID 2
CONTACT:
SUMMARY:US Men's Rec Team VS. FRIENDS FC
DESCRIPTION:League Name: Winter Indoor 2024 Men's Open South (Thursdays)\nG
 ame Type: Regular\nGame Status: Complete\nHome Team: US Men's Rec Team\nAw
 ay Team: FRIENDS FC\nHome Score: 5\nAway Score: 8
END:VEVENT
BEGIN:VEVENT
UID:15496176@ezleagues.ezfacility.com
DTSTAMP:20260419T203628Z
CREATED:20260419T203628Z
DTSTART:20240223T034200Z
DTEND:20240223T043400Z
LOCATION:Field   ID 3
CONTACT:
SUMMARY:Cover the Turf VS. FRIENDS FC
DESCRIPTION:League Name: Winter Indoor 2024 Men's Open South (Thursdays)\nG
 ame Type: Regular\nGame Status: Complete\nHome Team: Cover the Turf\nAway 
 Team: FRIENDS FC\nHome Score: 5\nAway Score: 13
END:VEVENT
BEGIN:VEVENT
UID:15496180@ezleagues.ezfacility.com
DTSTAMP:20260419T203628Z
CREATED:20260419T203628Z
DTSTART:20240301T025000Z
DTEND:20240301T034200Z
LOCATION:Field   ID 2
CONTACT:
SUMMARY:The Indoor Team VS. FRIENDS FC
DESCRIPTION:League Name: Winter Indoor 2024 Men's Open South (Thursdays)\nG
 ame Type: Regular\nGame Status: Complete\nHome Team: The Indoor Team\nAway
  Team: FRIENDS FC\nHome Score: 6\nAway Score: 4
END:VEVENT
BEGIN:VEVENT
UID:15496157@ezleagues.ezfacility.com
DTSTAMP:20260419T203628Z
CREATED:20260419T203628Z
DTSTART:20240308T010600Z
DTEND:20240308T015800Z
LOCATION:Field   ID 2
CONTACT:
SUMMARY:FRIENDS FC VS. AFC Richmond
DESCRIPTION:League Name: Winter Indoor 2024 Men's Open South (Thursdays)\nG
 ame Type: Regular\nGame Status: Complete\nHome Team: FRIENDS FC\nAway Team
 : AFC Richmond\nHome Score: 6\nAway Score: 5
END:VEVENT
BEGIN:VEVENT
UID:15496172@ezleagues.ezfacility.com
DTSTAMP:20260419T203628Z
CREATED:20260419T203628Z
DTSTART:20240315T000600Z
DTEND:20240315T005800Z
LOCATION:Field   ID 2
CONTACT:
SUMMARY:Flounders VS. FRIENDS FC
DESCRIPTION:League Name: Winter Indoor 2024 Men's Open South (Thursdays)\nG
 ame Type: Regular\nGame Status: Complete\nHome Team: Flounders\nAway Team:
  FRIENDS FC\nHome Score: 4\nAway Score: 3
END:VEVENT
END:VCALENDAR
