BEGIN:VCALENDAR
VERSION:2.0
PRODID:-//EZFacility.com, Inc.//EZL 2.5.5.28621
BEGIN:VEVENT
UID:15514880@ezleagues.ezfacility.com
DTSTAMP:20260424T043939Z
CREATED:20260424T043939Z
DTSTART:20240107T212500Z
DTEND:20240107T221500Z
LOCATION:Red Field
CONTACT:
SUMMARY:Niagara Pioneer U-17 VS. Grand Niagara 16U/17U
DESCRIPTION:League Name: Winter B Soccer Session (2024) - U17/19 Girls Divi
 sion\nGame Type: Regular\nGame Status: Complete\nHome Team: Niagara Pionee
 r U-17\nAway Team: Grand Niagara 16U/17U\nHome Score: 5\nAway Score: 2
END:VEVENT
BEGIN:VEVENT
UID:15517727@ezleagues.ezfacility.com
DTSTAMP:20260424T043939Z
CREATED:20260424T043939Z
DTSTART:20240114T191500Z
DTEND:20240114T201500Z
LOCATION:Red Field
CONTACT:
SUMMARY:Grand Niagara 16U/17U VS. Roy Hart Rams
DESCRIPTION:League Name: Winter B Soccer Session (2024) - U17/19 Girls Divi
 sion\nGame Type: Regular\nGame Status: Rescheduled\nHome Team: Grand Niaga
 ra 16U/17U\nAway Team: Roy Hart Rams\n
END:VEVENT
BEGIN:VEVENT
UID:15529707@ezleagues.ezfacility.com
DTSTAMP:20260424T043939Z
CREATED:20260424T043939Z
DTSTART:20240128T222500Z
DTEND:20240128T232500Z
LOCATION:Red Field
CONTACT:
SUMMARY:Grand Niagara 16U/17U VS. Lockport Lightning (Larkin)
DESCRIPTION:League Name: Winter B Soccer Session (2024) - U17/19 Girls Divi
 sion\nGame Type: Regular\nGame Status: Complete\nHome Team: Grand Niagara 
 16U/17U\nAway Team: Lockport Lightning (Larkin)\nHome Score: 1\nAway Score
 : 0
END:VEVENT
BEGIN:VEVENT
UID:15529739@ezleagues.ezfacility.com
DTSTAMP:20260424T043939Z
CREATED:20260424T043939Z
DTSTART:20240214T013500Z
DTEND:20240214T023500Z
LOCATION:Red Field
CONTACT:
SUMMARY:Grand Niagara 16U/17U VS. Kenmore Ambush - U19G
DESCRIPTION:League Name: Winter B Soccer Session (2024) - U17/19 Girls Divi
 sion\nGame Type: Regular\nGame Status: Complete\nHome Team: Grand Niagara 
 16U/17U\nAway Team: Kenmore Ambush - U19G\nHome Score: 2\nAway Score: 0
END:VEVENT
BEGIN:VEVENT
UID:15529731@ezleagues.ezfacility.com
DTSTAMP:20260424T043939Z
CREATED:20260424T043939Z
DTSTART:20240225T201000Z
DTEND:20240225T211000Z
LOCATION:Blue Field
CONTACT:
SUMMARY:NWAA Wolves U17G - Durst VS. Grand Niagara 16U/17U
DESCRIPTION:League Name: Winter B Soccer Session (2024) - U17/19 Girls Divi
 sion\nGame Type: Regular\nGame Status: Complete\nHome Team: NWAA Wolves U1
 7G - Durst\nAway Team: Grand Niagara 16U/17U\nHome Score: 5\nAway Score: 0
END:VEVENT
BEGIN:VEVENT
UID:15529758@ezleagues.ezfacility.com
DTSTAMP:20260424T043939Z
CREATED:20260424T043939Z
DTSTART:20240311T004000Z
DTEND:20240311T014000Z
LOCATION:Red Field
CONTACT:
SUMMARY:Grand Niagara 16U/17U VS. NWAA Lady Renegades
DESCRIPTION:League Name: Winter B Soccer Session (2024) - U17/19 Girls Divi
 sion\nGame Type: Regular\nGame Status: Complete\nHome Team: Grand Niagara 
 16U/17U\nAway Team: NWAA Lady Renegades\nHome Score: 0\nAway Score: 6
END:VEVENT
BEGIN:VEVENT
UID:15529752@ezleagues.ezfacility.com
DTSTAMP:20260424T043939Z
CREATED:20260424T043939Z
DTSTART:20240317T215000Z
DTEND:20240317T225000Z
LOCATION:Blue Field
CONTACT:
SUMMARY:KE Kryptonite VS. Grand Niagara 16U/17U
DESCRIPTION:League Name: Winter B Soccer Session (2024) - U17/19 Girls Divi
 sion\nGame Type: Regular\nGame Status: Complete\nHome Team: KE Kryptonite\
 nAway Team: Grand Niagara 16U/17U\nHome Score: 2\nAway Score: 2
END:VEVENT
BEGIN:VEVENT
UID:15529776@ezleagues.ezfacility.com
DTSTAMP:20260424T043939Z
CREATED:20260424T043939Z
DTSTART:20240324T215000Z
DTEND:20240324T225000Z
LOCATION:Blue Field
CONTACT:
SUMMARY:Lockport Lightning (Wendt) VS. Grand Niagara 16U/17U
DESCRIPTION:League Name: Winter B Soccer Session (2024) - U17/19 Girls Divi
 sion\nGame Type: Regular\nGame Status: Complete\nHome Team: Lockport Light
 ning (Wendt)\nAway Team: Grand Niagara 16U/17U\nHome Score: 5\nAway Score:
  0
END:VEVENT
BEGIN:VEVENT
UID:15548371@ezleagues.ezfacility.com
DTSTAMP:20260424T043939Z
CREATED:20260424T043939Z
DTSTART:20240330T184500Z
DTEND:20240330T194500Z
LOCATION:Red Field
CONTACT:
SUMMARY:Grand Niagara 16U/17U VS. Roy Hart Rams
DESCRIPTION:League Name: Winter B Soccer Session (2024) - U17/19 Girls Divi
 sion\nGame Type: Regular\nGame Status: Rescheduled\nHome Team: Grand Niaga
 ra 16U/17U\nAway Team: Roy Hart Rams\n
END:VEVENT
BEGIN:VEVENT
UID:15529746@ezleagues.ezfacility.com
DTSTAMP:20260424T043939Z
CREATED:20260424T043939Z
DTSTART:20240413T010500Z
DTEND:20240413T020500Z
LOCATION:Blue Field
CONTACT:
SUMMARY:Grand Niagara 16U/17U VS. Clarence Dark Red
DESCRIPTION:League Name: Winter B Soccer Session (2024) - U17/19 Girls Divi
 sion\nGame Type: Regular\nGame Status: Complete\nHome Team: Grand Niagara 
 16U/17U\nAway Team: Clarence Dark Red\nHome Score: 0\nAway Score: 6
END:VEVENT
BEGIN:VEVENT
UID:15678824@ezleagues.ezfacility.com
DTSTAMP:20260424T043939Z
CREATED:20260424T043939Z
DTSTART:20240420T234500Z
DTEND:20240421T004500Z
LOCATION:Blue Field
CONTACT:
SUMMARY:Grand Niagara 16U/17U VS. Roy Hart Rams
DESCRIPTION:League Name: Winter B Soccer Session (2024) - U17/19 Girls Divi
 sion\nGame Type: Regular\nGame Status: Complete\nHome Team: Grand Niagara 
 16U/17U\nAway Team: Roy Hart Rams\nHome Score: 1\nAway Score: 0
END:VEVENT
BEGIN:VEVENT
UID:15529764@ezleagues.ezfacility.com
DTSTAMP:20260424T043939Z
CREATED:20260424T043939Z
DTSTART:20240421T110000Z
DTEND:20240421T120000Z
LOCATION:Blue Field
CONTACT:
SUMMARY:The Amherst Girls Soccer Team - White VS. Grand Niagara 16U/17U
DESCRIPTION:League Name: Winter B Soccer Session (2024) - U17/19 Girls Divi
 sion\nGame Type: Regular\nGame Status: Complete\nHome Team: The Amherst Gi
 rls Soccer Team - White\nAway Team: Grand Niagara 16U/17U\nHome Score: 5\n
 Away Score: 0
END:VEVENT
BEGIN:VEVENT
UID:15643741@ezleagues.ezfacility.com
DTSTAMP:20260424T043939Z
CREATED:20260424T043939Z
DTSTART:20240428T195500Z
DTEND:20240428T205500Z
LOCATION:Blue Field
CONTACT:
SUMMARY:Grand Niagara 16U/17U VS. Kenmore Ambush - U19G
DESCRIPTION:League Name: Winter B Soccer Session (2024) - U17/19 Girls Divi
 sion\nGame Type: Postseason\nGame Status: Complete\nHome Team: Grand Niaga
 ra 16U/17U\nAway Team: Kenmore Ambush - U19G\nHome Score: 0\nAway Score: 3
END:VEVENT
BEGIN:VEVENT
UID:15643771@ezleagues.ezfacility.com
DTSTAMP:20260424T043939Z
CREATED:20260424T043939Z
DTSTART:20240502T220000Z
DTEND:20240502T230000Z
LOCATION:Red Field
CONTACT:
SUMMARY:Amherst Renegades VS. Grand Niagara 16U/17U
DESCRIPTION:League Name: Winter B Soccer Session (2024) - U17/19 Girls Divi
 sion\nGame Type: Postseason\nGame Status: Rescheduled\nHome Team: Amherst 
 Renegades\nAway Team: Grand Niagara 16U/17U\n
END:VEVENT
BEGIN:VEVENT
UID:15724681@ezleagues.ezfacility.com
DTSTAMP:20260424T043939Z
CREATED:20260424T043939Z
DTSTART:20240505T191500Z
DTEND:20240505T201500Z
LOCATION:Red Field
CONTACT:
SUMMARY:Amherst Renegades VS. Grand Niagara 16U/17U
DESCRIPTION:League Name: Winter B Soccer Session (2024) - U17/19 Girls Divi
 sion\nGame Type: Postseason\nGame Status: Complete\nHome Team: Amherst Ren
 egades\nAway Team: Grand Niagara 16U/17U\nHome Score: 4\nAway Score: 3
END:VEVENT
END:VCALENDAR
