BEGIN:VCALENDAR
VERSION:2.0
PRODID:-//EZFacility.com, Inc.//EZL 2.5.5.28621
BEGIN:VEVENT
UID:15525514@ezleagues.ezfacility.com
DTSTAMP:20260426T034852Z
CREATED:20260426T034852Z
DTSTART:20240111T011500Z
DTEND:20240111T021500Z
LOCATION:Field 2
CONTACT:
SUMMARY:Fixin to Bunt VS. LongShots
DESCRIPTION:League Name: 2024 S1 Wed D Men's Jan 10, 2024\nGame Type: Regul
 ar\nGame Status: Complete\nHome Team: Fixin to Bunt\nAway Team: LongShots\
 nHome Score: 9\nAway Score: 16
END:VEVENT
BEGIN:VEVENT
UID:15525515@ezleagues.ezfacility.com
DTSTAMP:20260426T034852Z
CREATED:20260426T034852Z
DTSTART:20240111T021500Z
DTEND:20240111T031500Z
LOCATION:Field 2
CONTACT:
SUMMARY:LongShots VS. Fixin to Bunt
DESCRIPTION:League Name: 2024 S1 Wed D Men's Jan 10, 2024\nGame Type: Regul
 ar\nGame Status: Complete\nHome Team: LongShots\nAway Team: Fixin to Bunt\
 nHome Score: 17\nAway Score: 7
END:VEVENT
BEGIN:VEVENT
UID:15525534@ezleagues.ezfacility.com
DTSTAMP:20260426T034852Z
CREATED:20260426T034852Z
DTSTART:20240118T031500Z
DTEND:20240118T041500Z
LOCATION:Field 3
CONTACT:
SUMMARY:Fixin to Bunt VS. Dry Heaves
DESCRIPTION:League Name: 2024 S1 Wed D Men's Jan 10, 2024\nGame Type: Regul
 ar\nGame Status: Complete\nHome Team: Fixin to Bunt\nAway Team: Dry Heaves
 \nHome Score: 7\nAway Score: 13
END:VEVENT
BEGIN:VEVENT
UID:15525535@ezleagues.ezfacility.com
DTSTAMP:20260426T034852Z
CREATED:20260426T034852Z
DTSTART:20240118T041500Z
DTEND:20240118T051500Z
LOCATION:Field 3
CONTACT:
SUMMARY:Dry Heaves VS. Fixin to Bunt
DESCRIPTION:League Name: 2024 S1 Wed D Men's Jan 10, 2024\nGame Type: Regul
 ar\nGame Status: Complete\nHome Team: Dry Heaves\nAway Team: Fixin to Bunt
 \nHome Score: 20\nAway Score: 11
END:VEVENT
BEGIN:VEVENT
UID:15525588@ezleagues.ezfacility.com
DTSTAMP:20260426T034852Z
CREATED:20260426T034852Z
DTSTART:20240201T031500Z
DTEND:20240201T041500Z
LOCATION:Field 4
CONTACT:
SUMMARY:Heavy Hitters VS. Fixin to Bunt
DESCRIPTION:League Name: 2024 S1 Wed D Men's Jan 10, 2024\nGame Type: Regul
 ar\nGame Status: Complete\nHome Team: Heavy Hitters\nAway Team: Fixin to B
 unt\nHome Score: 19\nAway Score: 11
END:VEVENT
BEGIN:VEVENT
UID:15525589@ezleagues.ezfacility.com
DTSTAMP:20260426T034852Z
CREATED:20260426T034852Z
DTSTART:20240201T041500Z
DTEND:20240201T051500Z
LOCATION:Field 4
CONTACT:
SUMMARY:Fixin to Bunt VS. Heavy Hitters
DESCRIPTION:League Name: 2024 S1 Wed D Men's Jan 10, 2024\nGame Type: Regul
 ar\nGame Status: Complete\nHome Team: Fixin to Bunt\nAway Team: Heavy Hitt
 ers\nHome Score: 19\nAway Score: 8
END:VEVENT
BEGIN:VEVENT
UID:15525634@ezleagues.ezfacility.com
DTSTAMP:20260426T034852Z
CREATED:20260426T034852Z
DTSTART:20240215T011500Z
DTEND:20240215T021500Z
LOCATION:Field 1
CONTACT:
SUMMARY:Screwballs VS. Fixin to Bunt
DESCRIPTION:League Name: 2024 S1 Wed D Men's Jan 10, 2024\nGame Type: Regul
 ar\nGame Status: Complete\nHome Team: Screwballs\nAway Team: Fixin to Bunt
 \nHome Score: 21\nAway Score: 19
END:VEVENT
BEGIN:VEVENT
UID:15525635@ezleagues.ezfacility.com
DTSTAMP:20260426T034852Z
CREATED:20260426T034852Z
DTSTART:20240215T021500Z
DTEND:20240215T031500Z
LOCATION:Field 1
CONTACT:
SUMMARY:Fixin to Bunt VS. Screwballs
DESCRIPTION:League Name: 2024 S1 Wed D Men's Jan 10, 2024\nGame Type: Regul
 ar\nGame Status: Complete\nHome Team: Fixin to Bunt\nAway Team: Screwballs
 \nHome Score: 22\nAway Score: 21
END:VEVENT
BEGIN:VEVENT
UID:15525656@ezleagues.ezfacility.com
DTSTAMP:20260426T034852Z
CREATED:20260426T034852Z
DTSTART:20240222T011500Z
DTEND:20240222T021500Z
LOCATION:Field 2
CONTACT:
SUMMARY:Fixin to Bunt VS. Daddy Hacks
DESCRIPTION:League Name: 2024 S1 Wed D Men's Jan 10, 2024\nGame Type: Regul
 ar\nGame Status: Complete\nHome Team: Fixin to Bunt\nAway Team: Daddy Hack
 s\nHome Score: 20\nAway Score: 19
END:VEVENT
BEGIN:VEVENT
UID:15525657@ezleagues.ezfacility.com
DTSTAMP:20260426T034852Z
CREATED:20260426T034852Z
DTSTART:20240222T021500Z
DTEND:20240222T031500Z
LOCATION:Field 2
CONTACT:
SUMMARY:Daddy Hacks VS. Fixin to Bunt
DESCRIPTION:League Name: 2024 S1 Wed D Men's Jan 10, 2024\nGame Type: Regul
 ar\nGame Status: Complete\nHome Team: Daddy Hacks\nAway Team: Fixin to Bun
 t\nHome Score: 17\nAway Score: 7
END:VEVENT
BEGIN:VEVENT
UID:15525564@ezleagues.ezfacility.com
DTSTAMP:20260426T034852Z
CREATED:20260426T034852Z
DTSTART:20240229T011500Z
DTEND:20240229T021500Z
LOCATION:Field 3
CONTACT:
SUMMARY:Fixin to Bunt VS. Heroes Dirtbags
DESCRIPTION:League Name: 2024 S1 Wed D Men's Jan 10, 2024\nGame Type: Regul
 ar\nGame Status: Complete\nHome Team: Fixin to Bunt\nAway Team: Heroes Dir
 tbags\nHome Score: 15\nAway Score: 17
END:VEVENT
BEGIN:VEVENT
UID:15525565@ezleagues.ezfacility.com
DTSTAMP:20260426T034852Z
CREATED:20260426T034852Z
DTSTART:20240229T021500Z
DTEND:20240229T031500Z
LOCATION:Field 3
CONTACT:
SUMMARY:Heroes Dirtbags VS. Fixin to Bunt
DESCRIPTION:League Name: 2024 S1 Wed D Men's Jan 10, 2024\nGame Type: Regul
 ar\nGame Status: Complete\nHome Team: Heroes Dirtbags\nAway Team: Fixin to
  Bunt\nHome Score: 14\nAway Score: 3
END:VEVENT
BEGIN:VEVENT
UID:15525610@ezleagues.ezfacility.com
DTSTAMP:20260426T034852Z
CREATED:20260426T034852Z
DTSTART:20240307T031500Z
DTEND:20240307T041500Z
LOCATION:Field 5
CONTACT:
SUMMARY:Smokey Bears VS. Fixin to Bunt
DESCRIPTION:League Name: 2024 S1 Wed D Men's Jan 10, 2024\nGame Type: Regul
 ar\nGame Status: Complete\nHome Team: Smokey Bears\nAway Team: Fixin to Bu
 nt\nHome Score: 11\nAway Score: 0
END:VEVENT
BEGIN:VEVENT
UID:15525611@ezleagues.ezfacility.com
DTSTAMP:20260426T034852Z
CREATED:20260426T034852Z
DTSTART:20240307T041500Z
DTEND:20240307T051500Z
LOCATION:Field 5
CONTACT:
SUMMARY:Fixin to Bunt VS. Smokey Bears
DESCRIPTION:League Name: 2024 S1 Wed D Men's Jan 10, 2024\nGame Type: Regul
 ar\nGame Status: Complete\nHome Team: Fixin to Bunt\nAway Team: Smokey Bea
 rs\nHome Score: 6\nAway Score: 23
END:VEVENT
BEGIN:VEVENT
UID:15649544@ezleagues.ezfacility.com
DTSTAMP:20260426T034852Z
CREATED:20260426T034852Z
DTSTART:20240314T011500Z
DTEND:20240314T021500Z
LOCATION:Field 3
CONTACT:
SUMMARY:Heavy Hitters VS. Fixin to Bunt
DESCRIPTION:League Name: 2024 S1 Wed D Men's Jan 10, 2024\nGame Type: Posts
 eason\nGame Status: Complete\nHome Team: Heavy Hitters\nAway Team: Fixin t
 o Bunt\nHome Score: 19\nAway Score: 20
END:VEVENT
BEGIN:VEVENT
UID:15649545@ezleagues.ezfacility.com
DTSTAMP:20260426T034852Z
CREATED:20260426T034852Z
DTSTART:20240314T021500Z
DTEND:20240314T031500Z
LOCATION:Field 3
CONTACT:
SUMMARY:Fixin to Bunt VS. Heavy Hitters
DESCRIPTION:League Name: 2024 S1 Wed D Men's Jan 10, 2024\nGame Type: Posts
 eason\nGame Status: Complete\nHome Team: Fixin to Bunt\nAway Team: Heavy H
 itters\nHome Score: 11\nAway Score: 23
END:VEVENT
END:VCALENDAR
