BEGIN:VCALENDAR
VERSION:2.0
PRODID:-//EZFacility.com, Inc.//EZL 2.5.5.28621
BEGIN:VEVENT
UID:15531504@ezleagues.ezfacility.com
DTSTAMP:20260422T182113Z
CREATED:20260422T182113Z
DTSTART:20240114T172000Z
DTEND:20240114T181200Z
LOCATION:Field   ID 3
CONTACT:
SUMMARY:Uncle Rich's Crew SC VS. DSX Green
DESCRIPTION:League Name: Winter Indoor 2024 Boy's U12 North (Sundays) \nGam
 e Type: Regular\nGame Status: Complete\nHome Team: Uncle Rich's Crew SC\nA
 way Team: DSX Green\nHome Score: 2\nAway Score: 7
END:VEVENT
BEGIN:VEVENT
UID:15531508@ezleagues.ezfacility.com
DTSTAMP:20260422T182113Z
CREATED:20260422T182113Z
DTSTART:20240121T172000Z
DTEND:20240121T181200Z
LOCATION:Field   ID 2
CONTACT:
SUMMARY:DSX Green VS. Olimpia U12 Boys
DESCRIPTION:League Name: Winter Indoor 2024 Boy's U12 North (Sundays) \nGam
 e Type: Regular\nGame Status: Complete\nHome Team: DSX Green\nAway Team: O
 limpia U12 Boys\nHome Score: 6\nAway Score: 0
END:VEVENT
BEGIN:VEVENT
UID:15531518@ezleagues.ezfacility.com
DTSTAMP:20260422T182113Z
CREATED:20260422T182113Z
DTSTART:20240128T172000Z
DTEND:20240128T181200Z
LOCATION:Field   ID 3
CONTACT:
SUMMARY:CO Green VS. DSX Green
DESCRIPTION:League Name: Winter Indoor 2024 Boy's U12 North (Sundays) \nGam
 e Type: Regular\nGame Status: Complete\nHome Team: CO Green\nAway Team: DS
 X Green\nHome Score: 5\nAway Score: 4
END:VEVENT
BEGIN:VEVENT
UID:15531524@ezleagues.ezfacility.com
DTSTAMP:20260422T182113Z
CREATED:20260422T182113Z
DTSTART:20240204T181200Z
DTEND:20240204T190400Z
LOCATION:Field   ID 1
CONTACT:
SUMMARY:Dynamite FC VS. DSX Green
DESCRIPTION:League Name: Winter Indoor 2024 Boy's U12 North (Sundays) \nGam
 e Type: Regular\nGame Status: Complete\nHome Team: Dynamite FC\nAway Team:
  DSX Green\nHome Score: 14\nAway Score: 3
END:VEVENT
BEGIN:VEVENT
UID:15531530@ezleagues.ezfacility.com
DTSTAMP:20260422T182113Z
CREATED:20260422T182113Z
DTSTART:20240211T181200Z
DTEND:20240211T190400Z
LOCATION:Field   ID 1
CONTACT:
SUMMARY:Cruisers VS. DSX Green
DESCRIPTION:League Name: Winter Indoor 2024 Boy's U12 North (Sundays) \nGam
 e Type: Regular\nGame Status: Complete\nHome Team: Cruisers\nAway Team: DS
 X Green\nHome Score: 5\nAway Score: 5
END:VEVENT
BEGIN:VEVENT
UID:15531537@ezleagues.ezfacility.com
DTSTAMP:20260422T182113Z
CREATED:20260422T182113Z
DTSTART:20240218T181200Z
DTEND:20240218T190400Z
LOCATION:Field   ID 3
CONTACT:
SUMMARY:DSX Green VS. Cruisers 2
DESCRIPTION:League Name: Winter Indoor 2024 Boy's U12 North (Sundays) \nGam
 e Type: Regular\nGame Status: Complete\nHome Team: DSX Green\nAway Team: C
 ruisers 2\nHome Score: 5\nAway Score: 3
END:VEVENT
BEGIN:VEVENT
UID:15531545@ezleagues.ezfacility.com
DTSTAMP:20260422T182113Z
CREATED:20260422T182113Z
DTSTART:20240225T172000Z
DTEND:20240225T181200Z
LOCATION:Field   ID 2
CONTACT:
SUMMARY:DSX Green VS. Hilliard Orange Crew
DESCRIPTION:League Name: Winter Indoor 2024 Boy's U12 North (Sundays) \nGam
 e Type: Regular\nGame Status: Complete\nHome Team: DSX Green\nAway Team: H
 illiard Orange Crew\nHome Score: 1\nAway Score: 3
END:VEVENT
BEGIN:VEVENT
UID:15531553@ezleagues.ezfacility.com
DTSTAMP:20260422T182113Z
CREATED:20260422T182113Z
DTSTART:20240303T181200Z
DTEND:20240303T190400Z
LOCATION:Field   ID 3
CONTACT:
SUMMARY:DSX Green VS. Uncle Rich's Crew SC
DESCRIPTION:League Name: Winter Indoor 2024 Boy's U12 North (Sundays) \nGam
 e Type: Regular\nGame Status: Complete\nHome Team: DSX Green\nAway Team: U
 ncle Rich's Crew SC\nHome Score: 6\nAway Score: 8
END:VEVENT
BEGIN:VEVENT
UID:15531557@ezleagues.ezfacility.com
DTSTAMP:20260422T182113Z
CREATED:20260422T182113Z
DTSTART:20240310T152800Z
DTEND:20240310T162000Z
LOCATION:Field   ID 2
CONTACT:
SUMMARY:Olimpia U12 Boys VS. DSX Green
DESCRIPTION:League Name: Winter Indoor 2024 Boy's U12 North (Sundays) \nGam
 e Type: Regular\nGame Status: Complete\nHome Team: Olimpia U12 Boys\nAway 
 Team: DSX Green\nHome Score: 9\nAway Score: 5
END:VEVENT
END:VCALENDAR
