BEGIN:VCALENDAR
VERSION:2.0
PRODID:-//EZFacility.com, Inc.//EZL 2.5.5.28621
BEGIN:VEVENT
UID:15531510@ezleagues.ezfacility.com
DTSTAMP:20260422T004813Z
CREATED:20260422T004813Z
DTSTART:20240121T181200Z
DTEND:20240121T190400Z
LOCATION:Field   ID 1
CONTACT:
SUMMARY:Dynamite FC VS. CO Green
DESCRIPTION:League Name: Winter Indoor 2024 Boy's U12 North (Sundays) \nGam
 e Type: Regular\nGame Status: Complete\nHome Team: Dynamite FC\nAway Team:
  CO Green\nHome Score: 7\nAway Score: 4
END:VEVENT
BEGIN:VEVENT
UID:15531516@ezleagues.ezfacility.com
DTSTAMP:20260422T004813Z
CREATED:20260422T004813Z
DTSTART:20240128T172000Z
DTEND:20240128T181200Z
LOCATION:Field   ID 2
CONTACT:
SUMMARY:Cruisers VS. Dynamite FC
DESCRIPTION:League Name: Winter Indoor 2024 Boy's U12 North (Sundays) \nGam
 e Type: Regular\nGame Status: Complete\nHome Team: Cruisers\nAway Team: Dy
 namite FC\nHome Score: 5\nAway Score: 1
END:VEVENT
BEGIN:VEVENT
UID:15531524@ezleagues.ezfacility.com
DTSTAMP:20260422T004813Z
CREATED:20260422T004813Z
DTSTART:20240204T181200Z
DTEND:20240204T190400Z
LOCATION:Field   ID 1
CONTACT:
SUMMARY:Dynamite FC VS. DSX Green
DESCRIPTION:League Name: Winter Indoor 2024 Boy's U12 North (Sundays) \nGam
 e Type: Regular\nGame Status: Complete\nHome Team: Dynamite FC\nAway Team:
  DSX Green\nHome Score: 14\nAway Score: 3
END:VEVENT
BEGIN:VEVENT
UID:15531531@ezleagues.ezfacility.com
DTSTAMP:20260422T004813Z
CREATED:20260422T004813Z
DTSTART:20240211T172000Z
DTEND:20240211T181200Z
LOCATION:Field   ID 3
CONTACT:
SUMMARY:Dynamite FC VS. Cruisers 2
DESCRIPTION:League Name: Winter Indoor 2024 Boy's U12 North (Sundays) \nGam
 e Type: Regular\nGame Status: Complete\nHome Team: Dynamite FC\nAway Team:
  Cruisers 2\nHome Score: 8\nAway Score: 2
END:VEVENT
BEGIN:VEVENT
UID:15531539@ezleagues.ezfacility.com
DTSTAMP:20260422T004813Z
CREATED:20260422T004813Z
DTSTART:20240218T181200Z
DTEND:20240218T190400Z
LOCATION:Field   ID 2
CONTACT:
SUMMARY:Dynamite FC VS. Hilliard Orange Crew
DESCRIPTION:League Name: Winter Indoor 2024 Boy's U12 North (Sundays) \nGam
 e Type: Regular\nGame Status: Complete\nHome Team: Dynamite FC\nAway Team:
  Hilliard Orange Crew\nHome Score: 7\nAway Score: 3
END:VEVENT
BEGIN:VEVENT
UID:15531546@ezleagues.ezfacility.com
DTSTAMP:20260422T004813Z
CREATED:20260422T004813Z
DTSTART:20240225T181200Z
DTEND:20240225T190400Z
LOCATION:Field   ID 2
CONTACT:
SUMMARY:Uncle Rich's Crew SC VS. Dynamite FC
DESCRIPTION:League Name: Winter Indoor 2024 Boy's U12 North (Sundays) \nGam
 e Type: Regular\nGame Status: Complete\nHome Team: Uncle Rich's Crew SC\nA
 way Team: Dynamite FC\nHome Score: 8\nAway Score: 2
END:VEVENT
BEGIN:VEVENT
UID:15531550@ezleagues.ezfacility.com
DTSTAMP:20260422T004813Z
CREATED:20260422T004813Z
DTSTART:20240303T172000Z
DTEND:20240303T181200Z
LOCATION:Field   ID 2
CONTACT:
SUMMARY:Olimpia U12 Boys VS. Dynamite FC
DESCRIPTION:League Name: Winter Indoor 2024 Boy's U12 North (Sundays) \nGam
 e Type: Regular\nGame Status: Complete\nHome Team: Olimpia U12 Boys\nAway 
 Team: Dynamite FC\nHome Score: 1\nAway Score: 10
END:VEVENT
BEGIN:VEVENT
UID:15531559@ezleagues.ezfacility.com
DTSTAMP:20260422T004813Z
CREATED:20260422T004813Z
DTSTART:20240310T152800Z
DTEND:20240310T162000Z
LOCATION:Field   ID 1
CONTACT:
SUMMARY:CO Green VS. Dynamite FC
DESCRIPTION:League Name: Winter Indoor 2024 Boy's U12 North (Sundays) \nGam
 e Type: Regular\nGame Status: Pending\nHome Team: CO Green\nAway Team: Dyn
 amite FC\n
END:VEVENT
BEGIN:VEVENT
UID:15553527@ezleagues.ezfacility.com
DTSTAMP:20260422T004813Z
CREATED:20260422T004813Z
DTSTART:20240317T180400Z
DTEND:20240317T185600Z
LOCATION:Field   ID 3
CONTACT:
SUMMARY:Olimpia U12 Boys VS. Dynamite FC
DESCRIPTION:League Name: Winter Indoor 2024 Boy's U12 North (Sundays) \nGam
 e Type: Regular\nGame Status: Complete\nHome Team: Olimpia U12 Boys\nAway 
 Team: Dynamite FC\nHome Score: 0\nAway Score: 3
END:VEVENT
END:VCALENDAR
