BEGIN:VCALENDAR
VERSION:2.0
PRODID:-//EZFacility.com, Inc.//EZL 2.5.5.28621
BEGIN:VEVENT
UID:15541602@ezleagues.ezfacility.com
DTSTAMP:20260424T043917Z
CREATED:20260424T043917Z
DTSTART:20240117T020000Z
DTEND:20240117T030000Z
LOCATION:Arena
CONTACT:
SUMMARY:Gallos Negros VS. Los Plebes
DESCRIPTION:League Name: Men's B Arena Soccer - Winter/Spring 2024 (COPY)\n
 Game Type: Regular\nGame Status: Complete\nHome Team: Gallos Negros\nAway 
 Team: Los Plebes\nHome Score: 2\nAway Score: 7
END:VEVENT
BEGIN:VEVENT
UID:15541606@ezleagues.ezfacility.com
DTSTAMP:20260424T043917Z
CREATED:20260424T043917Z
DTSTART:20240125T040000Z
DTEND:20240125T050000Z
LOCATION:Arena
CONTACT:
SUMMARY:Deportivo Ingles VS. Los Plebes
DESCRIPTION:League Name: Men's B Arena Soccer - Winter/Spring 2024 (COPY)\n
 Game Type: Regular\nGame Status: Complete\nHome Team: Deportivo Ingles\nAw
 ay Team: Los Plebes\nHome Score: 9\nAway Score: 1
END:VEVENT
BEGIN:VEVENT
UID:15541620@ezleagues.ezfacility.com
DTSTAMP:20260424T043917Z
CREATED:20260424T043917Z
DTSTART:20240127T040000Z
DTEND:20240127T050000Z
LOCATION:Arena
CONTACT:
SUMMARY:Tequileros FC VS. Los Plebes
DESCRIPTION:League Name: Men's B Arena Soccer - Winter/Spring 2024 (COPY)\n
 Game Type: Regular\nGame Status: Complete\nHome Team: Tequileros FC\nAway 
 Team: Los Plebes\nHome Score: 4\nAway Score: 1
END:VEVENT
BEGIN:VEVENT
UID:15541638@ezleagues.ezfacility.com
DTSTAMP:20260424T043917Z
CREATED:20260424T043917Z
DTSTART:20240214T020000Z
DTEND:20240214T030000Z
LOCATION:Arena
CONTACT:
SUMMARY:Los Plebes VS. River Soloma
DESCRIPTION:League Name: Men's B Arena Soccer - Winter/Spring 2024 (COPY)\n
 Game Type: Regular\nGame Status: Complete\nHome Team: Los Plebes\nAway Tea
 m: River Soloma\nHome Score: 8\nAway Score: 1
END:VEVENT
BEGIN:VEVENT
UID:15544445@ezleagues.ezfacility.com
DTSTAMP:20260424T043917Z
CREATED:20260424T043917Z
DTSTART:20240222T050000Z
DTEND:20240222T060000Z
LOCATION:Arena
CONTACT:
SUMMARY:Regulators VS. Los Plebes
DESCRIPTION:League Name: Men's B Arena Soccer - Winter/Spring 2024 (COPY)\n
 Game Type: Regular\nGame Status: Complete\nHome Team: Regulators\nAway Tea
 m: Los Plebes\nHome Score: 4\nAway Score: 11
END:VEVENT
BEGIN:VEVENT
UID:15541676@ezleagues.ezfacility.com
DTSTAMP:20260424T043917Z
CREATED:20260424T043917Z
DTSTART:20240228T020000Z
DTEND:20240228T030000Z
LOCATION:Arena
CONTACT:
SUMMARY:Los Plebes VS. La Maquina
DESCRIPTION:League Name: Men's B Arena Soccer - Winter/Spring 2024 (COPY)\n
 Game Type: Regular\nGame Status: Complete\nHome Team: Los Plebes\nAway Tea
 m: La Maquina\nHome Score: 3\nAway Score: 4
END:VEVENT
BEGIN:VEVENT
UID:15541658@ezleagues.ezfacility.com
DTSTAMP:20260424T043917Z
CREATED:20260424T043917Z
DTSTART:20240302T040000Z
DTEND:20240302T050000Z
LOCATION:Arena
CONTACT:
SUMMARY:Los Plebes VS. Sucias F.C.
DESCRIPTION:League Name: Men's B Arena Soccer - Winter/Spring 2024 (COPY)\n
 Game Type: Regular\nGame Status: Complete\nHome Team: Los Plebes\nAway Tea
 m: Sucias F.C.\nHome Score: 2\nAway Score: 6
END:VEVENT
BEGIN:VEVENT
UID:15541661@ezleagues.ezfacility.com
DTSTAMP:20260424T043917Z
CREATED:20260424T043917Z
DTSTART:20240309T040000Z
DTEND:20240309T050000Z
LOCATION:Arena
CONTACT:
SUMMARY:Los Plebes VS. Liverbrook
DESCRIPTION:League Name: Men's B Arena Soccer - Winter/Spring 2024 (COPY)\n
 Game Type: Regular\nGame Status: Complete\nHome Team: Los Plebes\nAway Tea
 m: Liverbrook\nHome Score: 6\nAway Score: 7
END:VEVENT
BEGIN:VEVENT
UID:15541626@ezleagues.ezfacility.com
DTSTAMP:20260424T043917Z
CREATED:20260424T043917Z
DTSTART:20240321T010000Z
DTEND:20240321T020000Z
LOCATION:Arena
CONTACT:
SUMMARY:B-B-C F.C. VS. Los Plebes
DESCRIPTION:League Name: Men's B Arena Soccer - Winter/Spring 2024 (COPY)\n
 Game Type: Regular\nGame Status: Complete\nHome Team: B-B-C F.C.\nAway Tea
 m: Los Plebes\nHome Score: 5\nAway Score: 4
END:VEVENT
BEGIN:VEVENT
UID:15541682@ezleagues.ezfacility.com
DTSTAMP:20260424T043917Z
CREATED:20260424T043917Z
DTSTART:20240330T040000Z
DTEND:20240330T050000Z
LOCATION:Arena
CONTACT:
SUMMARY:Los Plebes VS. Deportivo La Sierra
DESCRIPTION:League Name: Men's B Arena Soccer - Winter/Spring 2024 (COPY)\n
 Game Type: Regular\nGame Status: Complete\nHome Team: Los Plebes\nAway Tea
 m: Deportivo La Sierra\nHome Score: 1\nAway Score: 0
END:VEVENT
BEGIN:VEVENT
UID:15662168@ezleagues.ezfacility.com
DTSTAMP:20260424T043917Z
CREATED:20260424T043917Z
DTSTART:20240406T040000Z
DTEND:20240406T050000Z
LOCATION:Arena
CONTACT:
SUMMARY:Los Plebes VS. Real Soloma FC
DESCRIPTION:League Name: Men's B Arena Soccer - Winter/Spring 2024 (COPY)\n
 Game Type: Postseason\nGame Status: Complete\nHome Team: Los Plebes\nAway 
 Team: Real Soloma FC\nHome Score: 2\nAway Score: 6
END:VEVENT
END:VCALENDAR
