BEGIN:VCALENDAR
VERSION:2.0
PRODID:-//EZFacility.com, Inc.//EZL 2.5.5.28621
BEGIN:VEVENT
UID:15548047@ezleagues.ezfacility.com
DTSTAMP:20260424T044327Z
CREATED:20260424T044327Z
DTSTART:20240125T010000Z
DTEND:20240125T020000Z
LOCATION:Field 1
CONTACT:Jones
SUMMARY:PHOnominal VS. Inter FC
DESCRIPTION:League Name: Wednesday, January 17, 2024 Co-Ed -D1\nGame Type: 
 Regular\nGame Status: Complete\nHome Team: PHOnominal\nAway Team: Inter FC
 \nHome Score: 14\nAway Score: 3
END:VEVENT
BEGIN:VEVENT
UID:15548098@ezleagues.ezfacility.com
DTSTAMP:20260424T044327Z
CREATED:20260424T044327Z
DTSTART:20240201T020000Z
DTEND:20240201T030000Z
LOCATION:VA Army National Guard Field 2
CONTACT:Jones
SUMMARY:Inter FC VS. Supershooters
DESCRIPTION:League Name: Wednesday, January 17, 2024 Co-Ed -D1\nGame Type: 
 Regular\nGame Status: Complete\nHome Team: Inter FC\nAway Team: Supershoot
 ers\nHome Score: 7\nAway Score: 6
END:VEVENT
BEGIN:VEVENT
UID:15548100@ezleagues.ezfacility.com
DTSTAMP:20260424T044327Z
CREATED:20260424T044327Z
DTSTART:20240208T020000Z
DTEND:20240208T030000Z
LOCATION:Field 1
CONTACT:Canales
SUMMARY:La Banda VS. Inter FC
DESCRIPTION:League Name: Wednesday, January 17, 2024 Co-Ed -D1\nGame Type: 
 Regular\nGame Status: Complete\nHome Team: La Banda\nAway Team: Inter FC\n
 Home Score: 8\nAway Score: 7
END:VEVENT
BEGIN:VEVENT
UID:15548105@ezleagues.ezfacility.com
DTSTAMP:20260424T044327Z
CREATED:20260424T044327Z
DTSTART:20240215T030000Z
DTEND:20240215T040000Z
LOCATION: Field 3
CONTACT:Munoz
SUMMARY:Inter FC VS. Dominion fc
DESCRIPTION:League Name: Wednesday, January 17, 2024 Co-Ed -D1\nGame Type: 
 Regular\nGame Status: Complete\nHome Team: Inter FC\nAway Team: Dominion f
 c\nHome Score: 15\nAway Score: 7
END:VEVENT
BEGIN:VEVENT
UID:15548378@ezleagues.ezfacility.com
DTSTAMP:20260424T044327Z
CREATED:20260424T044327Z
DTSTART:20240222T020000Z
DTEND:20240222T030000Z
LOCATION:VA Army National Guard Field 2
CONTACT:Canales
SUMMARY:Inter FC VS. Baby Sharks
DESCRIPTION:League Name: Wednesday, January 17, 2024 Co-Ed -D1\nGame Type: 
 Regular\nGame Status: Complete\nHome Team: Inter FC\nAway Team: Baby Shark
 s\nHome Score: 17\nAway Score: 8
END:VEVENT
BEGIN:VEVENT
UID:15548269@ezleagues.ezfacility.com
DTSTAMP:20260424T044327Z
CREATED:20260424T044327Z
DTSTART:20240222T030000Z
DTEND:20240222T040000Z
LOCATION: Field 3
CONTACT:Canales
SUMMARY:Inter FC VS. PHOnominal
DESCRIPTION:League Name: Wednesday, January 17, 2024 Co-Ed -D1\nGame Type: 
 Regular\nGame Status: Complete\nHome Team: Inter FC\nAway Team: PHOnominal
 \nHome Score: 9\nAway Score: 6
END:VEVENT
BEGIN:VEVENT
UID:15569997@ezleagues.ezfacility.com
DTSTAMP:20260424T044327Z
CREATED:20260424T044327Z
DTSTART:20240307T010000Z
DTEND:20240307T020000Z
LOCATION:VA Army National Guard Field 2
CONTACT:Munoz
SUMMARY:Inter FC VS. Dominion fc
DESCRIPTION:League Name: Wednesday, January 17, 2024 Co-Ed -D1\nGame Type: 
 Postseason\nGame Status: Complete\nHome Team: Inter FC\nAway Team: Dominio
 n fc\nHome Score: 9\nAway Score: 8
END:VEVENT
BEGIN:VEVENT
UID:15569996@ezleagues.ezfacility.com
DTSTAMP:20260424T044327Z
CREATED:20260424T044327Z
DTSTART:20240307T030000Z
DTEND:20240307T040000Z
LOCATION:VA Army National Guard Field 2
CONTACT:Munoz
SUMMARY:La Banda VS. Inter FC
DESCRIPTION:League Name: Wednesday, January 17, 2024 Co-Ed -D1\nGame Type: 
 Postseason\nGame Status: Complete\nHome Team: La Banda\nAway Team: Inter F
 C\nHome Score: 11\nAway Score: 5
END:VEVENT
END:VCALENDAR
