BEGIN:VCALENDAR
VERSION:2.0
PRODID:-//EZFacility.com, Inc.//EZL 2.5.5.28621
BEGIN:VEVENT
UID:15551151@ezleagues.ezfacility.com
DTSTAMP:20260426T035054Z
CREATED:20260426T035054Z
DTSTART:20240121T000000Z
DTEND:20240121T005000Z
LOCATION:Harmans Premier Field #4
CONTACT:
SUMMARY:Los Lobos (Walther) VS. Club Deportivo 
DESCRIPTION:League Name: Sat Mens Open 2nd I div \nGame Type: Regular\nGame
  Status: Complete\nHome Team: Los Lobos (Walther)\nAway Team: Club Deporti
 vo \nHome Score: 1\nAway Score: 11
END:VEVENT
BEGIN:VEVENT
UID:15551163@ezleagues.ezfacility.com
DTSTAMP:20260426T035054Z
CREATED:20260426T035054Z
DTSTART:20240128T023000Z
DTEND:20240128T032000Z
LOCATION:Harmans Premier Field #5
CONTACT:
SUMMARY:Club Deportivo  VS. Los Primos
DESCRIPTION:League Name: Sat Mens Open 2nd I div \nGame Type: Regular\nGame
  Status: Complete\nHome Team: Club Deportivo \nAway Team: Los Primos\nHome
  Score: 4\nAway Score: 4
END:VEVENT
BEGIN:VEVENT
UID:15551177@ezleagues.ezfacility.com
DTSTAMP:20260426T035054Z
CREATED:20260426T035054Z
DTSTART:20240204T005000Z
DTEND:20240204T014000Z
LOCATION:Harmans Premier Field #5
CONTACT:
SUMMARY:Club Deportivo  VS. Titanes
DESCRIPTION:League Name: Sat Mens Open 2nd I div \nGame Type: Regular\nGame
  Status: Complete\nHome Team: Club Deportivo \nAway Team: Titanes\nHome Sc
 ore: 5\nAway Score: 4
END:VEVENT
BEGIN:VEVENT
UID:15551191@ezleagues.ezfacility.com
DTSTAMP:20260426T035054Z
CREATED:20260426T035054Z
DTSTART:20240211T041000Z
DTEND:20240211T050000Z
LOCATION:Harmans Premier Field #5
CONTACT:
SUMMARY:Club Deportivo  VS. FC All Stars
DESCRIPTION:League Name: Sat Mens Open 2nd I div \nGame Type: Regular\nGame
  Status: Complete\nHome Team: Club Deportivo \nAway Team: FC All Stars\nHo
 me Score: 3\nAway Score: 6
END:VEVENT
BEGIN:VEVENT
UID:15551205@ezleagues.ezfacility.com
DTSTAMP:20260426T035054Z
CREATED:20260426T035054Z
DTSTART:20240218T000000Z
DTEND:20240218T005000Z
LOCATION:Harmans Premier Field #5
CONTACT:
SUMMARY:Club Deportivo  VS. Los Angeles
DESCRIPTION:League Name: Sat Mens Open 2nd I div \nGame Type: Regular\nGame
  Status: Complete\nHome Team: Club Deportivo \nAway Team: Los Angeles\nHom
 e Score: 6\nAway Score: 8
END:VEVENT
BEGIN:VEVENT
UID:15551218@ezleagues.ezfacility.com
DTSTAMP:20260426T035054Z
CREATED:20260426T035054Z
DTSTART:20240225T032000Z
DTEND:20240225T041000Z
LOCATION:Harmans Premier Field #4
CONTACT:
SUMMARY:FAS VS. Club Deportivo 
DESCRIPTION:League Name: Sat Mens Open 2nd I div \nGame Type: Regular\nGame
  Status: Complete\nHome Team: FAS\nAway Team: Club Deportivo \nHome Score:
  1\nAway Score: 3
END:VEVENT
BEGIN:VEVENT
UID:15551230@ezleagues.ezfacility.com
DTSTAMP:20260426T035054Z
CREATED:20260426T035054Z
DTSTART:20240303T014000Z
DTEND:20240303T023000Z
LOCATION:Harmans Premier Field #4
CONTACT:
SUMMARY:Machetes Futbol Club VS. Club Deportivo 
DESCRIPTION:League Name: Sat Mens Open 2nd I div \nGame Type: Regular\nGame
  Status: Complete\nHome Team: Machetes Futbol Club\nAway Team: Club Deport
 ivo \nHome Score: 7\nAway Score: 4
END:VEVENT
BEGIN:VEVENT
UID:15646463@ezleagues.ezfacility.com
DTSTAMP:20260426T035054Z
CREATED:20260426T035054Z
DTSTART:20240310T005000Z
DTEND:20240310T015000Z
LOCATION:Harmans Premier Field #5
CONTACT:
SUMMARY:Club Deportivo  VS. Los Lobos (Walther)
DESCRIPTION:League Name: Sat Mens Open 2nd I div \nGame Type: Regular\nGame
  Status: Complete\nHome Team: Club Deportivo \nAway Team: Los Lobos (Walth
 er)\nHome Score: 0\nAway Score: 3
END:VEVENT
BEGIN:VEVENT
UID:15655905@ezleagues.ezfacility.com
DTSTAMP:20260426T035054Z
CREATED:20260426T035054Z
DTSTART:20240316T220000Z
DTEND:20240316T230000Z
LOCATION:Harmans Premier Field #4
CONTACT:
SUMMARY:Club Deportivo  VS. Los Primos
DESCRIPTION:League Name: Sat Mens Open 2nd I div \nGame Type: Regular\nGame
  Status: Complete\nHome Team: Club Deportivo \nAway Team: Los Primos\nHome
  Score: 3\nAway Score: 0
END:VEVENT
END:VCALENDAR
