BEGIN:VCALENDAR
VERSION:2.0
PRODID:-//EZFacility.com, Inc.//EZL 2.5.5.28621
BEGIN:VEVENT
UID:15556899@ezleagues.ezfacility.com
DTSTAMP:20260424T013155Z
CREATED:20260424T013155Z
DTSTART:20240213T031500Z
DTEND:20240213T040000Z
LOCATION:volleyball crt 1
CONTACT:
SUMMARY:Xleats and Alli VS. Consentual Sets
DESCRIPTION:League Name: 2023-24-Intramural Volleyball - Rec division, Mixe
 d\nGame Type: Regular\nGame Status: Complete\nHome Team: Xleats and Alli\n
 Away Team: Consentual Sets\nHome Score: 43\nAway Score: 36
END:VEVENT
BEGIN:VEVENT
UID:15556883@ezleagues.ezfacility.com
DTSTAMP:20260424T013155Z
CREATED:20260424T013155Z
DTSTART:20240215T023000Z
DTEND:20240215T031500Z
LOCATION:volleyball crt 1
CONTACT:
SUMMARY:Xleats and Alli VS. Safe Sets
DESCRIPTION:League Name: 2023-24-Intramural Volleyball - Rec division, Mixe
 d\nGame Type: Regular\nGame Status: Complete\nHome Team: Xleats and Alli\n
 Away Team: Safe Sets\nHome Score: 38\nAway Score: 44
END:VEVENT
BEGIN:VEVENT
UID:15556875@ezleagues.ezfacility.com
DTSTAMP:20260424T013155Z
CREATED:20260424T013155Z
DTSTART:20240227T014500Z
DTEND:20240227T023000Z
LOCATION:volleyball crt 1
CONTACT:
SUMMARY:Spiked Punch VS. Xleats and Alli
DESCRIPTION:League Name: 2023-24-Intramural Volleyball - Rec division, Mixe
 d\nGame Type: Regular\nGame Status: Complete\nHome Team: Spiked Punch\nAwa
 y Team: Xleats and Alli\nHome Score: 36\nAway Score: 50
END:VEVENT
BEGIN:VEVENT
UID:15556891@ezleagues.ezfacility.com
DTSTAMP:20260424T013155Z
CREATED:20260424T013155Z
DTSTART:20240229T023000Z
DTEND:20240229T031500Z
LOCATION:volleyball crt 2
CONTACT:
SUMMARY:I’d Hit That VS. Xleats and Alli
DESCRIPTION:League Name: 2023-24-Intramural Volleyball - Rec division, Mixe
 d\nGame Type: Regular\nGame Status: Complete\nHome Team: I’d Hit That\nA
 way Team: Xleats and Alli\nHome Score: 50\nAway Score: 38
END:VEVENT
END:VCALENDAR
